BEGIN:VCALENDAR
VERSION:2.0
PRODID:-//Andrew Carnegie Free Library &amp; Music Hall - ECPv6.15.20//NONSGML v1.0//EN
CALSCALE:GREGORIAN
METHOD:PUBLISH
X-ORIGINAL-URL:https://carnegiecarnegie.org
X-WR-CALDESC:Events for Andrew Carnegie Free Library &amp; Music Hall
REFRESH-INTERVAL;VALUE=DURATION:PT1H
X-Robots-Tag:noindex
X-PUBLISHED-TTL:PT1H
BEGIN:VTIMEZONE
TZID:America/New_York
BEGIN:DAYLIGHT
TZOFFSETFROM:-0500
TZOFFSETTO:-0400
TZNAME:EDT
DTSTART:20200308T070000
END:DAYLIGHT
BEGIN:STANDARD
TZOFFSETFROM:-0400
TZOFFSETTO:-0500
TZNAME:EST
DTSTART:20201101T060000
END:STANDARD
BEGIN:DAYLIGHT
TZOFFSETFROM:-0500
TZOFFSETTO:-0400
TZNAME:EDT
DTSTART:20210314T070000
END:DAYLIGHT
BEGIN:STANDARD
TZOFFSETFROM:-0400
TZOFFSETTO:-0500
TZNAME:EST
DTSTART:20211107T060000
END:STANDARD
BEGIN:DAYLIGHT
TZOFFSETFROM:-0500
TZOFFSETTO:-0400
TZNAME:EDT
DTSTART:20220313T070000
END:DAYLIGHT
BEGIN:STANDARD
TZOFFSETFROM:-0400
TZOFFSETTO:-0500
TZNAME:EST
DTSTART:20221106T060000
END:STANDARD
END:VTIMEZONE
BEGIN:VEVENT
DTSTART;VALUE=DATE:20210524
DTEND;VALUE=DATE:20210810
DTSTAMP:20260421T110848
CREATED:20210524T224053Z
LAST-MODIFIED:20210928T164232Z
UID:10000407-1621814400-1628553599@carnegiecarnegie.org
SUMMARY:The Collective Summer Project Series
DESCRIPTION:The Collective is an intimate process-based theater academy teaching the foundations of acting through song\, character development\, and text. Each month this summer\, The Collective will host one unique 2-week intensive focusing on the process of Performance\, Development\, and Showcasing \n  \nJune / The Performance Project (ages 14-18) – June 14th through June 25th – FILLED \n  \nJuly / The Development Project (ages 10-13) – July 12th through July 23rd – REGISTER NOW\nA two week course focusing on the fundamental tools of acting ending with a performance! Our student’s will dive into the world of the show while using their imagination to build dynamic characters – all while having fun. \n  \nAugust / The Showcase Project (ages 14-18) – Audition date in June – REGISTRATION OPENING SOON \n  \nSchedule a consultation now to learn more!
URL:https://carnegiecarnegie.org/event/the-collective-summer-project-series/
LOCATION:Andrew Carnegie Free Library & Music Hall\, 300 Beechwood Avenue\, Carnegie\, PA\, 15106\, United States
CATEGORIES:2021,Past Event
ATTACH;FMTTYPE=image/png:https://carnegiecarnegie.org/wp-content/uploads/2021/05/MetaSlider-Web-Event-3.png
ORGANIZER;CN="The Collective":MAILTO:info@wearethecollectivepgh.com
END:VEVENT
END:VCALENDAR