BEGIN:VCALENDAR
VERSION:2.0
PRODID:-//Andrew Carnegie Free Library &amp; Music Hall - ECPv6.15.20//NONSGML v1.0//EN
CALSCALE:GREGORIAN
METHOD:PUBLISH
X-ORIGINAL-URL:https://carnegiecarnegie.org
X-WR-CALDESC:Events for Andrew Carnegie Free Library &amp; Music Hall
REFRESH-INTERVAL;VALUE=DURATION:PT1H
X-Robots-Tag:noindex
X-PUBLISHED-TTL:PT1H
BEGIN:VTIMEZONE
TZID:America/New_York
BEGIN:DAYLIGHT
TZOFFSETFROM:-0500
TZOFFSETTO:-0400
TZNAME:EDT
DTSTART:20200308T070000
END:DAYLIGHT
BEGIN:STANDARD
TZOFFSETFROM:-0400
TZOFFSETTO:-0500
TZNAME:EST
DTSTART:20201101T060000
END:STANDARD
BEGIN:DAYLIGHT
TZOFFSETFROM:-0500
TZOFFSETTO:-0400
TZNAME:EDT
DTSTART:20210314T070000
END:DAYLIGHT
BEGIN:STANDARD
TZOFFSETFROM:-0400
TZOFFSETTO:-0500
TZNAME:EST
DTSTART:20211107T060000
END:STANDARD
BEGIN:DAYLIGHT
TZOFFSETFROM:-0500
TZOFFSETTO:-0400
TZNAME:EDT
DTSTART:20220313T070000
END:DAYLIGHT
BEGIN:STANDARD
TZOFFSETFROM:-0400
TZOFFSETTO:-0500
TZNAME:EST
DTSTART:20221106T060000
END:STANDARD
END:VTIMEZONE
BEGIN:VEVENT
DTSTART;TZID=America/New_York:20210613T170000
DTEND;TZID=America/New_York:20210613T170000
DTSTAMP:20260421T154454
CREATED:20210610T210333Z
LAST-MODIFIED:20210928T163857Z
UID:10000157-1623603600-1623603600@carnegiecarnegie.org
SUMMARY:Drag Academy Pride Show
DESCRIPTION:Drag Academy kicks off pride month with an epic show starring Plastique Tiara from Rupaul’s Drag Race\, Season 11 and hosted by Pittsburgh’s own Monongahaley. \nTickets include pre-show reception and VIP tickets are available for an exclusive post-show meet and greet. \nMasks are required for attendees who are unable to provide proof of vaccination.\nMasks will be required for the Meet & Greet regardless of vaccination status. \nPURCHASE TICKETS  or  LEARN MORE
URL:https://carnegiecarnegie.org/event/drag-academy-pride-show/
LOCATION:Andrew Carnegie Free Library & Music Hall\, 300 Beechwood Avenue\, Carnegie\, PA\, 15106\, United States
CATEGORIES:2021,Past Event
ATTACH;FMTTYPE=image/jpeg:https://carnegiecarnegie.org/wp-content/uploads/2021/06/MetaSlider-Web-Event-6.jpg
END:VEVENT
END:VCALENDAR