BEGIN:VCALENDAR
VERSION:2.0
PRODID:-//Andrew Carnegie Free Library &amp; Music Hall - ECPv6.15.20//NONSGML v1.0//EN
CALSCALE:GREGORIAN
METHOD:PUBLISH
X-WR-CALNAME:Andrew Carnegie Free Library &amp; Music Hall
X-ORIGINAL-URL:https://carnegiecarnegie.org
X-WR-CALDESC:Events for Andrew Carnegie Free Library &amp; Music Hall
REFRESH-INTERVAL;VALUE=DURATION:PT1H
X-Robots-Tag:noindex
X-PUBLISHED-TTL:PT1H
BEGIN:VTIMEZONE
TZID:America/New_York
BEGIN:DAYLIGHT
TZOFFSETFROM:-0500
TZOFFSETTO:-0400
TZNAME:EDT
DTSTART:20230312T070000
END:DAYLIGHT
BEGIN:STANDARD
TZOFFSETFROM:-0400
TZOFFSETTO:-0500
TZNAME:EST
DTSTART:20231105T060000
END:STANDARD
BEGIN:DAYLIGHT
TZOFFSETFROM:-0500
TZOFFSETTO:-0400
TZNAME:EDT
DTSTART:20240310T070000
END:DAYLIGHT
BEGIN:STANDARD
TZOFFSETFROM:-0400
TZOFFSETTO:-0500
TZNAME:EST
DTSTART:20241103T060000
END:STANDARD
BEGIN:DAYLIGHT
TZOFFSETFROM:-0500
TZOFFSETTO:-0400
TZNAME:EDT
DTSTART:20250309T070000
END:DAYLIGHT
BEGIN:STANDARD
TZOFFSETFROM:-0400
TZOFFSETTO:-0500
TZNAME:EST
DTSTART:20251102T060000
END:STANDARD
END:VTIMEZONE
BEGIN:VEVENT
DTSTART;TZID=America/New_York:20240501T190000
DTEND;TZID=America/New_York:20240501T200000
DTSTAMP:20260421T121834
CREATED:20240226T195228Z
LAST-MODIFIED:20240502T152951Z
UID:10000831-1714590000-1714593600@carnegiecarnegie.org
SUMMARY:Embracing Our Differences: “They Called Us Exceptional\,” discussion session 2
DESCRIPTION:Join us for community conversations about diversity & inclusion! \n\n\n\nThis Spring\, we’re reading and discussing They Called Us Exceptional: And Other Lies that Raised Us by Prachi Gupta. This unflinching personal memoir examines the experience of Indian American families\, exploring ideas of success\, exceptionalism\, and compassion. Author Celeste Ng (Little Fires Everywhere) called this book “both searingly honest and deeply compassionate.” \n\n\n\nThis meeting will focus primarily on Chapter 14 through the end of the book. \n\n\n\nCopies are available for checkout at the Library’s circulation desk. Pick up your copy of the book any time the Library is open! \n\n\n\nRegistration is appreciated. To register\, please click here.
URL:https://carnegiecarnegie.org/event/embracing-our-differences-they-called-us-exceptional-discussion-session-2/
LOCATION:Andrew Carnegie Free Library & Music Hall\, 300 Beechwood Avenue\, Carnegie\, PA\, 15106\, United States
CATEGORIES:2024,Past Event
ATTACH;FMTTYPE=image/jpeg:https://carnegiecarnegie.org/wp-content/uploads/2024/02/Embracing-Our-Differences-1.jpg
END:VEVENT
BEGIN:VEVENT
DTSTART;TZID=America/New_York:20240502T190000
DTEND;TZID=America/New_York:20240502T190000
DTSTAMP:20260421T121834
CREATED:20240216T031058Z
LAST-MODIFIED:20240327T171636Z
UID:10000820-1714676400-1714676400@carnegiecarnegie.org
SUMMARY:Listen Locally Downstairs with Maureen Renihan
DESCRIPTION:Maureen Renihan connects with audiences of all ages with her honesty through song. Evoking the charm of a bygone era\, she is influenced by some of the greatest female vocalists: Billie Holiday\, Ella Fitzgerald\, and Sarah Vaughan. Joining Maureen will be Dan Bruce on guitar\, Clifford Barnes on bass\, and Dave Throckmorton on drums. \n\n\n\nComplimentary snacks. Beer and wine by donation.Doors open at 6:30 pm || Concert begins at 7:00 pm \n\n\n\nOutside alcohol/BYOB is not permitted.All ticket sales are final. \n\n\n\nTicket Price: Pay what makes you happy. \n\n\n\n\nTICKETS\n\n\n\n\nSuggested price is $15 per ticket.
URL:https://carnegiecarnegie.org/event/listen-locally-downstairs-with-maureen-renihan/
LOCATION:PA
CATEGORIES:2024,Upcoming Event
ATTACH;FMTTYPE=image/jpeg:https://carnegiecarnegie.org/wp-content/uploads/2024/02/Maureen.Renihan-640x450-1.jpg
END:VEVENT
BEGIN:VEVENT
DTSTART;TZID=America/New_York:20240502T190000
DTEND;TZID=America/New_York:20240502T203000
DTSTAMP:20260421T121834
CREATED:20240207T170257Z
LAST-MODIFIED:20240503T143734Z
UID:10000802-1714676400-1714681800@carnegiecarnegie.org
SUMMARY:Knife Sharpening: Whetstone Tips\, Tools\, & Techniques
DESCRIPTION:Join Dennis Snedden for a hands-on workshop on sharpening and caring for your knives! A well-sharpened edge is much safer and more effective than a dull one\, and with a little guidance\, anyone can learn to keep their knife edges in excellent condition. \n\n\n\nEach participant should bring two or three 5″-10″ kitchen knives (non-serrated); a diamond\, oil\, or water stone (if you have one); a honing rod or steel (if you have one); your knife edge questions; and a will to learn! You will learn the best and safest techniques for honing a fine edge. Come with dull knives – leave with safer\, sharper\, functional edges! \n\n\n\nNo ceramic knives\, hair or sewing scissors\, please. \n\n\n\nA suggested donation of $15 will be put towards funding this year’s kids’ Summer Reading Program. Space is limited\, so please register here! 18 years and older\, please.
URL:https://carnegiecarnegie.org/event/knife-sharpening-and-care-with-dennis-snedden/
LOCATION:Andrew Carnegie Free Library & Music Hall\, 300 Beechwood Avenue\, Carnegie\, PA\, 15106\, United States
CATEGORIES:2024,Past Event
ATTACH;FMTTYPE=image/jpeg:https://carnegiecarnegie.org/wp-content/uploads/2024/04/Knife-Sharpening.jpg
END:VEVENT
BEGIN:VEVENT
DTSTART;TZID=America/New_York:20240504T120000
DTEND;TZID=America/New_York:20240504T130000
DTSTAMP:20260421T121834
CREATED:20240221T200454Z
LAST-MODIFIED:20240518T182136Z
UID:10000826-1714824000-1714827600@carnegiecarnegie.org
SUMMARY:Chickens in the Carnegie Carnegie!
DESCRIPTION:Learn about the care and keeping of chickens with this special 3 week series! Patrice from Mystic Mamas will bring chickens to the Library each week as we explore the lifecycles of chicken and urban farming.  \n\n\n\nWeek 1 will explore chickens in the city including urban farming and the life cycle of a chicken.  \n\n\n\nWeek 2 will explore the various breeds of chickens. \n\n\n\nWeek 3 will discuss eggs.  Learn about how chickens lay eggs and even taste some freshly cooked eggs from the flock!  \n\n\n\nThis program is intended for children and families.  All children under 10 must be accompanied by an adult.   \n\n\n\nRegistration is required.  CLICK HERE TO REGISTER!
URL:https://carnegiecarnegie.org/event/chickens-in-the-carnegie-carnegie/2024-05-04/
LOCATION:PA
CATEGORIES:2024,Past Event
ATTACH;FMTTYPE=image/jpeg:https://carnegiecarnegie.org/wp-content/uploads/2024/02/Chickens-in-the-Carnegie-Carnegie-3.jpg
END:VEVENT
BEGIN:VEVENT
DTSTART;TZID=America/New_York:20240507T173000
DTEND;TZID=America/New_York:20240507T180000
DTSTAMP:20260421T121834
CREATED:20240427T023202Z
LAST-MODIFIED:20240427T024927Z
UID:10000850-1715103000-1715104800@carnegiecarnegie.org
SUMMARY:Musicians of the Pittsburgh Symphony Orchestra at the Carnegie Carnegie
DESCRIPTION:Get ready to be blown away by the talented musicians of the Pittsburgh Symphony Orchestra! Join us for a fabulous free concert in the Music Hall\, where a fantastic brass quintet will take the stage. This 30-minute musical performance is perfect for the whole family to enjoy\, so mark your calendars and get ready to be serenaded in style!General Seating.Registration is appreciated by not required.  \n\n\n\n\nREGISTER
URL:https://carnegiecarnegie.org/event/musicians-of-the-pittsburgh-symphony-orchestra-at-the-carnegie-carnegie/
LOCATION:PA
CATEGORIES:2024,Upcoming Event
ATTACH;FMTTYPE=image/png:https://carnegiecarnegie.org/wp-content/uploads/2024/04/Musicians-PSO.png
END:VEVENT
BEGIN:VEVENT
DTSTART;TZID=America/New_York:20240508T190000
DTEND;TZID=America/New_York:20240508T210000
DTSTAMP:20260421T121834
CREATED:20240207T180159Z
LAST-MODIFIED:20240509T203711Z
UID:10000806-1715194800-1715202000@carnegiecarnegie.org
SUMMARY:Comedies of the 1930s: "The Thin Man"
DESCRIPTION:Join the Pittsburgh Classic Movie Club for “Comedies of the 1930s\,” a special four-part series celebrating some of history’s funniest flicks! \n\n\n\nTonight: “The Thin Man” (1934)\, directed by W.S. Van Dyke. Married detectives Nick and Nora take on the murder of an eccentric inventor’s mistress in this comic murder mystery based on the novel by Dashiell Hammett. \n\n\n\nJoin us for the rest of this series! \n\n\n\n\nMay 22: Twentieth Century (1934)\n\n\n\n\nRegistration is appreciated\, but walk-ins are welcome. Please click here to register.
URL:https://carnegiecarnegie.org/event/comedies-of-the-1930s-the-thin-man/
LOCATION:Andrew Carnegie Free Library & Music Hall\, 300 Beechwood Avenue\, Carnegie\, PA\, 15106\, United States
CATEGORIES:2024,Past Event
ATTACH;FMTTYPE=image/jpeg:https://carnegiecarnegie.org/wp-content/uploads/2024/02/Comedies-of-the-1930s4.jpg
END:VEVENT
BEGIN:VEVENT
DTSTART;TZID=America/New_York:20240510T170000
DTEND;TZID=America/New_York:20240510T190000
DTSTAMP:20260421T121834
CREATED:20240424T144016Z
LAST-MODIFIED:20240511T175947Z
UID:10000846-1715360400-1715367600@carnegiecarnegie.org
SUMMARY:Mother's Day Sculpture Night
DESCRIPTION:Celebrate Mother’s Day by completing a guided themed sculpture to keep or to gift. Join Selva Priya Sahadevan of Getitfromnature Arts for this family focused\, hands-on workshop. \n\n\n\nLimited seats are available! Please click here to register.
URL:https://carnegiecarnegie.org/event/mothers-day-sculpture-night/
LOCATION:Andrew Carnegie Free Library & Music Hall\, 300 Beechwood Avenue\, Carnegie\, PA\, 15106\, United States
CATEGORIES:2024,Past Event
ATTACH;FMTTYPE=image/jpeg:https://carnegiecarnegie.org/wp-content/uploads/2024/04/Mothers-Day-sculpture-night1.jpg
END:VEVENT
BEGIN:VEVENT
DTSTART;TZID=America/New_York:20240511T120000
DTEND;TZID=America/New_York:20240511T130000
DTSTAMP:20260421T121834
CREATED:20240506T194632Z
LAST-MODIFIED:20240506T194642Z
UID:10000827-1715428800-1715432400@carnegiecarnegie.org
SUMMARY:Chickens in the Carnegie Carnegie!
DESCRIPTION:Learn about the care and keeping of chickens with this special 3 week series! Patrice from Mystic Mamas will bring chickens to the Library each week as we explore the lifecycles of chicken and urban farming.  \n\n\n\nWeek 1 will explore chickens in the city including urban farming and the life cycle of a chicken.  \n\n\n\nWeek 2 will explore the various breeds of chickens. \n\n\n\nWeek 3 will discuss eggs.  Learn about how chickens lay eggs and even taste some freshly cooked eggs from the flock!  \n\n\n\nThis program is intended for children and families.  All children under 10 must be accompanied by an adult.   \n\n\n\nRegistration is required.  CLICK HERE TO REGISTER!
URL:https://carnegiecarnegie.org/event/chickens-in-the-carnegie-carnegie-2/
LOCATION:PA
CATEGORIES:2024,Past Event
ATTACH;FMTTYPE=image/jpeg:https://carnegiecarnegie.org/wp-content/uploads/2024/02/Chickens-in-the-Carnegie-Carnegie-3.jpg
END:VEVENT
BEGIN:VEVENT
DTSTART;TZID=America/New_York:20240511T130000
DTEND;TZID=America/New_York:20240511T140000
DTSTAMP:20260421T121834
CREATED:20240313T194255Z
LAST-MODIFIED:20240513T165431Z
UID:10000841-1715432400-1715436000@carnegiecarnegie.org
SUMMARY:2nd Saturday Civil War Series: A Civil War Road Trip of a Lifetime with John Banks
DESCRIPTION:In Person in the Lincoln Gallery at ACFL&MHFacebook: www.facebook.com/CarnegieCarnegie No Account Required!Zoom: https://us02web.zoom.us/j/9370579279 Meeting ID: 937 057 9279 \n\n\n\nOver more than a year\, John Banks crisscrossed the country\, exploring battlefields\, historic houses\, forts\, and more. He rode on the back of an ATV with his “psychotic connection” in Mississippi\, went under the spell of an amateur hypnotist at a U.S. Army fort in Tennessee\, admired a sunset from the grounds of the notorious Andersonville prison camp in Georgia\, prayed during a tense boat ride in Charleston Harbor in South Carolina\, and briefly interviewed Louie the wild board in Virginia’s Shenandoah Valley. Join him on a road trip like no other! \n\n\n\nJohn Banks is the author of three books on the Civil War\, including A Civil War Road Trip of a Lifetime. His work has been featured in such notable publications as The New York Times\, Civil War Times\, Civil War Monitor\, Civil War News\, America’s Civil War\, and Military Images. \n\n\n\nBanks\, who attended Mount Lebanon High School\, graduated from West Virginia University. A longtime journalist with The Dallas Morning News and ESPN\, he is secretary-treasurer of the Center for Civil War Photography and a board member of the Save Historic Antietam Foundation and Battle of Nashville Trust. \n\n\n\n2nd Saturday Lectures made possible by the Massey Charitable Trust.
URL:https://carnegiecarnegie.org/event/2nd-saturday-civil-war-series-a-civil-war-road-trip-of-a-lifetime-with-john-banks/
LOCATION:Andrew Carnegie Free Library & Music Hall\, 300 Beechwood Avenue\, Carnegie\, PA\, 15106\, United States
CATEGORIES:2024,Past Event
ATTACH;FMTTYPE=image/jpeg:https://carnegiecarnegie.org/wp-content/uploads/2024/03/MetaSlider-Web-Event-1.jpg
END:VEVENT
BEGIN:VEVENT
DTSTART;TZID=America/New_York:20240513T190000
DTEND;TZID=America/New_York:20240513T200000
DTSTAMP:20260421T121834
CREATED:20240503T205622Z
LAST-MODIFIED:20240520T192241Z
UID:10000857-1715626800-1715630400@carnegiecarnegie.org
SUMMARY:Middle Eastern Cooking with Kenana
DESCRIPTION:Note: This event will be rescheduled for June due to instructor availability – a new date will be announced here soon! \n\n\n\nJoin Kenana Albani for a hands-on guide to Middle Eastern cooking! \n\n\n\nTonight\, we’ll learn to make Lahma bi Sahen\, a traditional dish made with ground lamb\, potato\, tomato\, parsley\, onion\, and spices. \n\n\n\nNo experience is necessary! Please click here to register.
URL:https://carnegiecarnegie.org/event/middle-eastern-cooking-with-kenana/
LOCATION:Andrew Carnegie Free Library & Music Hall\, 300 Beechwood Avenue\, Carnegie\, PA\, 15106\, United States
CATEGORIES:2024,Past Event
END:VEVENT
BEGIN:VEVENT
DTSTART;TZID=America/New_York:20240516T190000
DTEND;TZID=America/New_York:20240516T203000
DTSTAMP:20260421T121834
CREATED:20240424T152319Z
LAST-MODIFIED:20240520T191317Z
UID:10000848-1715886000-1715891400@carnegiecarnegie.org
SUMMARY:Ukulele Strum-Along
DESCRIPTION:Come strum with us! Join Amber Rozel of Steel City Ukuleles for a free introduction to the simple\, versatile instrument known as the ukulele. Learn just a few simple chords\, and you’ll be able to play hundreds of songs – no prior experience needed\, and you don’t need to own your own ukulele! Meet other uke-enthusiasts and join our new strum-along group! \n\n\n\nThe event will start with a special lesson for first-timers at 7:00 PM. If you already know your way around a ukulele\, join us at 7:50 to play along! \n\n\n\nThis group is intended for adults and teens. Please register here.
URL:https://carnegiecarnegie.org/event/ukulele-strum-along-3/
LOCATION:Andrew Carnegie Free Library & Music Hall\, 300 Beechwood Avenue\, Carnegie\, PA\, 15106\, United States
CATEGORIES:2024,Past Event
END:VEVENT
BEGIN:VEVENT
DTSTART;TZID=America/New_York:20240518T120000
DTEND;TZID=America/New_York:20240518T130000
DTSTAMP:20260421T121834
CREATED:20240509T203551Z
LAST-MODIFIED:20240509T203602Z
UID:10000828-1716033600-1716037200@carnegiecarnegie.org
SUMMARY:Chickens in the Carnegie Carnegie!
DESCRIPTION:Learn about the care and keeping of chickens with this special 3 week series! Patrice from Mystic Mamas will bring chickens to the Library each week as we explore the lifecycles of chicken and urban farming.  \n\n\n\nWeek 1 will explore chickens in the city including urban farming and the life cycle of a chicken.  \n\n\n\nWeek 2 will explore the various breeds of chickens. \n\n\n\nWeek 3 will discuss eggs.  Learn about how chickens lay eggs and even taste some freshly cooked eggs from the flock!  \n\n\n\nThis program is intended for children and families.  All children under 10 must be accompanied by an adult.   \n\n\n\nRegistration is required.  CLICK HERE TO REGISTER!
URL:https://carnegiecarnegie.org/event/chickens-in-the-carnegie-carnegie-3/
LOCATION:PA
CATEGORIES:2024,Past Event
ATTACH;FMTTYPE=image/jpeg:https://carnegiecarnegie.org/wp-content/uploads/2024/02/Chickens-in-the-Carnegie-Carnegie-3.jpg
END:VEVENT
BEGIN:VEVENT
DTSTART;TZID=America/New_York:20240518T140000
DTEND;TZID=America/New_York:20240518T140000
DTSTAMP:20260421T121834
CREATED:20240427T030800Z
LAST-MODIFIED:20240513T202725Z
UID:10000851-1716040800-1716040800@carnegiecarnegie.org
SUMMARY:Nandanik Dance Academy
DESCRIPTION:Nandanik Dance Academy’s mission is to promote and popularize the classical\, folk\, and contemporary dances from India and to disseminate the beauty and splendor of the rich Indian spirituality\, culture\, and heritage.Please note the new performance time of 2:00 pm.  \n\n\n\n\nMore Information
URL:https://carnegiecarnegie.org/event/nandanik-dance-academy-2/
LOCATION:PA
CATEGORIES:2024,Upcoming Event
ATTACH;FMTTYPE=image/jpeg:https://carnegiecarnegie.org/wp-content/uploads/2024/04/Nandanik-Dance-Academy-web.jpg
ORGANIZER;CN="Nandanik Dance Academy":MAILTO:nandanikdance@gmail.com
END:VEVENT
BEGIN:VEVENT
DTSTART;TZID=America/New_York:20240518T140000
DTEND;TZID=America/New_York:20240518T170000
DTSTAMP:20260421T121834
CREATED:20240516T193041Z
LAST-MODIFIED:20240520T200859Z
UID:10000867-1716040800-1716051600@carnegiecarnegie.org
SUMMARY:Celebrating Asian American & Pacific Islander Heritage Month
DESCRIPTION:Come celebrate Asian American Pacific Islander Heritage Month! \n\n\n\nThis event will feature a welcome note from Kanak Iyer\, President of the Asian American Chamber of Commerce Pittsburgh; remarks by Allegheny County Executive Sara Innamorato\, Pittsburgh mayor Ed Gainey\, and Representative Arvind Venkat\, MD; and stories of the immigrant experience and the home countries of residents of Carnegie. Join us!
URL:https://carnegiecarnegie.org/event/celebrating-asian-american-pacific-islander-heritage-month/
LOCATION:Andrew Carnegie Free Library & Music Hall\, 300 Beechwood Avenue\, Carnegie\, PA\, 15106\, United States
CATEGORIES:2024,Past Event
ATTACH;FMTTYPE=image/jpeg:https://carnegiecarnegie.org/wp-content/uploads/2024/05/Asian-American-Pacific-Islander-Heritage-Month1.jpg
END:VEVENT
BEGIN:VEVENT
DTSTART;TZID=America/New_York:20240522T190000
DTEND;TZID=America/New_York:20240522T210000
DTSTAMP:20260421T121834
CREATED:20240207T182037Z
LAST-MODIFIED:20240524T163454Z
UID:10000807-1716404400-1716411600@carnegiecarnegie.org
SUMMARY:Comedies of the 1930s: Twentieth Century
DESCRIPTION:Join the Pittsburgh Classic Movie Club for “Comedies of the 1930s\,” a special four-part series celebrating some of history’s funniest flicks! \n\n\n\nTonight: Twentieth Century (1934)\, directed by Howard Hawks. In this screwball romantic comedy\, Broadway and Hollywood collide as a failing producer seeks career help from his former-lover-turned-movie-star. With John Barrymore and Carole Lombard. \n\n\n\nRegistration is appreciated\, but walk-ins are welcome. Please click here to register.
URL:https://carnegiecarnegie.org/event/comedies-of-the-1930s-mystery-film/
LOCATION:Andrew Carnegie Free Library & Music Hall\, 300 Beechwood Avenue\, Carnegie\, PA\, 15106\, United States
CATEGORIES:2024,Past Event
ATTACH;FMTTYPE=image/jpeg:https://carnegiecarnegie.org/wp-content/uploads/2024/04/Comedies-of-the-1930s.jpg
END:VEVENT
BEGIN:VEVENT
DTSTART;TZID=America/New_York:20240523T170000
DTEND;TZID=America/New_York:20240523T190000
DTSTAMP:20260421T121834
CREATED:20240424T150141Z
LAST-MODIFIED:20240524T163640Z
UID:10000847-1716483600-1716490800@carnegiecarnegie.org
SUMMARY:Free Legal Advice
DESCRIPTION:Sign up for a thirty minute appointment for free legal advice with attorneys from the Allegheny County Bar Foundation’s Pro Bono Center! \n\n\n\nTo request an appointment\, please call us at 412-276-3456 or email evansw2@einetwork.net. Please be prepared to share your name\, contact information\, and the topic of your legal questions.
URL:https://carnegiecarnegie.org/event/free-legal-advice/
LOCATION:Andrew Carnegie Free Library & Music Hall\, 300 Beechwood Avenue\, Carnegie\, PA\, 15106\, United States
CATEGORIES:2024,Past Event
ATTACH;FMTTYPE=image/png:https://carnegiecarnegie.org/wp-content/uploads/2024/01/Legal-advice-slider.png
END:VEVENT
END:VCALENDAR