BEGIN:VCALENDAR
VERSION:2.0
PRODID:-//Andrew Carnegie Free Library &amp; Music Hall - ECPv6.15.20//NONSGML v1.0//EN
CALSCALE:GREGORIAN
METHOD:PUBLISH
X-ORIGINAL-URL:https://carnegiecarnegie.org
X-WR-CALDESC:Events for Andrew Carnegie Free Library &amp; Music Hall
REFRESH-INTERVAL;VALUE=DURATION:PT1H
X-Robots-Tag:noindex
X-PUBLISHED-TTL:PT1H
BEGIN:VTIMEZONE
TZID:America/New_York
BEGIN:DAYLIGHT
TZOFFSETFROM:-0500
TZOFFSETTO:-0400
TZNAME:EDT
DTSTART:20230312T070000
END:DAYLIGHT
BEGIN:STANDARD
TZOFFSETFROM:-0400
TZOFFSETTO:-0500
TZNAME:EST
DTSTART:20231105T060000
END:STANDARD
BEGIN:DAYLIGHT
TZOFFSETFROM:-0500
TZOFFSETTO:-0400
TZNAME:EDT
DTSTART:20240310T070000
END:DAYLIGHT
BEGIN:STANDARD
TZOFFSETFROM:-0400
TZOFFSETTO:-0500
TZNAME:EST
DTSTART:20241103T060000
END:STANDARD
BEGIN:DAYLIGHT
TZOFFSETFROM:-0500
TZOFFSETTO:-0400
TZNAME:EDT
DTSTART:20250309T070000
END:DAYLIGHT
BEGIN:STANDARD
TZOFFSETFROM:-0400
TZOFFSETTO:-0500
TZNAME:EST
DTSTART:20251102T060000
END:STANDARD
END:VTIMEZONE
BEGIN:VEVENT
DTSTART;TZID=America/New_York:20240301T100000
DTEND;TZID=America/New_York:20240302T170000
DTSTAMP:20260421T154440
CREATED:20240221T173705Z
LAST-MODIFIED:20240304T194729Z
UID:10000825-1709287200-1709398800@carnegiecarnegie.org
SUMMARY:South Hills Model Railroad Club display
DESCRIPTION:Come see an amazing room-sized model railroad track display\, courtesy of the South Hills Model Railroad Club! Featuring homes\, businesses\, landscape features\, and even a carnival\, this fully operational track creates its own tiny world to explore. \n\n\n\nMembers of the South Hills Model Railroad Club will be present on Friday March 1 and Saturday March 2 to discuss and explain the display. Drop in any time!
URL:https://carnegiecarnegie.org/event/south-hills-model-railroad-club-display/
LOCATION:Andrew Carnegie Free Library & Music Hall\, 300 Beechwood Avenue\, Carnegie\, PA\, 15106\, United States
CATEGORIES:2024,Past Event
ATTACH;FMTTYPE=image/jpeg:https://carnegiecarnegie.org/wp-content/uploads/2024/02/South-Hills-2.jpg
END:VEVENT
BEGIN:VEVENT
DTSTART;TZID=America/New_York:20240304T190000
DTEND;TZID=America/New_York:20240304T200000
DTSTAMP:20260421T154440
CREATED:20240301T173740Z
LAST-MODIFIED:20240305T004601Z
UID:10000838-1709578800-1709582400@carnegiecarnegie.org
SUMMARY:Middle Eastern Cooking: Learn to make Baba Ganoush!
DESCRIPTION:Join Kenana Albani for a hands-on guide to Middle Eastern cooking! \n\n\n\nTonight\, we’ll learn to make baba ganoush\, a delicious eggplant dip with tahini\, garlic\, and citrus! \n\n\n\nNo experience is necessary. Limited spots are available – please click here to register!
URL:https://carnegiecarnegie.org/event/middle-eastern-cooking-learn-to-make-baba-ganoush/
LOCATION:Andrew Carnegie Free Library & Music Hall\, 300 Beechwood Avenue\, Carnegie\, PA\, 15106\, United States
CATEGORIES:2024,Past Event
ATTACH;FMTTYPE=image/jpeg:https://carnegiecarnegie.org/wp-content/uploads/2024/03/Middle-Eastern-cooking.jpg
END:VEVENT
BEGIN:VEVENT
DTSTART;TZID=America/New_York:20240304T190000
DTEND;TZID=America/New_York:20240305T190000
DTSTAMP:20260421T154440
CREATED:20240220T182442Z
LAST-MODIFIED:20240220T182450Z
UID:10000824-1709578800-1709665200@carnegiecarnegie.org
SUMMARY:Yeshiva Girls High School presents Out of the Depths
DESCRIPTION:Adapted from the works of Marcus Lehman by Mrs. Terri NaidichYeshiva Girls Production presents: Out of the Depths – the Journey to TruthPlease note that the performance is for women and girls ages 5+ only.Lehman’s original novelette takes place takes place in the middle of the nineteenth century\, when many wealthy European Jewish families\, lured by newfound political freedom and riches\, abandoned the Torah way of life in favor of the ways of high society. When Edward Lindenstein\, the arrogant and frivolous scion of one such family\, marries Minna\, a religious girl\, trouble lies ahead. \n\n\n\nLehman’s enthralling novelette traces Edward`s shifting fortunes from the capitals of Europe to the far-flung shores of Africa and South America. A tale of greed\, deceit\, piracy on the high seas\, and the ultimate triumph of faith. \n\n\n\n\nTICKETS\n\n\n\n\nDoors open 6:15 pmPlay begins at 7:00 pmPlease note that the performance is for women and girls ages 5+ only.
URL:https://carnegiecarnegie.org/event/yeshiva-girls-high-school-presents-out-of-the-depths/
LOCATION:PA
CATEGORIES:2024,Upcoming Event
ATTACH;FMTTYPE=image/jpeg:https://carnegiecarnegie.org/wp-content/uploads/2024/02/Yeshiva.460x650-1.jpg
ORGANIZER;CN="Yeshiva Girls High School":MAILTO:production5784@yeshivaschools.com
END:VEVENT
BEGIN:VEVENT
DTSTART;TZID=America/New_York:20240305T173000
DTEND;TZID=America/New_York:20240305T190000
DTSTAMP:20260421T154440
CREATED:20240118T184126Z
LAST-MODIFIED:20240118T184134Z
UID:10000790-1709659800-1709665200@carnegiecarnegie.org
SUMMARY:Collage Creation
DESCRIPTION:Let your creativity fly! Cut images and words\, arrange your art\, paste it down for a cool design made by you and for you!  \n\n\n\nUsing images and text from old magazines and books\, participants will create a collage to take home.   \n\n\n\nThis program is for ages 10-18.  \n\n\n\nRegistration is required for this program.  CLICK HERE TO REGISTER!
URL:https://carnegiecarnegie.org/event/collage-creation/
LOCATION:PA
CATEGORIES:2024,Upcoming Event
ATTACH;FMTTYPE=image/jpeg:https://carnegiecarnegie.org/wp-content/uploads/2024/01/COOL-TO-COLLAGE-march-24-650-x-450-px-1.jpg
END:VEVENT
BEGIN:VEVENT
DTSTART;TZID=America/New_York:20240309T130000
DTEND;TZID=America/New_York:20240309T140000
DTSTAMP:20260421T154440
CREATED:20240214T194804Z
LAST-MODIFIED:20240313T185141Z
UID:10000812-1709989200-1709992800@carnegiecarnegie.org
SUMMARY:2nd Saturday Civil War Series: Our Flag Was Still There with Tom McMillan
DESCRIPTION:In Person in the Lincoln Gallery at ACFL&MHFacebook: www.facebook.com/CarnegieCarnegie No Account Required!Zoom: https://us02web.zoom.us/j/9370579279 Meeting ID: 937 057 9279 \n\n\n\nOUR FLAG WAS STILL THERE details the improbable two-hundred-year journey of the original Star-Spangled Banner – from Fort McHenry in 1814\, when Francis Scott Key first saw it\, to the Smithsonian in 2024 – thanks to three generations of an enduring military family\, the Armisteads\, who defended\, kept\, hid\, and ultimately donated the most famous flag in American history. \n\n\n\nA lifelong student of history\, Tom McMillan has served on the board of trustees of the Heinz History Center\, the board of directors of the Friends of Flight 93 National Memorial\, the board of directors of the Antietam Institute\, and the marketing committee of the Gettysburg Foundation. He has written three previous books on American history\, two of them on the Battle of Gettysburg. McMillan recently retired after a 43-year career in sports media and communications\, including 25 years as VP of Communications for the Pittsburgh Penguins. He has a journalism degree from Point Park University and resides with his family in Pittsburgh and Gettysburg. \n\n\n\n2nd Saturday Lectures made possible by the Massey Charitable Trust.
URL:https://carnegiecarnegie.org/event/2nd-saturday-civil-war-series-our-flag-was-still-there-with-tom-mcmillan/
LOCATION:Andrew Carnegie Free Library & Music Hall\, 300 Beechwood Avenue\, Carnegie\, PA\, 15106\, United States
CATEGORIES:2024,Past Event
ATTACH;FMTTYPE=image/jpeg:https://carnegiecarnegie.org/wp-content/uploads/2024/02/MetaSlider-Web-Event.jpg
END:VEVENT
BEGIN:VEVENT
DTSTART;TZID=America/New_York:20240309T163000
DTEND;TZID=America/New_York:20240309T173000
DTSTAMP:20260421T154440
CREATED:20240304T181103Z
LAST-MODIFIED:20240305T213945Z
UID:10000839-1710001800-1710005400@carnegiecarnegie.org
SUMMARY:Legacy Ukulele Ensemble in Concert!
DESCRIPTION:Join us for a FREE\, family-friendly hour of music\, reimagined in surprising ways. The Legacy Ukulele Ensemble will have you vibing and grooving right along with some rock and pop classics! \n\n\n\nThe Legacy Ukuleles are led by internationally acclaimed ensemble leader\, Peter Luongo. From across the US and Canada\, this group meets once a month to rehearse and perform. Their high-energy performances reimagine many genres of music through the lens of ukulele. They have performed across the US\, most recently being featured as a Band at NAMM in January 2024. \n\n\n\nRegistration is appreciated\, but walk-ins are welcome. Please click here to register!
URL:https://carnegiecarnegie.org/event/legacy-ukulele-ensemble-in-concert/
LOCATION:Andrew Carnegie Free Library & Music Hall\, 300 Beechwood Avenue\, Carnegie\, PA\, 15106\, United States
CATEGORIES:2024,Upcoming Event
ATTACH;FMTTYPE=image/jpeg:https://carnegiecarnegie.org/wp-content/uploads/2024/03/Heading1.jpg
END:VEVENT
BEGIN:VEVENT
DTSTART;TZID=America/New_York:20240310T130000
DTEND;TZID=America/New_York:20240310T130000
DTSTAMP:20260421T154440
CREATED:20240220T174010Z
LAST-MODIFIED:20240220T174154Z
UID:10000823-1710075600-1710075600@carnegiecarnegie.org
SUMMARY:Pennsylvania Ballet Conservatory presents its Studio Showcase
DESCRIPTION:Pennsylvania Ballet Conservatory is a classical ballet school for children ages 2-18\, providingprofessional-quality ballet instruction in a positive environment. Its mission is to develop and inspire healthy dancers in a positive environment while providing them with professional-quality ballet instruction and instilling an appreciation and lifelong love of dance. Join Pennsylvania Ballet Conservatory for its Studio Showcase! \n\n\n\n\nTICKETS
URL:https://carnegiecarnegie.org/event/pennsylvania-ballet-conservatory-presents-their-studio-showcase/
LOCATION:PA
CATEGORIES:2024,Upcoming Event
ATTACH;FMTTYPE=image/png:https://carnegiecarnegie.org/wp-content/uploads/2024/02/PABC-640x450-1.png
ORGANIZER;CN="Pennsylvania Ballet Conservatory":MAILTO:info@pennballet.com
END:VEVENT
BEGIN:VEVENT
DTSTART;TZID=America/New_York:20240316T173000
DTEND;TZID=America/New_York:20240316T173000
DTSTAMP:20260421T154440
CREATED:20240206T182127Z
LAST-MODIFIED:20240206T182628Z
UID:10000801-1710610200-1710610200@carnegiecarnegie.org
SUMMARY:Kings Rising Creations Presents: Legendary Queens
DESCRIPTION:Join Kings Rising Creations for an unforgettable evening of creativity\, inspiration\, and a one-night-only experience with some of the best drag and female impersonation performances from around the country\, but that’s not all…enjoy the beautiful vocals of Aubrey Burchell from Pittsburgh and finalist of Americas Got Talent. Amazing dance performances from Maria Caruso and company from Bodiography\, and amazing aerial stunts from Iron City Arial. These entertainers are all performing together as one cast and giving you one of the best live showcases Pittsburgh has ever seen at the Andrew Carnegie Free Library & Music Hall in Carnegie\, PA. Get ready to be blown away by the incredible talent and passion of our featured artists. From mind-bending performances to jaw-dropping visual art\, this event will leave you speechless! Immerse yourself in a world where imagination knows no bounds. Don’t miss out on this legendary experience that will leave you wanting more. Mark your calendars and get ready to witness greatness! \n\n\n\n\nTICKETS
URL:https://carnegiecarnegie.org/event/kings-rising-creations-presents-legendary-queens/
LOCATION:PA
CATEGORIES:2024,Postponed,Upcoming Event
ATTACH;FMTTYPE=image/jpeg:https://carnegiecarnegie.org/wp-content/uploads/2024/02/Legneds-2640x450-1.jpg
ORGANIZER;CN="Kings Rising Creations":MAILTO:Kingsrisinginc@gmail.com
END:VEVENT
BEGIN:VEVENT
DTSTART;TZID=America/New_York:20240321T190000
DTEND;TZID=America/New_York:20240321T210000
DTSTAMP:20260421T154440
CREATED:20240305T200630Z
LAST-MODIFIED:20240325T163900Z
UID:10000840-1711047600-1711054800@carnegiecarnegie.org
SUMMARY:Movies in the Music Hall: "Dungeons & Dragons: Honor Among Thieves"
DESCRIPTION:Join us for free films on the big screen in our luxurious Music Hall! \n\n\n\nTonight: Dungeons & Dragons: Honor Among Thieves (2023)\, directed by Jonathan Goldstein and John Francis Daley. An unlikely band of adventurers find danger and magic as they battle to retrieve a lost relic. Starring Chris Pine\, Michelle Rodriguez\, Regé-Jean Page\, and Hugh Grant. Based on the world’s most popular role-playing game! Rated PG-13. \n\n\n\nRegistration is appreciated\, but walk-ins are welcome. Please click here to register!
URL:https://carnegiecarnegie.org/event/movies-in-the-music-hall-dungeons-dragons-honor-among-thieves/
LOCATION:Andrew Carnegie Free Library & Music Hall\, 300 Beechwood Avenue\, Carnegie\, PA\, 15106\, United States
CATEGORIES:2024,Past Event
ATTACH;FMTTYPE=image/jpeg:https://carnegiecarnegie.org/wp-content/uploads/2024/03/Movie-slider3.jpg
END:VEVENT
BEGIN:VEVENT
DTSTART;TZID=America/New_York:20240323T110000
DTEND;TZID=America/New_York:20240323T130000
DTSTAMP:20260421T154440
CREATED:20240214T170828Z
LAST-MODIFIED:20240325T164508Z
UID:10000811-1711191600-1711198800@carnegiecarnegie.org
SUMMARY:Carnegie Celebrates World Poetry Day
DESCRIPTION:Celebrate a world of poetry! Join us as we recognize and honor the poetic traditions of the many countries and world cultures represented among the diverse residents of Carnegie. Hear Carnegie residents read poems in languages like Arabic\, Ukrainian\, Hindi\, and more\, including English translations of each poem prepared by AddVerse Poesia! \n\n\n\nEach reading will be accompanied by interpretive dance from the Sanskruti School of Indian Dance and Music. Artwork and original poetry by Carlynton students will be on display\, and native-born Carnegie poet and Pitt professor Fred Shaw will also share his own work. International foods prepared by immigrant women will be available through ANSAR of Pittsburgh. \n\n\n\nGuest readers include: Razan Almasri; Aydin and Ayaad Mushtaq; Muhammad Ali Yusupov; Mehrimah Yusupova; Rowann Yahya; Luana Reis; Angelika Pyvovar; and Professor Alicia Harvey-Smith. \n\n\n\nWorld Poetry Day was created by UNESCO in 1999 and is observed on March 21 annually.  \n\n\n\nHelp support peace and understanding through poetry. Click here to register!
URL:https://carnegiecarnegie.org/event/carnegie-celebrates-world-poetry-day/
LOCATION:Andrew Carnegie Free Library & Music Hall\, 300 Beechwood Avenue\, Carnegie\, PA\, 15106\, United States
CATEGORIES:2024,Past Event
ATTACH;FMTTYPE=image/jpeg:https://carnegiecarnegie.org/wp-content/uploads/2024/02/World-Poetry-Day1.jpg
END:VEVENT
BEGIN:VEVENT
DTSTART;TZID=America/New_York:20240323T200000
DTEND;TZID=America/New_York:20240323T200000
DTSTAMP:20260421T154440
CREATED:20231101T221509Z
LAST-MODIFIED:20240315T181349Z
UID:10000765-1711224000-1711224000@carnegiecarnegie.org
SUMMARY:Listen Locally with Pittsburgh Jazz Orchestra Quintet and Chantal Joseph
DESCRIPTION:The Pittsburgh Jazz Orchestra Quintet\, with guest vocalist Chantal Joseph\, celebrate the music of Jerome Kern and Billy Strayhorn. \n\n\n\nChantal Joseph is a high-energy and electric vocalist who has shared the stage with the likes of Kenny Loggins\, Dwayne Dolphin\, and Roger Humphries. You will want to experience this dynamic pairing of Miss Joseph and the PJO Quintet. \n\n\n\nPittsburgh Jazz Orchestra (PJO) was founded in the early 1970s by Dr. Nathan Davis\, saxophonist and Director of Jazz Studies at the University of Pittsburgh. PJO\, an intergenerational ensemble featuring premier jazz musicians from the Pittsburgh region\, has received accolades ever since. This evening’s quintet will include: \n\n\n\n\nJeff Bush\, trombone\n\n\n\nEric DeFade\, woodwinds\n\n\n\nAlton Merrell\, piano\n\n\n\nAva Lintz\, bass\n\n\n\nThomas Wendt\, drums\n\n\n\n\n\nTICKETS\n\n\n\n\nAll ticket sales are final.
URL:https://carnegiecarnegie.org/event/listen-locally-with-pittsburgh-jazz-orchestra-quintet-and-chantal-joseph/
LOCATION:PA
CATEGORIES:2024,Upcoming Event
ATTACH;FMTTYPE=image/jpeg:https://carnegiecarnegie.org/wp-content/uploads/2024/02/Chantel-PJO-webbutton-640-×-450-px.jpg
END:VEVENT
BEGIN:VEVENT
DTSTART;TZID=America/New_York:20240327T190000
DTEND;TZID=America/New_York:20240327T210000
DTSTAMP:20260421T154440
CREATED:20240207T172636Z
LAST-MODIFIED:20240328T225001Z
UID:10000803-1711566000-1711573200@carnegiecarnegie.org
SUMMARY:Comedies of the 1930s: "City Lights"
DESCRIPTION:Join the Pittsburgh Classic Movie Club for “Comedies of the 1930s\,” a special film series celebrating some of history’s funniest flicks! \n\n\n\nTonight: “City Lights” (1931)\, directed by Charlie Chaplin. The legendary Charlie Chaplin woos a blind flower seller (Virginia Cherrill) while attempting to earn money through his friendship with an eccentric millionaire. \n\n\n\nJoin us for the rest of this series! \n\n\n\n\nApril 10: “It Happened One Night”\n\n\n\nApril 24: “A Night at the Opera”\n\n\n\nMay 8: “The Thin Man”\n\n\n\nMay 22: You pick the movie! Visit the Pittsburgh Classic Movie Club to vote!\n\n\n\n\nRegistration is appreciated\, but walk-ins are welcome. Please register here.
URL:https://carnegiecarnegie.org/event/comedies-of-the-1930s-city-lights/
LOCATION:PA
CATEGORIES:2024,Past Event
ATTACH;FMTTYPE=image/jpeg:https://carnegiecarnegie.org/wp-content/uploads/2024/02/Comedies-of-the-1930s.jpg
END:VEVENT
BEGIN:VEVENT
DTSTART;TZID=America/New_York:20240330T130000
DTEND;TZID=America/New_York:20240330T140000
DTSTAMP:20260421T154440
CREATED:20240226T193413Z
LAST-MODIFIED:20240403T144318Z
UID:10000829-1711803600-1711807200@carnegiecarnegie.org
SUMMARY:Aromatherapy 1-2-3
DESCRIPTION:This is an informal small group presentation about aromatherapy basics and uses\, including a craft activity to make your own aromatherapy room spray. Learn about the history of modern aromatherapy\, beginner blend crafting and some general aromatherapy uses. \n\n\n\nThis activity is intended for personal enrichment only and does not diagnose\, treat\, cure or prevent any illness. The information here can not replace professional medical or mental health care. \n\n\n\nRegistration is limited – please click here to register!
URL:https://carnegiecarnegie.org/event/aromatherapy-1-2-3/
LOCATION:PA
CATEGORIES:2024,Past Event
ATTACH;FMTTYPE=image/jpeg:https://carnegiecarnegie.org/wp-content/uploads/2024/02/Aromatherapy-1-2-3.jpg
END:VEVENT
END:VCALENDAR