BEGIN:VCALENDAR
VERSION:2.0
PRODID:-//Andrew Carnegie Free Library &amp; Music Hall - ECPv6.15.20//NONSGML v1.0//EN
CALSCALE:GREGORIAN
METHOD:PUBLISH
X-WR-CALNAME:Andrew Carnegie Free Library &amp; Music Hall
X-ORIGINAL-URL:https://carnegiecarnegie.org
X-WR-CALDESC:Events for Andrew Carnegie Free Library &amp; Music Hall
REFRESH-INTERVAL;VALUE=DURATION:PT1H
X-Robots-Tag:noindex
X-PUBLISHED-TTL:PT1H
BEGIN:VTIMEZONE
TZID:America/New_York
BEGIN:DAYLIGHT
TZOFFSETFROM:-0500
TZOFFSETTO:-0400
TZNAME:EDT
DTSTART:20200308T070000
END:DAYLIGHT
BEGIN:STANDARD
TZOFFSETFROM:-0400
TZOFFSETTO:-0500
TZNAME:EST
DTSTART:20201101T060000
END:STANDARD
BEGIN:DAYLIGHT
TZOFFSETFROM:-0500
TZOFFSETTO:-0400
TZNAME:EDT
DTSTART:20210314T070000
END:DAYLIGHT
BEGIN:STANDARD
TZOFFSETFROM:-0400
TZOFFSETTO:-0500
TZNAME:EST
DTSTART:20211107T060000
END:STANDARD
BEGIN:DAYLIGHT
TZOFFSETFROM:-0500
TZOFFSETTO:-0400
TZNAME:EDT
DTSTART:20220313T070000
END:DAYLIGHT
BEGIN:STANDARD
TZOFFSETFROM:-0400
TZOFFSETTO:-0500
TZNAME:EST
DTSTART:20221106T060000
END:STANDARD
END:VTIMEZONE
BEGIN:VEVENT
DTSTART;TZID=America/New_York:20211211T103000
DTEND;TZID=America/New_York:20211211T120000
DTSTAMP:20260425T205030
CREATED:20211129T202115Z
LAST-MODIFIED:20211129T202250Z
UID:10000216-1639218600-1639224000@carnegiecarnegie.org
SUMMARY:Discover Medicare
DESCRIPTION:Licensed insurance agent\, Bess Adams will make it easy for everyone to understand how Medicare works and how to get the most out of it. This Medicare-approved presentation will cover how and when to enroll\, supplemental coverage options. Rx coverage and more. No cost or obligation to attend.   \n\n\n\n Reserve your seat today by phone at 1-800-800-1999 or visit www.discovermedicare.com
URL:https://carnegiecarnegie.org/event/discover-medicare-4/2021-12-11/
LOCATION:PA
CATEGORIES:2021,2022,Current Event,Upcoming Event
ATTACH;FMTTYPE=image/jpeg:https://carnegiecarnegie.org/wp-content/uploads/2021/11/Discover-Medicare.650x450-1.jpg
END:VEVENT
END:VCALENDAR