BEGIN:VCALENDAR
VERSION:2.0
PRODID:-//Andrew Carnegie Free Library &amp; Music Hall - ECPv6.15.20//NONSGML v1.0//EN
CALSCALE:GREGORIAN
METHOD:PUBLISH
X-ORIGINAL-URL:https://carnegiecarnegie.org
X-WR-CALDESC:Events for Andrew Carnegie Free Library &amp; Music Hall
REFRESH-INTERVAL;VALUE=DURATION:PT1H
X-Robots-Tag:noindex
X-PUBLISHED-TTL:PT1H
BEGIN:VTIMEZONE
TZID:America/New_York
BEGIN:DAYLIGHT
TZOFFSETFROM:-0500
TZOFFSETTO:-0400
TZNAME:EDT
DTSTART:20200308T070000
END:DAYLIGHT
BEGIN:STANDARD
TZOFFSETFROM:-0400
TZOFFSETTO:-0500
TZNAME:EST
DTSTART:20201101T060000
END:STANDARD
BEGIN:DAYLIGHT
TZOFFSETFROM:-0500
TZOFFSETTO:-0400
TZNAME:EDT
DTSTART:20210314T070000
END:DAYLIGHT
BEGIN:STANDARD
TZOFFSETFROM:-0400
TZOFFSETTO:-0500
TZNAME:EST
DTSTART:20211107T060000
END:STANDARD
BEGIN:DAYLIGHT
TZOFFSETFROM:-0500
TZOFFSETTO:-0400
TZNAME:EDT
DTSTART:20220313T070000
END:DAYLIGHT
BEGIN:STANDARD
TZOFFSETFROM:-0400
TZOFFSETTO:-0500
TZNAME:EST
DTSTART:20221106T060000
END:STANDARD
END:VTIMEZONE
BEGIN:VEVENT
DTSTART;TZID=America/New_York:20211105T193000
DTEND;TZID=America/New_York:20211105T210000
DTSTAMP:20260425T190713
CREATED:20211008T211902Z
LAST-MODIFIED:20211022T201651Z
UID:10000448-1636140600-1636146000@carnegiecarnegie.org
SUMMARY:Listen Locally with Mark Dignam\, Molly Thompson & Friends featuring Bell School of Irish Dance
DESCRIPTION:TICKETS\n\n\n\nIrish Voice\, Fiddle & Feet come together for Listen Locally \n\n\n\nEnjoy an evening of traditional\, contemporary\, and original songs\, with Dublin-born singer/songwriter Mark Dignam. Also\, a part of the show will be fiddler Molly Thompson and singer/guitarist Kathy Fallon\, along with certified Irish Dance teacher Catie McCarthy & students from the Bell School of Irish Dance.  \n\n\n\nJoin us in the Music Hall\, for a dazzling musical performance\, steeped in Irish tradition. \n\n\n\nVisit https://markdignam.bandcamp.com for a sound preview. \n\n\n\nTICKETS\n\n\n\nReserved Seating Adult……………..$25 advance / $30 at the doorReserved Seating Youth/Student…………….$15Click here to get your tickets in advance here.
URL:https://carnegiecarnegie.org/event/listen-locally-with-mark-dignam-molly-thompson-friends-featuring-bell-school-of-irish-dance/
LOCATION:PA
CATEGORIES:2021,Upcoming Event
ATTACH;FMTTYPE=image/png:https://carnegiecarnegie.org/wp-content/uploads/2021/10/Mark-Dignam-e-blast.png
END:VEVENT
BEGIN:VEVENT
DTSTART;TZID=America/New_York:20211116T190000
DTEND;TZID=America/New_York:20211116T200000
DTSTAMP:20260425T190713
CREATED:20210811T171023Z
LAST-MODIFIED:20211112T145102Z
UID:10000440-1637089200-1637092800@carnegiecarnegie.org
SUMMARY:Embracing Our Differences: "Caste"
DESCRIPTION:Join our reading and discussion group about race & identity at the Andrew Carnegie Free Library & Music Hall! We’ll read and discuss Isabel Wilkerson’s Caste: The Origins of Our Discontents\, an Oprah book club pick that explores America’s hidden caste system. \n\n\n\nPick up your copy of Caste at the Library any time it’s open! \n\n\n\nThis four-part series meets on Tuesday evenings at 7:00 PM\, in person at the Library: \n\n\n\nTuesday\, September 21: Discuss Parts 1 & 2 (pages 3-98)Tuesday\, October 5: Discuss Part 2 (pages 99-166)Tuesday\, October 26: Discuss Part 4 (pages 167-262)Tuesday\, November 16: Discuss Parts 5\, 6\, & 7 (pages 263-388)\n\n\n\nRegistration is required. Please click here to register.
URL:https://carnegiecarnegie.org/event/embracing-our-differences-caste/2021-11-16/
LOCATION:Andrew Carnegie Free Library & Music Hall\, 300 Beechwood Avenue\, Carnegie\, PA\, 15106\, United States
CATEGORIES:2021,Upcoming Event
ATTACH;FMTTYPE=image/jpeg:https://carnegiecarnegie.org/wp-content/uploads/2021/05/Embracing-Our-Differences.jpg
END:VEVENT
END:VCALENDAR