BEGIN:VCALENDAR
VERSION:2.0
PRODID:-//Andrew Carnegie Free Library &amp; Music Hall - ECPv6.15.20//NONSGML v1.0//EN
CALSCALE:GREGORIAN
METHOD:PUBLISH
X-WR-CALNAME:Andrew Carnegie Free Library &amp; Music Hall
X-ORIGINAL-URL:https://carnegiecarnegie.org
X-WR-CALDESC:Events for Andrew Carnegie Free Library &amp; Music Hall
REFRESH-INTERVAL;VALUE=DURATION:PT1H
X-Robots-Tag:noindex
X-PUBLISHED-TTL:PT1H
BEGIN:VTIMEZONE
TZID:America/New_York
BEGIN:DAYLIGHT
TZOFFSETFROM:-0500
TZOFFSETTO:-0400
TZNAME:EDT
DTSTART:20250309T070000
END:DAYLIGHT
BEGIN:STANDARD
TZOFFSETFROM:-0400
TZOFFSETTO:-0500
TZNAME:EST
DTSTART:20251102T060000
END:STANDARD
BEGIN:DAYLIGHT
TZOFFSETFROM:-0500
TZOFFSETTO:-0400
TZNAME:EDT
DTSTART:20260308T070000
END:DAYLIGHT
BEGIN:STANDARD
TZOFFSETFROM:-0400
TZOFFSETTO:-0500
TZNAME:EST
DTSTART:20261101T060000
END:STANDARD
BEGIN:DAYLIGHT
TZOFFSETFROM:-0500
TZOFFSETTO:-0400
TZNAME:EDT
DTSTART:20270314T070000
END:DAYLIGHT
BEGIN:STANDARD
TZOFFSETFROM:-0400
TZOFFSETTO:-0500
TZNAME:EST
DTSTART:20271107T060000
END:STANDARD
END:VTIMEZONE
BEGIN:VEVENT
DTSTART;TZID=America/New_York:20260410T100000
DTEND;TZID=America/New_York:20260411T170000
DTSTAMP:20260421T024018
CREATED:20260320T162818Z
LAST-MODIFIED:20260413T193840Z
UID:10001330-1775815200-1775926800@carnegiecarnegie.org
SUMMARY:South Hills Model Railroad Club Two-Day Track Display!
DESCRIPTION:Come see an amazing room-sized model railroad track display\, courtesy of the South Hills Model Railroad Club! \n\n\n\nFeaturing homes\, businesses\, landscape features\, and even a carnival\, this fully operational track creates its own tiny world to explore. \n\n\n\nMembers of the South Hills Model Railroad Club will be present on Friday\, April 10 and Saturday\, April 11 to discuss and explain the display. Drop in any time! \n\n\n\nPlus\, all visitors will receive a free raffle ticket to win a TYCO Chattanooga train set\, with steam locomotive\, six cars\, and a 17-piece bridge and trestle!
URL:https://carnegiecarnegie.org/event/south-hills-model-railroad-club-two-day-track-display/
LOCATION:Andrew Carnegie Free Library & Music Hall\, 300 Beechwood Avenue\, Carnegie\, PA\, 15106\, United States
CATEGORIES:2026,Past Event
ATTACH;FMTTYPE=image/jpeg:https://carnegiecarnegie.org/wp-content/uploads/2026/03/South-Hills.jpg
END:VEVENT
BEGIN:VEVENT
DTSTART;TZID=America/New_York:20260411T133000
DTEND;TZID=America/New_York:20260411T150000
DTSTAMP:20260421T024018
CREATED:20260320T163905Z
LAST-MODIFIED:20260413T193851Z
UID:10001331-1775914200-1775919600@carnegiecarnegie.org
SUMMARY:Carnegie Modular Railroaders
DESCRIPTION:Join the Carnegie Modular Railroaders\, an all-ages group for anyone interested in model railroading! The mission of the Carnegie Modular Railroaders is to inspire and educate model railroaders of all ages through hands on learning\, collaborative layout building\, and shared exploration of the hobby. \n\n\n\nThe Carnegie Modular Railroaders meet one or two Saturdays a month at the Andrew Carnegie Free Library & Music Hall. For more information\, please contact Nick Yackovich at 412-667-0929 or nicholas.yackovich@comcast.net. \n\n\n\nFor today’s session\, we will meet with members of the South Hills Model Railroad Club to learn about their track layout\, on display in the Lincoln Gallery on Friday April 10 and Saturday April 11. \n\n\n\nAll ages are welcome. Registration is appreciated\, but walk-ins are welcome. Please register below.
URL:https://carnegiecarnegie.org/event/carnegie-modular-railroaders-3/
LOCATION:Andrew Carnegie Free Library & Music Hall\, 300 Beechwood Avenue\, Carnegie\, PA\, 15106\, United States
CATEGORIES:2026,Past Event
ATTACH;FMTTYPE=image/jpeg:https://carnegiecarnegie.org/wp-content/uploads/2026/03/Carnegie-Modular-Railroaders.jpg
END:VEVENT
BEGIN:VEVENT
DTSTART;TZID=America/New_York:20260413T190000
DTEND;TZID=America/New_York:20260413T210000
DTSTAMP:20260421T024018
CREATED:20260213T193710Z
LAST-MODIFIED:20260415T154459Z
UID:10001296-1776106800-1776114000@carnegiecarnegie.org
SUMMARY:Pittsburgh Classic Movie Club presents Noir Femmes Fatales: "The Big Heat" (1953)
DESCRIPTION:Join the Pittsburgh Classic Movie Club for a celebration of the great femmes fatales of cinema!  \n\n\n\nTonight: The Big Heat (1953)\, directed by Fritz Lang. Glenn Ford is determined police detective Dave Bannion\, while Gloria Grahame stars as no-nonsense femme fatale Debby Marsh. \n\n\n\nRegistration is appreciated\, but walk-ins are welcome. Please click here to register. \n\n\n\nJoin us for the rest of this series! \n\n\n\n\nMonday\, April 27: “Pickup on South Street” (1953)\n\n\n\nMonday\, May 18: “The Postman Always Rings Twice” (1946)
URL:https://carnegiecarnegie.org/event/pittsburgh-classic-movie-club-presents-noir-femmes-fatales-the-big-heat-1953/
LOCATION:Andrew Carnegie Free Library & Music Hall\, 300 Beechwood Avenue\, Carnegie\, PA\, 15106\, United States
CATEGORIES:2026,Past Event
ATTACH;FMTTYPE=image/jpeg:https://carnegiecarnegie.org/wp-content/uploads/2026/02/The-Big-Heat1.jpg
END:VEVENT
BEGIN:VEVENT
DTSTART;TZID=America/New_York:20260416T110000
DTEND;TZID=America/New_York:20260416T120000
DTSTAMP:20260421T024018
CREATED:20260320T172051Z
LAST-MODIFIED:20260420T190738Z
UID:10001338-1776337200-1776340800@carnegiecarnegie.org
SUMMARY:Time Travelers Historical Fiction Book Club: "The Ride of Her Life"
DESCRIPTION:Join our historical fiction book group! We explore different eras of history\, offer our thoughts and responses\, and make new friendships as we share a different historical fiction title each month. \n\n\n\nThis group meets on the third Thursday of the month at 11:00am. \n\n\n\nThe title for this meeting will be The Ride of Her Life by Elizabeth Letts. Copies of the book will be available at the Library’s checkout desk. \n\n\n\nRegistration is appreciated\, but not required – please click here to register.
URL:https://carnegiecarnegie.org/event/time-travelers-historical-fiction-book-club-the-ride-of-her-life/
LOCATION:Andrew Carnegie Free Library & Music Hall\, 300 Beechwood Avenue\, Carnegie\, PA\, 15106\, United States
CATEGORIES:2026,Past Event
ATTACH;FMTTYPE=image/jpeg:https://carnegiecarnegie.org/wp-content/uploads/2026/03/Time-Travelers-Historical-Fiction-book-club-slider1.jpg
END:VEVENT
BEGIN:VEVENT
DTSTART;TZID=America/New_York:20260419T120000
DTEND;TZID=America/New_York:20260419T150000
DTSTAMP:20260421T024018
CREATED:20260320T165850Z
LAST-MODIFIED:20260420T190802Z
UID:10001332-1776600000-1776610800@carnegiecarnegie.org
SUMMARY:Carnegie Celebrates Earth Day!
DESCRIPTION:Our Earth Day celebration returns for its sixth year! \n\n\n\nJoin us for a day of all-ages fun and learning with live animal encounters\, eco-crafts\, food vendors\, and all kinds of environmental education! \n\n\n\n\nExplore a mini-museum of nature with the Carnegie Museum of Natural History\n\n\n\nUpgrade your wardrobe with our second annual Free Clothing Market\n\n\n\nMeet live honeybees from a local bee-keeper\n\n\n\nLearn about water stewardship from Three Rivers Waterkeeper\n\n\n\nTalk bikes with members of BikePGH\n\n\n\nGet ready for gardening with our free seed library\n\n\n\nTour our Teaching Garden of Native Plants\n\n\n\nExplore nature with scavenger hunts\, crafts\, and challenges\n\n\n\n…and more!\n\n\n\n\nRegistration is not required for Earth Day – drop in any time!
URL:https://carnegiecarnegie.org/event/carnegie-celebrates-earth-day-2/
LOCATION:Andrew Carnegie Free Library & Music Hall\, 300 Beechwood Avenue\, Carnegie\, PA\, 15106\, United States
CATEGORIES:2026,Past Event
ATTACH;FMTTYPE=image/jpeg:https://carnegiecarnegie.org/wp-content/uploads/2026/03/Earth-day-slider.jpg
END:VEVENT
END:VCALENDAR