BEGIN:VCALENDAR
VERSION:2.0
PRODID:-//Andrew Carnegie Free Library &amp; Music Hall - ECPv6.15.20//NONSGML v1.0//EN
CALSCALE:GREGORIAN
METHOD:PUBLISH
X-ORIGINAL-URL:https://carnegiecarnegie.org
X-WR-CALDESC:Events for Andrew Carnegie Free Library &amp; Music Hall
REFRESH-INTERVAL;VALUE=DURATION:PT1H
X-Robots-Tag:noindex
X-PUBLISHED-TTL:PT1H
BEGIN:VTIMEZONE
TZID:America/New_York
BEGIN:DAYLIGHT
TZOFFSETFROM:-0500
TZOFFSETTO:-0400
TZNAME:EDT
DTSTART:20250309T070000
END:DAYLIGHT
BEGIN:STANDARD
TZOFFSETFROM:-0400
TZOFFSETTO:-0500
TZNAME:EST
DTSTART:20251102T060000
END:STANDARD
BEGIN:DAYLIGHT
TZOFFSETFROM:-0500
TZOFFSETTO:-0400
TZNAME:EDT
DTSTART:20260308T070000
END:DAYLIGHT
BEGIN:STANDARD
TZOFFSETFROM:-0400
TZOFFSETTO:-0500
TZNAME:EST
DTSTART:20261101T060000
END:STANDARD
BEGIN:DAYLIGHT
TZOFFSETFROM:-0500
TZOFFSETTO:-0400
TZNAME:EDT
DTSTART:20270314T070000
END:DAYLIGHT
BEGIN:STANDARD
TZOFFSETFROM:-0400
TZOFFSETTO:-0500
TZNAME:EST
DTSTART:20271107T060000
END:STANDARD
END:VTIMEZONE
BEGIN:VEVENT
DTSTART;TZID=America/New_York:20260319T173000
DTEND;TZID=America/New_York:20260319T190000
DTSTAMP:20260420T231911
CREATED:20260213T195514Z
LAST-MODIFIED:20260401T183818Z
UID:10001300-1773941400-1773946800@carnegiecarnegie.org
SUMMARY:Fluent Friends: Practice Speaking English with Literacy Pittsburgh
DESCRIPTION:Join our open-to-all English Conversation Practice Group — a friendly and welcoming space where people from all backgrounds can come together to practice speaking English in a relaxed\, supportive environment. Whether you’re a beginner or more advanced\, this group is about building confidence\, improving fluency\, and connecting with others through conversation. No pressure\, no judgment — just real talk and real people. Everyone is welcome! \n\n\n\nThis group meets every first Tuesday of the month from 10:00-11:30am\, and every third Thursday of the month from 5:30-7:00pm. Registration is not required — just drop in!
URL:https://carnegiecarnegie.org/event/fluent-friends-practice-speaking-english-with-literacy-pittsburgh-8/
LOCATION:Andrew Carnegie Free Library & Music Hall\, 300 Beechwood Avenue\, Carnegie\, PA\, 15106\, United States
CATEGORIES:2026,Past Event
ATTACH;FMTTYPE=image/jpeg:https://carnegiecarnegie.org/wp-content/uploads/2026/01/Fluent-Friends-slider.jpg
END:VEVENT
BEGIN:VEVENT
DTSTART;TZID=America/New_York:20260321T130000
DTEND;TZID=America/New_York:20260321T140000
DTSTAMP:20260420T231911
CREATED:20251229T165438Z
LAST-MODIFIED:20260323T201042Z
UID:10001254-1774098000-1774101600@carnegiecarnegie.org
SUMMARY:2nd Saturday Civil War Series: The Influence of Women: How Women Worked\, Served\, Sacrificed\, and Overcame during the Civil War\, with Katie Wolfe
DESCRIPTION:In Person in the Studio at ACFL&MH \n\n\n\nZoom: https://us02web.zoom.us/j/9370579279Meeting ID: 937 057 9279 \n\n\n\nDrawn from an 1862 Harper’s Weekly illustration of the same title\, “The Influence of Women” will explore the many ways in which women worked\, served\, sacrificed\, and overcame during the Civil War. Women were everywhere during the war\, serving both on the home front and on the front lines. This talk will include vignettes on… \n\n\n\n\nGone for a Soldier: Women Who Served\n\n\n\nHidden in Hair and Hoopskirts: Women as Spies\n\n\n\n“Brave and Faithful”: Marie Tepe\n\n\n\nThe War on the Homefront\n\n\n\n“The Angel on the Battlefield”: Nurses\, Doctors\, and Civilians\n\n\n\n“She Ranks Me”: Mother Bickerdyke \n\n\n\nA Mother’s Grief: The 62nd Pennsylvania\n\n\n\n“Just Before the Battle Mother”: Civil War Music as a Comfort \n\n\n\n\nKatie Wolfe is a proud member of the 62nd PA Volunteer Infantry Living History Family based in Armstrong County\, Pennsylvania. This living history family educates the public about the American Civil War and the 62nd PVI’s role in it through encampments and other programs both locally and in Gettysburg where the 62nd fought in the Wheatfield.  \n\n\n\nKatie lives in Indiana\, PA\, with her husband and two daughters\, and they enjoy participating in the 62nd together. Katie holds a Bachelor of Science in Music Education and a Master of Literacy degree from Indiana University of Pennsylvania. She is currently employed as the Program Coordinator at the Ford City Public Library. She also serves as Secretary on the Board of Directors for the Armstrong County Historical Society. Katie enjoys using her educational background to plan programs at her library\, at the historical society\, and with the 62nd. Her love of history\, particularly the American Civil War\, inspires her to share the stories of the soldiers and their families to keep the history alive.
URL:https://carnegiecarnegie.org/event/2nd-saturday-civil-war-series-the-influence-of-women-how-women-worked-served-sacrificed-and-overcame-during-the-civil-war-with-katie-wolfe/
LOCATION:Andrew Carnegie Free Library & Music Hall\, 300 Beechwood Avenue\, Carnegie\, PA\, 15106\, United States
CATEGORIES:2026,Past Event
ATTACH;FMTTYPE=image/png:https://carnegiecarnegie.org/wp-content/uploads/2025/12/MetaSlider-Web-Event-5.png
END:VEVENT
BEGIN:VEVENT
DTSTART;TZID=America/New_York:20260324T190000
DTEND;TZID=America/New_York:20260324T203000
DTSTAMP:20260420T231911
CREATED:20260217T163957Z
LAST-MODIFIED:20260401T183831Z
UID:10001305-1774378800-1774384200@carnegiecarnegie.org
SUMMARY:Carnegie's Legacy: The Evolution of Steel in Pittsburgh - with metallurgist Emily Grugan
DESCRIPTION:For over 150 years\, Pittsburgh has been known across the nation as the “Steel City.” From the early iterations of the steel industry\, to the boom of US steel production\, and ultimately to Pittsburgh’s current metals manufacturing environment\, the story of steel in Pittsburgh has seen the highest of highs and the lowest of lows. Join local metallurgist Emily Grugan for an insider’s perspective on the importance of Pittsburgh’s steel history. \n\n\n\nRegistration is appreciated\, but walk-ins are welcome. Please click here to register.
URL:https://carnegiecarnegie.org/event/carnegies-legacy-the-evolution-of-steel-in-pittsburgh-with-metallurgist-emily-grugan/
LOCATION:Andrew Carnegie Free Library & Music Hall\, 300 Beechwood Avenue\, Carnegie\, PA\, 15106\, United States
CATEGORIES:2026,Past Event
ATTACH;FMTTYPE=image/jpeg:https://carnegiecarnegie.org/wp-content/uploads/2026/02/Carnegies-Legacy1.jpg
END:VEVENT
BEGIN:VEVENT
DTSTART;TZID=America/New_York:20260328T100000
DTEND;TZID=America/New_York:20260328T160000
DTSTAMP:20260420T231911
CREATED:20260217T155517Z
LAST-MODIFIED:20260401T183842Z
UID:10001303-1774692000-1774713600@carnegiecarnegie.org
SUMMARY:Meeple Meet-Up: Euro-Gaming for Adults
DESCRIPTION:Do you like Terraforming Mars? Settlers of Catan? Agricola? Ark Nova? Or other “Euro” or Euro-flavored strategy games with wooden meeples\, worker placement\, tableau building\, and so forth? Come to the Library for an afternoon of board gaming! \n\n\n\nYou can also come if you are interested in learning how to play Euro board games. \n\n\n\nThis event is for gamers ages 18+. \n\n\n\nRegistration is not required to attend\, but it is recommended\, and those who register will get a link to our Discord server for any pre-game day discussions or suggestions. Please click here to register.
URL:https://carnegiecarnegie.org/event/meeple-meet-up-euro-gaming-for-adults-6/
LOCATION:Andrew Carnegie Free Library & Music Hall\, 300 Beechwood Avenue\, Carnegie\, PA\, 15106\, United States
CATEGORIES:2026,Past Event
ATTACH;FMTTYPE=image/jpeg:https://carnegiecarnegie.org/wp-content/uploads/2025/09/Adult-gaming-slider.jpg
END:VEVENT
BEGIN:VEVENT
DTSTART;TZID=America/New_York:20260328T133000
DTEND;TZID=America/New_York:20260328T150000
DTSTAMP:20260420T231911
CREATED:20260217T155815Z
LAST-MODIFIED:20260401T183902Z
UID:10001304-1774704600-1774710000@carnegiecarnegie.org
SUMMARY:Carnegie Modular Railroaders
DESCRIPTION:Join the Carnegie Modular Railroaders\, an all-ages group for anyone interested in model railroading! The mission of the Carnegie Modular Railroaders is to inspire and educate model railroaders of all ages through hands on learning\, collaborative layout building\, and shared exploration of the hobby. \n\n\n\nThe Carnegie Modular Railroaders meet one or two Saturdays a month at the Andrew Carnegie Free Library & Music Hall. For more information\, please contact Nick Yackovich at 412-667-0929 or nicholas.yackovich@comcast.net. \n\n\n\nAll ages are welcome. Registration is appreciated\, but walk-ins are welcome. Please click here to register.
URL:https://carnegiecarnegie.org/event/carnegie-modular-railroaders-2/
LOCATION:Andrew Carnegie Free Library & Music Hall\, 300 Beechwood Avenue\, Carnegie\, PA\, 15106\, United States
CATEGORIES:2026,Past Event
ATTACH;FMTTYPE=image/jpeg:https://carnegiecarnegie.org/wp-content/uploads/2026/01/Carnegie-Modular-Railroaders.jpg
END:VEVENT
BEGIN:VEVENT
DTSTART;TZID=America/New_York:20260330T190000
DTEND;TZID=America/New_York:20260330T210000
DTSTAMP:20260420T231911
CREATED:20260213T181715Z
LAST-MODIFIED:20260408T162814Z
UID:10001294-1774897200-1774904400@carnegiecarnegie.org
SUMMARY:Pittsburgh Classic Movie Club presents Noir Femmes Fatales: "Gilda" (1946)
DESCRIPTION:Join the Pittsburgh Classic Movie Club for a celebration of the great femmes fatales of cinema!  \n\n\n\nTonight: Gilda (1946)\, directed by Charles Vidor. When gambler Johnny Farrell (Glenn Ford) gets a new job in a Buenos Aires casino\, he quickly becomes re-entangled with his former lover – and formidable femme fatale – Gilda (Rita Hayworth). \n\n\n\nRegistration is appreciated\, but walk-ins are welcome. Please click here to register. \n\n\n\nJoin us for the rest of this series! \n\n\n\n\nMonday\, April 13: “The Big Heat” (1953)\n\n\n\nMonday\, April 27: “Pickup on South Street” (1953)\n\n\n\nMonday\, May 18: “The Postman Always Rings Twice” (1946)
URL:https://carnegiecarnegie.org/event/pittsburgh-classic-movie-club-presents-noir-femmes-fatales-gilda-1946/
LOCATION:Andrew Carnegie Free Library & Music Hall\, 300 Beechwood Avenue\, Carnegie\, PA\, 15106\, United States
CATEGORIES:2026,Past Event
ATTACH;FMTTYPE=image/jpeg:https://carnegiecarnegie.org/wp-content/uploads/2026/02/Gilda.jpg
END:VEVENT
BEGIN:VEVENT
DTSTART;TZID=America/New_York:20260402T180000
DTEND;TZID=America/New_York:20260402T200000
DTSTAMP:20260420T231911
CREATED:20260320T160337Z
LAST-MODIFIED:20260408T162831Z
UID:10001327-1775152800-1775160000@carnegiecarnegie.org
SUMMARY:Ukulele Strum-Along
DESCRIPTION:Come strum with us! Join Amber Rozel of Steel City Ukuleles for a free introduction to the simple\, versatile instrument known as the ukulele. Learn just a few simple chords\, and you’ll be able to play hundreds of songs – no prior experience needed\, and you don’t need to own your own ukulele! Meet other uke-enthusiasts and join our strum-along group! \n\n\n\nThe event will start with a special lesson for first-timers at 6:00 PM\, followed by a more advanced Beginner+ lesson from 6:45-7:15. If you already know your way around a ukulele\, join us from 7:15-8:00 for our group jam! \n\n\n\nThis group is intended for teens and adults. Registration is appreciated – please click here to register!
URL:https://carnegiecarnegie.org/event/ukulele-strum-along-23/
LOCATION:Andrew Carnegie Free Library & Music Hall\, 300 Beechwood Avenue\, Carnegie\, PA\, 15106\, United States
CATEGORIES:2026,Past Event
ATTACH;FMTTYPE=image/jpeg:https://carnegiecarnegie.org/wp-content/uploads/2026/03/Ukuleles-slider.jpg
END:VEVENT
BEGIN:VEVENT
DTSTART;TZID=America/New_York:20260404T100000
DTEND;TZID=America/New_York:20260404T113000
DTSTAMP:20260420T231911
CREATED:20260320T185920Z
LAST-MODIFIED:20260408T162840Z
UID:10001339-1775296800-1775302200@carnegiecarnegie.org
SUMMARY:From the Foxhole: Talks with Carnegie's Veterans - featuring US Army veteran Frank Palombi
DESCRIPTION:Carnegie is home to over 500 veterans. How well do you know them? \n\n\n\nIn our quarterly series “From the Foxhole: Talks with Carnegie’s Veterans\,” veteran and military researcher Richard Murphy shares live\, unscripted conversations with the veterans of our area about their experiences while serving. \n\n\n\nToday\, we’ll talk with US Army veteran Frank Palombi. \n\n\n\nVeterans and non-veterans are welcome. Ages 18+ only\, please. Registration is not required. \n\n\n\nListen to our first interview\, recorded on January 17\, 2026 with US Army veteran Effie Snyder!
URL:https://carnegiecarnegie.org/event/from-the-foxhole-talks-with-carnegies-veterans-featuring-us-army-veteran-frank-palombi/
LOCATION:Andrew Carnegie Free Library & Music Hall\, 300 Beechwood Avenue\, Carnegie\, PA\, 15106\, United States
CATEGORIES:2026,Past Event
ATTACH;FMTTYPE=image/jpeg:https://carnegiecarnegie.org/wp-content/uploads/2026/03/From-the-Foxhole-slider-1.jpg
END:VEVENT
BEGIN:VEVENT
DTSTART;TZID=America/New_York:20260407T100000
DTEND;TZID=America/New_York:20260407T113000
DTSTAMP:20260420T231911
CREATED:20260320T160839Z
LAST-MODIFIED:20260408T162853Z
UID:10001328-1775556000-1775561400@carnegiecarnegie.org
SUMMARY:Fluent Friends: Practice Speaking English with Literacy Pittsburgh
DESCRIPTION:Join our open-to-all English Conversation Practice Group — a friendly and welcoming space where people from all backgrounds can come together to practice speaking English in a relaxed\, supportive environment. Whether you’re a beginner or more advanced\, this group is about building confidence\, improving fluency\, and connecting with others through conversation. No pressure\, no judgment — just real talk and real people. Everyone is welcome! \n\n\n\nThis group meets every first Tuesday of the month from 10:00-11:30am\, and every third Thursday of the month from 5:30-7:00pm. Registration is not required — just drop in!
URL:https://carnegiecarnegie.org/event/fluent-friends-practice-speaking-english-with-literacy-pittsburgh-9/
LOCATION:Andrew Carnegie Free Library & Music Hall\, 300 Beechwood Avenue\, Carnegie\, PA\, 15106\, United States
CATEGORIES:2026,Past Event
ATTACH;FMTTYPE=image/jpeg:https://carnegiecarnegie.org/wp-content/uploads/2026/01/Fluent-Friends-slider.jpg
END:VEVENT
BEGIN:VEVENT
DTSTART;TZID=America/New_York:20260409T183000
DTEND;TZID=America/New_York:20260409T193000
DTSTAMP:20260420T231911
CREATED:20260320T161053Z
LAST-MODIFIED:20260413T193823Z
UID:10001329-1775759400-1775763000@carnegiecarnegie.org
SUMMARY:Paperback Platoon Book Club: "Reminders of Him"
DESCRIPTION:Calling all women veterans and family members: join us to connect with other women through a love of reading! \n\n\n\nPaperback Platoon is a book club for women filled with veterans\, service members\, and their families. Our goal is to build connection with each other through a shared interest and love for reading. This group meets on the second Thursday of each month from 6:30-7:30 PM. \n\n\n\nOur title for this meeting is Reminders of Him by Colleen Hoover. Copies of the book will be available for checkout at the Library’s circulation desk. \n\n\n\nJoin our BookClubs.com page or our Facebook group for more details or to register!
URL:https://carnegiecarnegie.org/event/paperback-platoon-book-club-reminders-of-him/
LOCATION:Andrew Carnegie Free Library & Music Hall\, 300 Beechwood Avenue\, Carnegie\, PA\, 15106\, United States
CATEGORIES:2026,Past Event
ATTACH;FMTTYPE=image/jpeg:https://carnegiecarnegie.org/wp-content/uploads/2026/03/Paperback-Platoon-slider1.jpg
END:VEVENT
BEGIN:VEVENT
DTSTART;TZID=America/New_York:20260410T100000
DTEND;TZID=America/New_York:20260411T170000
DTSTAMP:20260420T231911
CREATED:20260320T162818Z
LAST-MODIFIED:20260413T193840Z
UID:10001330-1775815200-1775926800@carnegiecarnegie.org
SUMMARY:South Hills Model Railroad Club Two-Day Track Display!
DESCRIPTION:Come see an amazing room-sized model railroad track display\, courtesy of the South Hills Model Railroad Club! \n\n\n\nFeaturing homes\, businesses\, landscape features\, and even a carnival\, this fully operational track creates its own tiny world to explore. \n\n\n\nMembers of the South Hills Model Railroad Club will be present on Friday\, April 10 and Saturday\, April 11 to discuss and explain the display. Drop in any time! \n\n\n\nPlus\, all visitors will receive a free raffle ticket to win a TYCO Chattanooga train set\, with steam locomotive\, six cars\, and a 17-piece bridge and trestle!
URL:https://carnegiecarnegie.org/event/south-hills-model-railroad-club-two-day-track-display/
LOCATION:Andrew Carnegie Free Library & Music Hall\, 300 Beechwood Avenue\, Carnegie\, PA\, 15106\, United States
CATEGORIES:2026,Past Event
ATTACH;FMTTYPE=image/jpeg:https://carnegiecarnegie.org/wp-content/uploads/2026/03/South-Hills.jpg
END:VEVENT
BEGIN:VEVENT
DTSTART;TZID=America/New_York:20260411T133000
DTEND;TZID=America/New_York:20260411T150000
DTSTAMP:20260420T231911
CREATED:20260320T163905Z
LAST-MODIFIED:20260413T193851Z
UID:10001331-1775914200-1775919600@carnegiecarnegie.org
SUMMARY:Carnegie Modular Railroaders
DESCRIPTION:Join the Carnegie Modular Railroaders\, an all-ages group for anyone interested in model railroading! The mission of the Carnegie Modular Railroaders is to inspire and educate model railroaders of all ages through hands on learning\, collaborative layout building\, and shared exploration of the hobby. \n\n\n\nThe Carnegie Modular Railroaders meet one or two Saturdays a month at the Andrew Carnegie Free Library & Music Hall. For more information\, please contact Nick Yackovich at 412-667-0929 or nicholas.yackovich@comcast.net. \n\n\n\nFor today’s session\, we will meet with members of the South Hills Model Railroad Club to learn about their track layout\, on display in the Lincoln Gallery on Friday April 10 and Saturday April 11. \n\n\n\nAll ages are welcome. Registration is appreciated\, but walk-ins are welcome. Please register below.
URL:https://carnegiecarnegie.org/event/carnegie-modular-railroaders-3/
LOCATION:Andrew Carnegie Free Library & Music Hall\, 300 Beechwood Avenue\, Carnegie\, PA\, 15106\, United States
CATEGORIES:2026,Past Event
ATTACH;FMTTYPE=image/jpeg:https://carnegiecarnegie.org/wp-content/uploads/2026/03/Carnegie-Modular-Railroaders.jpg
END:VEVENT
BEGIN:VEVENT
DTSTART;TZID=America/New_York:20260413T190000
DTEND;TZID=America/New_York:20260413T210000
DTSTAMP:20260420T231911
CREATED:20260213T193710Z
LAST-MODIFIED:20260415T154459Z
UID:10001296-1776106800-1776114000@carnegiecarnegie.org
SUMMARY:Pittsburgh Classic Movie Club presents Noir Femmes Fatales: "The Big Heat" (1953)
DESCRIPTION:Join the Pittsburgh Classic Movie Club for a celebration of the great femmes fatales of cinema!  \n\n\n\nTonight: The Big Heat (1953)\, directed by Fritz Lang. Glenn Ford is determined police detective Dave Bannion\, while Gloria Grahame stars as no-nonsense femme fatale Debby Marsh. \n\n\n\nRegistration is appreciated\, but walk-ins are welcome. Please click here to register. \n\n\n\nJoin us for the rest of this series! \n\n\n\n\nMonday\, April 27: “Pickup on South Street” (1953)\n\n\n\nMonday\, May 18: “The Postman Always Rings Twice” (1946)
URL:https://carnegiecarnegie.org/event/pittsburgh-classic-movie-club-presents-noir-femmes-fatales-the-big-heat-1953/
LOCATION:Andrew Carnegie Free Library & Music Hall\, 300 Beechwood Avenue\, Carnegie\, PA\, 15106\, United States
CATEGORIES:2026,Past Event
ATTACH;FMTTYPE=image/jpeg:https://carnegiecarnegie.org/wp-content/uploads/2026/02/The-Big-Heat1.jpg
END:VEVENT
BEGIN:VEVENT
DTSTART;TZID=America/New_York:20260416T110000
DTEND;TZID=America/New_York:20260416T120000
DTSTAMP:20260420T231911
CREATED:20260320T172051Z
LAST-MODIFIED:20260420T190738Z
UID:10001338-1776337200-1776340800@carnegiecarnegie.org
SUMMARY:Time Travelers Historical Fiction Book Club: "The Ride of Her Life"
DESCRIPTION:Join our historical fiction book group! We explore different eras of history\, offer our thoughts and responses\, and make new friendships as we share a different historical fiction title each month. \n\n\n\nThis group meets on the third Thursday of the month at 11:00am. \n\n\n\nThe title for this meeting will be The Ride of Her Life by Elizabeth Letts. Copies of the book will be available at the Library’s checkout desk. \n\n\n\nRegistration is appreciated\, but not required – please click here to register.
URL:https://carnegiecarnegie.org/event/time-travelers-historical-fiction-book-club-the-ride-of-her-life/
LOCATION:Andrew Carnegie Free Library & Music Hall\, 300 Beechwood Avenue\, Carnegie\, PA\, 15106\, United States
CATEGORIES:2026,Past Event
ATTACH;FMTTYPE=image/jpeg:https://carnegiecarnegie.org/wp-content/uploads/2026/03/Time-Travelers-Historical-Fiction-book-club-slider1.jpg
END:VEVENT
BEGIN:VEVENT
DTSTART;TZID=America/New_York:20260419T120000
DTEND;TZID=America/New_York:20260419T150000
DTSTAMP:20260420T231911
CREATED:20260320T165850Z
LAST-MODIFIED:20260420T190802Z
UID:10001332-1776600000-1776610800@carnegiecarnegie.org
SUMMARY:Carnegie Celebrates Earth Day!
DESCRIPTION:Our Earth Day celebration returns for its sixth year! \n\n\n\nJoin us for a day of all-ages fun and learning with live animal encounters\, eco-crafts\, food vendors\, and all kinds of environmental education! \n\n\n\n\nExplore a mini-museum of nature with the Carnegie Museum of Natural History\n\n\n\nUpgrade your wardrobe with our second annual Free Clothing Market\n\n\n\nMeet live honeybees from a local bee-keeper\n\n\n\nLearn about water stewardship from Three Rivers Waterkeeper\n\n\n\nTalk bikes with members of BikePGH\n\n\n\nGet ready for gardening with our free seed library\n\n\n\nTour our Teaching Garden of Native Plants\n\n\n\nExplore nature with scavenger hunts\, crafts\, and challenges\n\n\n\n…and more!\n\n\n\n\nRegistration is not required for Earth Day – drop in any time!
URL:https://carnegiecarnegie.org/event/carnegie-celebrates-earth-day-2/
LOCATION:Andrew Carnegie Free Library & Music Hall\, 300 Beechwood Avenue\, Carnegie\, PA\, 15106\, United States
CATEGORIES:2026,Past Event
ATTACH;FMTTYPE=image/jpeg:https://carnegiecarnegie.org/wp-content/uploads/2026/03/Earth-day-slider.jpg
END:VEVENT
END:VCALENDAR