BEGIN:VCALENDAR
VERSION:2.0
PRODID:-//Andrew Carnegie Free Library &amp; Music Hall - ECPv6.15.20//NONSGML v1.0//EN
CALSCALE:GREGORIAN
METHOD:PUBLISH
X-WR-CALNAME:Andrew Carnegie Free Library &amp; Music Hall
X-ORIGINAL-URL:https://carnegiecarnegie.org
X-WR-CALDESC:Events for Andrew Carnegie Free Library &amp; Music Hall
REFRESH-INTERVAL;VALUE=DURATION:PT1H
X-Robots-Tag:noindex
X-PUBLISHED-TTL:PT1H
BEGIN:VTIMEZONE
TZID:America/New_York
BEGIN:DAYLIGHT
TZOFFSETFROM:-0500
TZOFFSETTO:-0400
TZNAME:EDT
DTSTART:20240310T070000
END:DAYLIGHT
BEGIN:STANDARD
TZOFFSETFROM:-0400
TZOFFSETTO:-0500
TZNAME:EST
DTSTART:20241103T060000
END:STANDARD
BEGIN:DAYLIGHT
TZOFFSETFROM:-0500
TZOFFSETTO:-0400
TZNAME:EDT
DTSTART:20250309T070000
END:DAYLIGHT
BEGIN:STANDARD
TZOFFSETFROM:-0400
TZOFFSETTO:-0500
TZNAME:EST
DTSTART:20251102T060000
END:STANDARD
BEGIN:DAYLIGHT
TZOFFSETFROM:-0500
TZOFFSETTO:-0400
TZNAME:EDT
DTSTART:20260308T070000
END:DAYLIGHT
BEGIN:STANDARD
TZOFFSETFROM:-0400
TZOFFSETTO:-0500
TZNAME:EST
DTSTART:20261101T060000
END:STANDARD
END:VTIMEZONE
BEGIN:VEVENT
DTSTART;TZID=America/New_York:20251106T180000
DTEND;TZID=America/New_York:20251106T200000
DTSTAMP:20260420T193616
CREATED:20250926T185727Z
LAST-MODIFIED:20251107T173804Z
UID:10001199-1762452000-1762459200@carnegiecarnegie.org
SUMMARY:Ukulele Strum-Along
DESCRIPTION:Come strum with us! Join Amber Rozel of Steel City Ukuleles for a free introduction to the simple\, versatile instrument known as the ukulele. Learn just a few simple chords\, and you’ll be able to play hundreds of songs – no prior experience needed\, and you don’t need to own your own ukulele! Meet other uke-enthusiasts and join our strum-along group! \n\n\n\nThe event will start with a special lesson for first-timers at 6:00 PM. If you already know your way around a ukulele\, join us at 6:45 to play along! \n\n\n\nThis group is intended for teens and adults. Please click here to register!
URL:https://carnegiecarnegie.org/event/ukulele-strum-along-18/
LOCATION:Andrew Carnegie Free Library & Music Hall\, 300 Beechwood Avenue\, Carnegie\, PA\, 15106\, United States
CATEGORIES:2025,Past Event
ATTACH;FMTTYPE=image/png:https://carnegiecarnegie.org/wp-content/uploads/2024/08/Ukuleles-slider.png
END:VEVENT
BEGIN:VEVENT
DTSTART;TZID=America/New_York:20251107T180000
DTEND;TZID=America/New_York:20251107T210000
DTSTAMP:20260420T193616
CREATED:20251030T184043Z
LAST-MODIFIED:20251110T161950Z
UID:10001224-1762538400-1762549200@carnegiecarnegie.org
SUMMARY:Carnegie Crafters present Craft Night at the Movies: "Wicked" (2024)
DESCRIPTION:Calling all knitters\, crocheters\, embroiderers\, and fiber artists of every kind! Come join the Carnegie Crafters! We share advice and inspiration\, chat with new friends\, and work on our projects in a supportive group setting. \n\n\n\nTonight\, join us for a Craft Night at the Movies! Enjoy crafting while we watch Wicked (2024)\, with Cynthia Erivo and Ariana Grande. \n\n\n\nDoors open at 6:00 PM\, and the movie will start at 7:00 PM. \n\n\n\nNo craft? No problem! You are welcome to join\, but keep in mind that that the lights will be on. Please email carnegiecrafters@gmail.com with any questions. \n\n\n\nRegistration is not required – all are welcome!
URL:https://carnegiecarnegie.org/event/carnegie-crafters-present-craft-night-at-the-movies-wicked-2024/
LOCATION:Andrew Carnegie Free Library & Music Hall\, 300 Beechwood Avenue\, Carnegie\, PA\, 15106\, United States
CATEGORIES:2025,Past Event
ATTACH;FMTTYPE=image/jpeg:https://carnegiecarnegie.org/wp-content/uploads/2025/10/craft-night-at-the-movies4.jpg
END:VEVENT
BEGIN:VEVENT
DTSTART;TZID=America/New_York:20251108T110000
DTEND;TZID=America/New_York:20251108T130000
DTSTAMP:20260420T193616
CREATED:20251024T145348Z
LAST-MODIFIED:20251110T162004Z
UID:10001221-1762599600-1762606800@carnegiecarnegie.org
SUMMARY:Civil War Gaming: Dawn of Iron - The Battle of Cherbourg
DESCRIPTION:Join Pittsburgh wargamers Paul Lawson and Brian Palmer for a free introduction to historical tabletop wargaming! Command your troops and experience the strategy and tactics of the battles that determined our nation’s future. \n\n\n\nToday we play through the Battle of Cherbourg scenario of the game Dawn of Iron. Dawn of Iron is a low-to-medium-complexity wargame of naval combat\, designed by Mike Haught and suitable for ages 10+. No experience is necessary. Please join us! \n\n\n\nRegistration is appreciated\, but walk-ins are welcome. Please click here to register.
URL:https://carnegiecarnegie.org/event/civil-war-gaming-dawn-of-iron-the-battle-of-cherbourg/
LOCATION:Andrew Carnegie Free Library & Music Hall\, 300 Beechwood Avenue\, Carnegie\, PA\, 15106\, United States
CATEGORIES:2025,Past Event
ATTACH;FMTTYPE=image/jpeg:https://carnegiecarnegie.org/wp-content/uploads/2025/10/CW-gaming.jpg
END:VEVENT
BEGIN:VEVENT
DTSTART;TZID=America/New_York:20251108T130000
DTEND;TZID=America/New_York:20251108T140000
DTSTAMP:20260420T193616
CREATED:20250915T144328Z
LAST-MODIFIED:20251120T142450Z
UID:10001183-1762606800-1762610400@carnegiecarnegie.org
SUMMARY:2nd Saturday Civil War Series: The War That Never Was: Great Britain\, the U.S.\, and the Trent Affair with William Vodrey
DESCRIPTION:In Person in the Lincoln Gallery at ACFL&MH \n\n\n\nZoom: https://us02web.zoom.us/j/9370579279Meeting ID: 937 057 9279 \n\n\n\nThe U.S. Navy’s seizure of two Confederate diplomats\, James Murray Mason of Virginia and John Slidell of Louisiana\, from a British Royal Mail steamship off the coast of Cuba in November 1861 set off an international firestorm of controversy.  The crisis even threatened\, for several tense weeks\, to bring the British Empire into the Civil War on the side of the Confederacy.  Our speaker will explore the tangle of political\, diplomatic and naval issues involved\, and how President Lincoln (who is said to have remarked\, “One war at a time”) was able to resolve the dispute without the United States and the United Kingdom going to war for yet a third time. \n\n\n\nJudge William F.B. Vodrey serves on the Cuyahoga County Court of Common Pleas. Born and raised in East Liverpool\, Ohio\, he graduated with honors from Oberlin College and later received his law degree from Case Western Reserve University School of Law. He has been interested in presidential and military history for many years\, and often speaks on such topics to historical societies\, clubs and roundtables. He is a member of the Cleveland Civil War Roundtable\, American Battlefield Trust\, Ohio History Connection and Sons of the American Revolution.  He is also a former Civil War reenactor with the 51st Ohio Volunteer Infantry\, Co. B\, in which he skyrocketed in just five short years to the rank of corporal.  Judge Vodrey lives in Cleveland with his wife Susan; they have three grown sons.
URL:https://carnegiecarnegie.org/event/2nd-saturday-civil-war-series-the-war-that-never-was-great-britain-the-u-s-and-the-trent-affair-with-william-vodrey/
LOCATION:Andrew Carnegie Free Library & Music Hall\, 300 Beechwood Avenue\, Carnegie\, PA\, 15106\, United States
CATEGORIES:2025,Past Event
ATTACH;FMTTYPE=image/jpeg:https://carnegiecarnegie.org/wp-content/uploads/2025/09/MetaSlider-Web-Event-2.jpg
END:VEVENT
BEGIN:VEVENT
DTSTART;TZID=America/New_York:20251111T133000
DTEND;TZID=America/New_York:20251111T143000
DTSTAMP:20260420T193616
CREATED:20251029T173223Z
LAST-MODIFIED:20251111T190539Z
UID:10001222-1762867800-1762871400@carnegiecarnegie.org
SUMMARY:Veterans Day at the Carnegie Carnegie
DESCRIPTION:Join us on Veterans Day\, Tuesday\, November 11 at 1:30PM\, for our annual celebration honoring all who have served in the United States Armed Services. \n\n\n\nWe look forward to welcoming special guests from the American Legion Post 82\, 9th Pennsylvania Reserves\, Carnegie Elementary School\, and more. \n\n\n\nOur annual celebration will be held outside\, rain or shine\, with refreshments in the Lincoln Gallery afterwards. The Espy Post will be open for special tours during the event. We hope to see you there!
URL:https://carnegiecarnegie.org/event/veterans-day-at-the-carnegie-carnegie-2/
LOCATION:Andrew Carnegie Free Library & Music Hall\, 300 Beechwood Avenue\, Carnegie\, PA\, 15106\, United States
CATEGORIES:2025,Past Event
ATTACH;FMTTYPE=image/jpeg:https://carnegiecarnegie.org/wp-content/uploads/2025/10/8V7A1298.jpg
END:VEVENT
BEGIN:VEVENT
DTSTART;TZID=America/New_York:20251112T190000
DTEND;TZID=America/New_York:20251112T203000
DTSTAMP:20260420T193616
CREATED:20251014T194539Z
LAST-MODIFIED:20251113T150231Z
UID:10001217-1762974000-1762979400@carnegiecarnegie.org
SUMMARY:Embracing Our Differences: "Chasing Me to My Grave: An Artist’s Memoir of the Jim Crow South" by Winfred Rembert
DESCRIPTION:Join us for community conversations about diversity & inclusion! \n\n\n\nThis Fall\, we’re reading and discussing Chasing Me to My Grave: An Artist’s Memoir of the Jim Crow South by Winfred Rembert. Rembert relates the course of his life: working as a field laborer in Georgia\, participating in the Civil Rights Movement\, escaping a near-lynching\, and ultimately finding solace in art. \n\n\n\nCopies are available for checkout at the Library’s circulation desk. Pick up your copy of the book any time the Library is open! \n\n\n\nRegistration is appreciated – please click here to register!
URL:https://carnegiecarnegie.org/event/embracing-our-differences-chasing-me-to-my-grave-an-artists-memoir-of-the-jim-crow-south-by-winfred-rembert/
LOCATION:Andrew Carnegie Free Library & Music Hall\, 300 Beechwood Avenue\, Carnegie\, PA\, 15106\, United States
CATEGORIES:2025,Past Event
ATTACH;FMTTYPE=image/jpeg:https://carnegiecarnegie.org/wp-content/uploads/2025/10/Embracing-Our-Differences-Fall-2025.jpg
END:VEVENT
BEGIN:VEVENT
DTSTART;TZID=America/New_York:20251113T183000
DTEND;TZID=America/New_York:20251113T193000
DTSTAMP:20260420T193616
CREATED:20250926T190053Z
LAST-MODIFIED:20251114T192342Z
UID:10001200-1763058600-1763062200@carnegiecarnegie.org
SUMMARY:Paperback Platoon book club: "The Lost Bookshop"
DESCRIPTION:Calling all women veterans and family members: join us to connect with other women through a love of reading! \n\n\n\nPaperback Platoon is a book club for women filled with veterans\, service members\, and their families. Our goal is to build connection with each other through a shared interest and love for reading. This group meets on the second Thursday of each month from 6:30-7:30 PM. \n\n\n\nFor this month’s meeting\, we’ll discuss The Lost Bookshop by Evie Woods. Copies of the book will be available for checkout at the Library’s circulation desk. \n\n\n\nJoin our BookClubs.com page or our Facebook group for more details or to register!
URL:https://carnegiecarnegie.org/event/paperback-platoon-book-club-the-lost-bookshop/
LOCATION:Andrew Carnegie Free Library & Music Hall\, 300 Beechwood Avenue\, Carnegie\, PA\, 15106\, United States
CATEGORIES:2025,Past Event
ATTACH;FMTTYPE=image/jpeg:https://carnegiecarnegie.org/wp-content/uploads/2025/09/Paperback-Platoon-slider3.jpg
END:VEVENT
BEGIN:VEVENT
DTSTART;TZID=America/New_York:20251117T190000
DTEND;TZID=America/New_York:20251117T203000
DTSTAMP:20260420T193616
CREATED:20250903T170658Z
LAST-MODIFIED:20251120T181820Z
UID:10001174-1763406000-1763411400@carnegiecarnegie.org
SUMMARY:Knife Sharpening with Dennis Snedden: Thanksgiving Edition
DESCRIPTION:Look sharp – it’s a hands-on workshop on sharpening and caring for your knives! A well-sharpened edge is much safer and more effective than a dull one\, and with a little guidance\, anyone can learn to keep their knife edges in excellent condition. Experienced sharpener Dennis Snedden will teach participants how to keep their own knives sharp and ready to use. \n\n\n\nEach participant should bring two or three 5″-10″ kitchen knives (non-serrated); a diamond\, oil\, or water stone (if you have one); a honing rod or steel (if you have one); your knife edge questions; and a will to learn! You will learn the best and safest techniques for honing a fine edge. Come with dull knives – leave with safer\, sharper\, functional edges! \n\n\n\nNo ceramic knives\, hair or sewing scissors\, please. \n\n\n\nA suggested donation of $15 will be put towards funding the 2026 kids’ Summer Reading Program. Space is limited\, so please click here to register! 18 years and older\, please.
URL:https://carnegiecarnegie.org/event/knife-sharpening-with-dennis-snedden-thanksgiving-edition/
LOCATION:Andrew Carnegie Free Library & Music Hall\, 300 Beechwood Avenue\, Carnegie\, PA\, 15106\, United States
CATEGORIES:2025,Past Event
ATTACH;FMTTYPE=image/jpeg:https://carnegiecarnegie.org/wp-content/uploads/2025/09/Knife-Sharpening.jpg
END:VEVENT
BEGIN:VEVENT
DTSTART;TZID=America/New_York:20251118T100000
DTEND;TZID=America/New_York:20251118T113000
DTSTAMP:20260420T193616
CREATED:20251104T211313Z
LAST-MODIFIED:20251120T181908Z
UID:10001228-1763460000-1763465400@carnegiecarnegie.org
SUMMARY:Fluent Friends: Practice Speaking English with Literacy Pittsburgh
DESCRIPTION:Join our open-to-all English Conversation Practice Group — a friendly and welcoming space where people from all backgrounds can come together to practice speaking English in a relaxed\, supportive environment. Whether you’re a beginner or more advanced\, this group is about building confidence\, improving fluency\, and connecting with others through conversation. No pressure\, no judgment — just real talk and real people. Everyone is welcome! \n\n\n\nThis group meets every third Tuesday of the month from 10:00-11:30am\, and every third Thursday of the month from 5:30-7:00pm. Registration is not required — just drop in!
URL:https://carnegiecarnegie.org/event/fluent-friends-practice-speaking-english-with-literacy-pittsburgh/
LOCATION:Andrew Carnegie Free Library & Music Hall\, 300 Beechwood Avenue\, Carnegie\, PA\, 15106\, United States
CATEGORIES:2025,Past Event
ATTACH;FMTTYPE=image/jpeg:https://carnegiecarnegie.org/wp-content/uploads/2025/11/Fluent-Friends-slider.jpg
END:VEVENT
BEGIN:VEVENT
DTSTART;TZID=America/New_York:20251120T110000
DTEND;TZID=America/New_York:20251120T120000
DTSTAMP:20260420T193616
CREATED:20251017T154757Z
LAST-MODIFIED:20251120T181936Z
UID:10001219-1763636400-1763640000@carnegiecarnegie.org
SUMMARY:Time Travelers Book Group: "The Giver of Stars" by Jojo Moyes
DESCRIPTION:Join us for our historical fiction book group! We’ll explore different eras of history\, share our thoughts and responses\, and make new friendships as we share a different historical fiction title each month. \n\n\n\nThis group meets on the third Thursday of the month at 11:00am. \n\n\n\nFor this meeting\, we’ll discuss The Giver of Stars by Jojo Moyes. This novel\, set during America’s Great Depression\, follows five women who work as librarians\, delivering books to folks in the mountains of Kentucky. Copies of the book are available at the Library’s checkout desk. \n\n\n\nRegistration is appreciated\, but not required – please click here to register.
URL:https://carnegiecarnegie.org/event/historical-fiction-book-group-the-giver-of-stars-by-jojo-moyes/
LOCATION:Andrew Carnegie Free Library & Music Hall\, 300 Beechwood Avenue\, Carnegie\, PA\, 15106\, United States
CATEGORIES:2025,Past Event
ATTACH;FMTTYPE=image/jpeg:https://carnegiecarnegie.org/wp-content/uploads/2025/10/Historical-Fiction2.jpg
END:VEVENT
BEGIN:VEVENT
DTSTART;TZID=America/New_York:20251120T173000
DTEND;TZID=America/New_York:20251120T190000
DTSTAMP:20260420T193616
CREATED:20251105T214748Z
LAST-MODIFIED:20251124T145756Z
UID:10001229-1763659800-1763665200@carnegiecarnegie.org
SUMMARY:Fluent Friends: Practice Speaking English with Literacy Pittsburgh
DESCRIPTION:Join our open-to-all English Conversation Practice Group — a friendly and welcoming space where people from all backgrounds can come together to practice speaking English in a relaxed\, supportive environment. Whether you’re a beginner or more advanced\, this group is about building confidence\, improving fluency\, and connecting with others through conversation. No pressure\, no judgment — just real talk and real people. Everyone is welcome! \n\n\n\nThis group meets every third Tuesday of the month from 10:00-11:30am\, and every third Thursday of the month from 5:30-7:00pm. Registration is not required — just drop in!
URL:https://carnegiecarnegie.org/event/fluent-friends-practice-speaking-english-with-literacy-pittsburgh-2/
LOCATION:Andrew Carnegie Free Library & Music Hall\, 300 Beechwood Avenue\, Carnegie\, PA\, 15106\, United States
CATEGORIES:2025,Past Event
ATTACH;FMTTYPE=image/jpeg:https://carnegiecarnegie.org/wp-content/uploads/2025/11/Fluent-Friends-slider.jpg
END:VEVENT
BEGIN:VEVENT
DTSTART;TZID=America/New_York:20251122T120000
DTEND;TZID=America/New_York:20251122T160000
DTSTAMP:20260420T193616
CREATED:20251030T200742Z
LAST-MODIFIED:20251124T145830Z
UID:10001225-1763812800-1763827200@carnegiecarnegie.org
SUMMARY:Meeple Meet-Up: Euro-Gaming for Adults
DESCRIPTION:Do you like Terraforming Mars? Settlers of Catan? Agricola? Ark Nova? Or other “Euro” or Euro-flavored strategy games with wooden meeples\, worker placement\, tableau building\, and so forth? Come to the Library for an afternoon of board gaming! \n\n\n\nThis event is for gamers ages 18+\, and no experience is necessary. New players are welcome! \n\n\n\nRegistration is not required to attend\, but it is recommended\, and those who register will get a link to our Discord server for any pre-game day discussions or suggestions. Click here to register!
URL:https://carnegiecarnegie.org/event/meeple-meet-up-euro-gaming-for-adults-2/
LOCATION:Andrew Carnegie Free Library & Music Hall\, 300 Beechwood Avenue\, Carnegie\, PA\, 15106\, United States
CATEGORIES:2025,Past Event
ATTACH;FMTTYPE=image/jpeg:https://carnegiecarnegie.org/wp-content/uploads/2025/09/Adult-gaming-slider.jpg
END:VEVENT
BEGIN:VEVENT
DTSTART;TZID=America/New_York:20251122T140000
DTEND;TZID=America/New_York:20251122T150000
DTSTAMP:20260420T193616
CREATED:20251110T181329Z
LAST-MODIFIED:20251124T145847Z
UID:10001234-1763820000-1763823600@carnegiecarnegie.org
SUMMARY:Carnegie Model Railroad Club: Intro meeting
DESCRIPTION:Join model railroad hobbyist Nick Yackovich for the first meeting of the brand-new Carnegie Model Railroad Club! \n\n\n\nThis group for adults and kids aged 10+ will meet monthly to share knowledge\, learn from each other\, and design and build an original model railroad track layout. No experience is necessary. If you have any questions\, please contact Nick at nytweetums@comcast.net. \n\n\n\nRegistration is appreciated\, but not required. Please click here to register!
URL:https://carnegiecarnegie.org/event/carnegie-model-railroad-club-intro-meeting/
LOCATION:Andrew Carnegie Free Library & Music Hall\, 300 Beechwood Avenue\, Carnegie\, PA\, 15106\, United States
CATEGORIES:2025,Past Event
ATTACH;FMTTYPE=image/jpeg:https://carnegiecarnegie.org/wp-content/uploads/2025/11/Carnegie-Model-Railroad-Club.jpg
END:VEVENT
BEGIN:VEVENT
DTSTART;TZID=America/New_York:20251125T190000
DTEND;TZID=America/New_York:20251125T210000
DTSTAMP:20260420T193616
CREATED:20250926T184915Z
LAST-MODIFIED:20251202T155034Z
UID:10001197-1764097200-1764104400@carnegiecarnegie.org
SUMMARY:Pittsburgh Classic Movie Club presents Robert Mitchum Classics: "The Grass is Greener" (1960)
DESCRIPTION:Join the Pittsburgh Classic Movie Club as we celebrate the legendary Robert Mitchum!  \n\n\n\nTonight: The Grass is Greener (1960)\, directed by Stanley Donen. Mitchum plays a wealthy oil tycoon who falls for the married proprietress of the crumbling manor that he tours while vacationing in England. This sophisticated romantic comedy also stars Cary Grant and Deborah Kerr. \n\n\n\nRegistration is appreciated\, but walk-ins are welcome. Please click here to register.
URL:https://carnegiecarnegie.org/event/pittsburgh-classic-movie-club-presents-robert-mitchum-classics-the-grass-is-greener-1960/
LOCATION:Andrew Carnegie Free Library & Music Hall\, 300 Beechwood Avenue\, Carnegie\, PA\, 15106\, United States
CATEGORIES:2025,Past Event
ATTACH;FMTTYPE=image/jpeg:https://carnegiecarnegie.org/wp-content/uploads/2025/09/2.jpg
END:VEVENT
END:VCALENDAR