BEGIN:VCALENDAR
VERSION:2.0
PRODID:-//Andrew Carnegie Free Library &amp; Music Hall - ECPv6.15.20//NONSGML v1.0//EN
CALSCALE:GREGORIAN
METHOD:PUBLISH
X-WR-CALNAME:Andrew Carnegie Free Library &amp; Music Hall
X-ORIGINAL-URL:https://carnegiecarnegie.org
X-WR-CALDESC:Events for Andrew Carnegie Free Library &amp; Music Hall
REFRESH-INTERVAL;VALUE=DURATION:PT1H
X-Robots-Tag:noindex
X-PUBLISHED-TTL:PT1H
BEGIN:VTIMEZONE
TZID:America/New_York
BEGIN:DAYLIGHT
TZOFFSETFROM:-0500
TZOFFSETTO:-0400
TZNAME:EDT
DTSTART:20240310T070000
END:DAYLIGHT
BEGIN:STANDARD
TZOFFSETFROM:-0400
TZOFFSETTO:-0500
TZNAME:EST
DTSTART:20241103T060000
END:STANDARD
BEGIN:DAYLIGHT
TZOFFSETFROM:-0500
TZOFFSETTO:-0400
TZNAME:EDT
DTSTART:20250309T070000
END:DAYLIGHT
BEGIN:STANDARD
TZOFFSETFROM:-0400
TZOFFSETTO:-0500
TZNAME:EST
DTSTART:20251102T060000
END:STANDARD
BEGIN:DAYLIGHT
TZOFFSETFROM:-0500
TZOFFSETTO:-0400
TZNAME:EDT
DTSTART:20260308T070000
END:DAYLIGHT
BEGIN:STANDARD
TZOFFSETFROM:-0400
TZOFFSETTO:-0500
TZNAME:EST
DTSTART:20261101T060000
END:STANDARD
END:VTIMEZONE
BEGIN:VEVENT
DTSTART;TZID=America/New_York:20250802T100000
DTEND;TZID=America/New_York:20250816T170000
DTSTAMP:20260421T004425
CREATED:20250714T192243Z
LAST-MODIFIED:20250818T153252Z
UID:10001145-1754128800-1755363600@carnegiecarnegie.org
SUMMARY:Carnegie Artists Showcase
DESCRIPTION:Celebrate our community’s creativity with the Carnegie Artists Showcase! Visit the Library’s Studio between August 2 and 16 to experience an eclectic collection of over twenty original artworks by Carnegie-based artists! From painting and illustration to sculpture\, ceramics\, and pop culture infographic designs\, this is an exhibit with something for everyone. \n\n\n\nFeatured artists include Phil Salvato of 3rd Street Gallery; Dave Klug of Double Dog Studio; Bernadette Kazmarski; Ron Mahoney; Eva Trout of Firebox Art Studios; watercolor fantasist Kathleen Zimbicki; Anthony Vitale; Dave Columbus; and icon artist Michael Kapeluck. \n\n\n\nAdmission is free during all regular Library hours; donations will be gratefully accepted. Registration is not required to visit the Artists Showcase. Plus\, don’t miss the exhibit’s official opening event at 6:00 PM on Tuesday\, August 5\, with the Steel City Ukuleles in concert!
URL:https://carnegiecarnegie.org/event/carnegie-artists-showcase/
LOCATION:Andrew Carnegie Free Library & Music Hall\, 300 Beechwood Avenue\, Carnegie\, PA\, 15106\, United States
CATEGORIES:2025,Past Event
ATTACH;FMTTYPE=image/jpeg:https://carnegiecarnegie.org/wp-content/uploads/2025/07/Carnegie-Artists-Showcase.jpg
END:VEVENT
BEGIN:VEVENT
DTSTART;TZID=America/New_York:20250805T180000
DTEND;TZID=America/New_York:20250805T203000
DTSTAMP:20260421T004425
CREATED:20250617T174702Z
LAST-MODIFIED:20250805T233200Z
UID:10001134-1754416800-1754425800@carnegiecarnegie.org
SUMMARY:Carnegie Artists Showcase Opening Reception & Ukulele Concert
DESCRIPTION:Come hear the Library’s very own Ukulele Strum-Along group live in concert! Tonight\, group members present several selections from their repertoire\, accompanied by other members of Steel City Ukuleles. Enjoy the music\, nibble a few refreshments\, and explore the ongoing Studio exhibition of the Carnegie Artist Showcase. \n\n\n\nWant to participate? It’s easy to learn the ukulele! For any newcomers\, we’ll hold a special mini-lesson from 6:00-6:30 PM\, and the concert will start at 6:45 PM. \n\n\n\nRegistration is appreciated\, but walk-ins are welcome! Please click here to register.
URL:https://carnegiecarnegie.org/event/ukulele-strum-along-live-in-concert/
LOCATION:Andrew Carnegie Free Library & Music Hall\, 300 Beechwood Avenue\, Carnegie\, PA\, 15106\, United States
CATEGORIES:2025,Past Event
ATTACH;FMTTYPE=image/jpeg:https://carnegiecarnegie.org/wp-content/uploads/2025/06/Ukulele-concert.jpg
END:VEVENT
BEGIN:VEVENT
DTSTART;TZID=America/New_York:20250808T130000
DTEND;TZID=America/New_York:20250808T143000
DTSTAMP:20260421T004425
CREATED:20250522T202932Z
LAST-MODIFIED:20250814T165903Z
UID:10001104-1754658000-1754663400@carnegiecarnegie.org
SUMMARY:Teen Crafternoons: Block Prints
DESCRIPTION:Thanks to a generous grant from the Grable Foundation\, the Carnegie Carnegie is home to a brand new Afterschool Creation Station—just for teens! \n\n\n\nThe Creation Station features 14 creative kits that you can use to make things\, express yourself\, and learn new skills anytime that you come to the library! \n\n\n\nThis program is designed to give you a taste of what you can do with these kits. Today we will try out block printing! \n\n\n\nRegistration is appreciated – please click here to register!
URL:https://carnegiecarnegie.org/event/teen-crafternoons-block-prints/
LOCATION:Andrew Carnegie Free Library & Music Hall\, 300 Beechwood Avenue\, Carnegie\, PA\, 15106\, United States
CATEGORIES:2025,Past Event
ATTACH;FMTTYPE=image/png:https://carnegiecarnegie.org/wp-content/uploads/2025/05/Thanks-to-a-generous-grant-from-the-Grable-Foundation-the-Carnegie-Carnegie-is-home-to-a-brand-new-Afterschool-Creation-Station-—just-for-teens3.png
END:VEVENT
BEGIN:VEVENT
DTSTART;TZID=America/New_York:20250813T190000
DTEND;TZID=America/New_York:20250813T203000
DTSTAMP:20260421T004425
CREATED:20250627T194052Z
LAST-MODIFIED:20250927T200009Z
UID:10001144-1755111600-1755117000@carnegiecarnegie.org
SUMMARY:Embracing Our Differences: "Dear America: Notes of an Undocumented Citizen" by Jose Antonio Vargas
DESCRIPTION:Join us for community conversations about diversity & inclusion! \n\n\n\nThis Summer\, we’re reading and discussing Dear America: Notes of an Undocumented Citizen by Jose Antonio Vargas. Writing with power and poetry\, Pultizer Prize-winning journalist Vargas considers the emotional and psychological toll of living undocumented in America\, the struggles faced by immigrant individuals and families\, and the mutable nature of our ideas of “home.” Michelle Alexander\, author of The New Jim Crow\, writes “This riveting\, courageous memoir ought to be mandatory reading for every American.” \n\n\n\nCopies are available for checkout at the Library’s circulation desk. Pick up your copy of the book any time the Library is open! \n\n\n\nRegistration is appreciated – please click here to register.
URL:https://carnegiecarnegie.org/event/embracing-our-differences-dear-america-notes-of-an-undocumented-citizen-by-jose-antonio-vargas/
LOCATION:Andrew Carnegie Free Library & Music Hall\, 300 Beechwood Avenue\, Carnegie\, PA\, 15106\, United States
CATEGORIES:2025,Past Event
ATTACH;FMTTYPE=image/jpeg:https://carnegiecarnegie.org/wp-content/uploads/2025/06/Embracing-Our-Differences.jpg
END:VEVENT
BEGIN:VEVENT
DTSTART;TZID=America/New_York:20250816T113000
DTEND;TZID=America/New_York:20250816T133000
DTSTAMP:20260421T004425
CREATED:20250731T172117Z
LAST-MODIFIED:20250909T153053Z
UID:10001147-1755343800-1755351000@carnegiecarnegie.org
SUMMARY:End-of-Summer Reading Celebration!
DESCRIPTION:Join us on Saturday\, August 16th to celebrate our Summer Reading achievements and get ready for a new school year! We have a number of exciting activities you can participate in: \n\n\n\n\nCool down with Kona Ice from 11:30 – 12:30 pm!\n\n\n\nChallenge your friends and family to lawn games!\n\n\n\nEnjoy light refreshments!\n\n\n\nHop aboard the Pittsburgh Science Workshop‘s Science Bus!\n\n\n\nTouch-a-Firetruck with the Carnegie Volunteer Fire & Rescue Bureau!\n\n\n\nGet ready for school with B.R.I.D.G.E. People’s annual school supply giveaway!\n\n\n\n… and more!\n\n\n\n\nParking: The Library’s parking lot will be closed for this event. Please plan to park on Beechwood Ave. or surrounding streets. \n\n\n\nThere will also be a Summer Reading Awards Ceremony\, beginning at 1:00 pm. Here we will recognize all who participated in our 2025 Summer Reading program\, our Super Readers who completed the 900 minute challenge\, and announce the names of our Summer Reading prize winners! \n\n\n\nDon’t forget to log ALL of your minutes and allocate tickets in Beanstack prior to this event! Friday\, August 15th is the deadline for logging and ticket allocation. \n\n\n\nPlease note that you do not have to be present at this event to receive a prize. Winners who are not present at the time of the announcement will be contacted at a later time.
URL:https://carnegiecarnegie.org/event/end-of-summer-reading-celebration/
LOCATION:Andrew Carnegie Free Library & Music Hall\, 300 Beechwood Avenue\, Carnegie\, PA\, 15106\, United States
CATEGORIES:2025,Past Event
ATTACH;FMTTYPE=image/png:https://carnegiecarnegie.org/wp-content/uploads/2025/07/SR-End-of-Summer-Celebration-650-x-450-px-2-1.png
END:VEVENT
BEGIN:VEVENT
DTSTART;TZID=America/New_York:20250816T140000
DTEND;TZID=America/New_York:20250816T150000
DTSTAMP:20260421T004425
CREATED:20250624T150729Z
LAST-MODIFIED:20250818T144847Z
UID:10001141-1755352800-1755356400@carnegiecarnegie.org
SUMMARY:Bumps\, Births\, and Beyond: How Doulas Support Pregnancy and Childbirth
DESCRIPTION:Note: this program has been canceled due to unforeseen circumstances. Our apologies! \n\n\n\nJoin us for this engaging doula information session with Full Spectrum Doula Emonie Smith! Whether you’re expecting\, supporting a loved one\, or simply curious\, this event is your chance to learn about the magic of doula care\, ask questions\, and explore how doulas can make a difference during pregnancy and childbirth. Let’s empower each other\, one bump at a time! \n\n\n\nRegistration is appreciated\, but walk-ins are welcome. Please click here to register!
URL:https://carnegiecarnegie.org/event/bumps-births-and-beyond-how-doulas-support-pregnancy-and-childbirth/
LOCATION:Andrew Carnegie Free Library & Music Hall\, 300 Beechwood Avenue\, Carnegie\, PA\, 15106\, United States
CATEGORIES:2025,Past Event
ATTACH;FMTTYPE=image/jpeg:https://carnegiecarnegie.org/wp-content/uploads/2025/06/Emonie-doulas.jpg
END:VEVENT
BEGIN:VEVENT
DTSTART;TZID=America/New_York:20250816T180000
DTEND;TZID=America/New_York:20250816T210000
DTSTAMP:20260421T004425
CREATED:20250804T161303Z
LAST-MODIFIED:20250818T150549Z
UID:10001148-1755367200-1755378000@carnegiecarnegie.org
SUMMARY:Carnegie Crafters presents Craft Night at the Movies: "The Princess Bride" (1987)
DESCRIPTION:Calling all knitters\, crocheters\, embroiderers\, and fiber artists of every kind! Come join the Carnegie Crafters! We share advice and inspiration\, chat with new friends\, and work on our projects in a supportive group setting. \n\n\n\nTonight\, join us for a Craft Night at the Movies! Enjoy crafting while we watch the classic The Princess Bride (1987)\, with Cary Elwes\, Robin Wright\, and Mandy Patinkin. \n\n\n\nWhat makes this Craft Night at the Movies different? Due to ongoing renovations in our Music Hall\, this movie will be held in our lower level Studio. Bonus: this means that you can bring snacks and drinks! (No alcohol though\, please.) \n\n\n\nDoors open at 6:00 PM\, and the movie will start at 7:00 PM. \n\n\n\nNo craft? No problem! You are welcome to join\, but keep in mind that that the lights will be on. Please email carnegiecrafters@gmail.com with any questions. \n\n\n\nRegistration is not required – all are welcome!
URL:https://carnegiecarnegie.org/event/craft-night-at-the-movies/
LOCATION:Andrew Carnegie Free Library & Music Hall\, 300 Beechwood Avenue\, Carnegie\, PA\, 15106\, United States
CATEGORIES:2025,Past Event
ATTACH;FMTTYPE=image/jpeg:https://carnegiecarnegie.org/wp-content/uploads/2025/08/craft-night-at-the-movies2.jpg
END:VEVENT
BEGIN:VEVENT
DTSTART;TZID=America/New_York:20250823T110000
DTEND;TZID=America/New_York:20250823T120000
DTSTAMP:20260421T004425
CREATED:20250808T183738Z
LAST-MODIFIED:20250826T145817Z
UID:10001157-1755946800-1755950400@carnegiecarnegie.org
SUMMARY:Native Plants Teaching Garden: Grand opening
DESCRIPTION:Come learn about the Library and Music Hall’s newest outdoors feature: our Native Plants Teaching Garden! \n\n\n\nGenerously funded by the Gismondi Foundation\, this collection of forty different Pennsylvania native plant varieties was designed and constructed as an Eagle Scout project by Carlynton eleventh-grader Jackson Keeney\, with assistance from community member and native plants expert Chris Litherland. \n\n\n\nJoin us this morning for an official opening of the Garden\, learn about the plant varieties in it\, enjoy some light refreshments\, and find out how you can increase the biodiversity of your own lawn! \n\n\n\nNo registration is required.
URL:https://carnegiecarnegie.org/event/native-plants-teaching-garden-grand-opening/
LOCATION:Andrew Carnegie Free Library & Music Hall\, 300 Beechwood Avenue\, Carnegie\, PA\, 15106\, United States
CATEGORIES:2025,Past Event
ATTACH;FMTTYPE=image/jpeg:https://carnegiecarnegie.org/wp-content/uploads/2025/08/Native-plants-1.jpg
END:VEVENT
BEGIN:VEVENT
DTSTART;TZID=America/New_York:20250827T100000
DTEND;TZID=America/New_York:20250925T190000
DTSTAMP:20260421T004425
CREATED:20250626T202128Z
LAST-MODIFIED:20250925T210835Z
UID:10001143-1756288800-1758826800@carnegiecarnegie.org
SUMMARY:Conscience and Coercion: The Early Protestants of Amiens\, 1530-1650; Traces of Their Lives
DESCRIPTION:Explore acts of resistance and official persecution of French Protestants during the early Reformation. This new exhibit from the research of Dr. David Rosenberg features the signatures of over 100 Protestants of Amiens\, France\, as well as the records of their official targeting for heresy. \n\n\n\nThis research demonstrates how French political and religious leaders surveilled and persecuted members of this new minority\, while also illuminating the experiences of the Protestants themselves\, including interrogations\, exile\, execution\, and book burnings\, as well as acts of resistance through civil disobedience.  \n\n\n\nThis exhibit will be on display in the 2nd Floor Lincoln Gallery from August 27 through September 25 during regular Library hours. Registration is not required. Learn more about this project at www.protestantsofamiens.com. \n\n\n\nDr. David Rosenberg received a Ph.D. in European History from Yale University with a dissertation on the Protestant movement in Amiens in the 16th century\, focusing on the attitudes of weavers and wool combers towards Protestantism. The exhibit “Conscience and Coercion” represents over fifty years of archival research on this topic. In 2013 Dr. Rosenberg was named a Knight in the Order of Arts and Letters by the French government\, and he received the Medal of the City of Amiens in 2023 for his contributions to the history and memory of that region.
URL:https://carnegiecarnegie.org/event/conscience-and-coercion-the-early-protestants-of-amiens-1530-1650-traces-of-their-lives/
LOCATION:Andrew Carnegie Free Library & Music Hall\, 300 Beechwood Avenue\, Carnegie\, PA\, 15106\, United States
CATEGORIES:2025,Past Event
ATTACH;FMTTYPE=image/jpeg:https://carnegiecarnegie.org/wp-content/uploads/2025/06/Conscience-and-Coercion-slider.jpg
END:VEVENT
END:VCALENDAR