BEGIN:VCALENDAR
VERSION:2.0
PRODID:-//Andrew Carnegie Free Library &amp; Music Hall - ECPv6.15.20//NONSGML v1.0//EN
CALSCALE:GREGORIAN
METHOD:PUBLISH
X-ORIGINAL-URL:https://carnegiecarnegie.org
X-WR-CALDESC:Events for Andrew Carnegie Free Library &amp; Music Hall
REFRESH-INTERVAL;VALUE=DURATION:PT1H
X-Robots-Tag:noindex
X-PUBLISHED-TTL:PT1H
BEGIN:VTIMEZONE
TZID:America/New_York
BEGIN:DAYLIGHT
TZOFFSETFROM:-0500
TZOFFSETTO:-0400
TZNAME:EDT
DTSTART:20240310T070000
END:DAYLIGHT
BEGIN:STANDARD
TZOFFSETFROM:-0400
TZOFFSETTO:-0500
TZNAME:EST
DTSTART:20241103T060000
END:STANDARD
BEGIN:DAYLIGHT
TZOFFSETFROM:-0500
TZOFFSETTO:-0400
TZNAME:EDT
DTSTART:20250309T070000
END:DAYLIGHT
BEGIN:STANDARD
TZOFFSETFROM:-0400
TZOFFSETTO:-0500
TZNAME:EST
DTSTART:20251102T060000
END:STANDARD
BEGIN:DAYLIGHT
TZOFFSETFROM:-0500
TZOFFSETTO:-0400
TZNAME:EDT
DTSTART:20260308T070000
END:DAYLIGHT
BEGIN:STANDARD
TZOFFSETFROM:-0400
TZOFFSETTO:-0500
TZNAME:EST
DTSTART:20261101T060000
END:STANDARD
END:VTIMEZONE
BEGIN:VEVENT
DTSTART;TZID=America/New_York:20250602T163000
DTEND;TZID=America/New_York:20250602T183000
DTSTAMP:20260421T041051
CREATED:20250422T182851Z
LAST-MODIFIED:20250620T142750Z
UID:10001076-1748881800-1748889000@carnegiecarnegie.org
SUMMARY:Monarch Butterfly Project: Student Art Workshop
DESCRIPTION:Each year\, Carnegie Mayor Stacie Riley’s “Mayor’s Monarch Pledge” with the National Wildlife Foundation requires a public art action. \n\n\n\nThis year\, students of all ages are invited to create artwork inspired by monarch butterfly conservation! \n\n\n\nCreations will be displayed at the Andrew Carnegie Free Library & Music Hall and in local businesses throughout the month of August to raise awareness and celebrate monarchs. \n\n\n\nThere are three art-making sessions scheduled: Mondays\, May 19th\, June 2nd\, and June 9th. Come to one session or all three! \n\n\n\nAll art supplies will be provided. Just bring your imagination and let your art inspire others to protect monarch habitats.
URL:https://carnegiecarnegie.org/event/monarch-butterfly-project-student-art-workshop/2025-06-02/
LOCATION:Andrew Carnegie Free Library & Music Hall\, 300 Beechwood Avenue\, Carnegie\, PA\, 15106\, United States
CATEGORIES:2025,Past Event
ATTACH;FMTTYPE=image/png:https://carnegiecarnegie.org/wp-content/uploads/2025/04/Copy-of-Lets-play-1.png
END:VEVENT
BEGIN:VEVENT
DTSTART;TZID=America/New_York:20250605T180000
DTEND;TZID=America/New_York:20250605T200000
DTSTAMP:20260421T041051
CREATED:20250513T180353Z
LAST-MODIFIED:20250606T143712Z
UID:10001086-1749146400-1749153600@carnegiecarnegie.org
SUMMARY:Ukulele Strum-Along
DESCRIPTION:Come strum with us! Join Amber Rozel of Steel City Ukuleles for a free introduction to the simple\, versatile instrument known as the ukulele. Learn just a few simple chords\, and you’ll be able to play hundreds of songs – no prior experience needed\, and you don’t need to own your own ukulele! Meet other uke-enthusiasts and join our strum-along group! \n\n\n\nThe event will start with a special lesson for first-timers at 6:00 PM. If you already know your way around a ukulele\, join us at 6:45 to play along! \n\n\n\nThis group is intended for teens and adults. Please click here to register!
URL:https://carnegiecarnegie.org/event/ukulele-strum-along-14/
LOCATION:Andrew Carnegie Free Library & Music Hall\, 300 Beechwood Avenue\, Carnegie\, PA\, 15106\, United States
CATEGORIES:2025,Past Event
ATTACH;FMTTYPE=image/png:https://carnegiecarnegie.org/wp-content/uploads/2024/08/Ukuleles-slider.png
END:VEVENT
BEGIN:VEVENT
DTSTART;TZID=America/New_York:20250609T163000
DTEND;TZID=America/New_York:20250609T183000
DTSTAMP:20260421T041051
CREATED:20250422T182851Z
LAST-MODIFIED:20250620T142750Z
UID:10001077-1749486600-1749493800@carnegiecarnegie.org
SUMMARY:Monarch Butterfly Project: Student Art Workshop
DESCRIPTION:Each year\, Carnegie Mayor Stacie Riley’s “Mayor’s Monarch Pledge” with the National Wildlife Foundation requires a public art action. \n\n\n\nThis year\, students of all ages are invited to create artwork inspired by monarch butterfly conservation! \n\n\n\nCreations will be displayed at the Andrew Carnegie Free Library & Music Hall and in local businesses throughout the month of August to raise awareness and celebrate monarchs. \n\n\n\nThere are three art-making sessions scheduled: Mondays\, May 19th\, June 2nd\, and June 9th. Come to one session or all three! \n\n\n\nAll art supplies will be provided. Just bring your imagination and let your art inspire others to protect monarch habitats.
URL:https://carnegiecarnegie.org/event/monarch-butterfly-project-student-art-workshop/2025-06-09/
LOCATION:Andrew Carnegie Free Library & Music Hall\, 300 Beechwood Avenue\, Carnegie\, PA\, 15106\, United States
CATEGORIES:2025,Past Event
ATTACH;FMTTYPE=image/png:https://carnegiecarnegie.org/wp-content/uploads/2025/04/Copy-of-Lets-play-1.png
END:VEVENT
BEGIN:VEVENT
DTSTART;TZID=America/New_York:20250610T163000
DTEND;TZID=America/New_York:20250610T183000
DTSTAMP:20260421T041051
CREATED:20250428T163516Z
LAST-MODIFIED:20250611T170730Z
UID:10001082-1749573000-1749580200@carnegiecarnegie.org
SUMMARY:Free Legal Advice Clinic with the Allegheny County Bar Foundation's Pro Bono Center
DESCRIPTION:Join us for a Free Legal Advice Clinic on Tuesday\, June 10th\, from 4:30 PM to 6:30 PM! \n\n\n\nAttorneys from the Allegheny County Bar Foundation’s Pro Bono Center will be available for thirty-minute appointments to provide free legal advice. \n\n\n\nTo request an appointment\, please call the library directly at 412-276-3456 or email Library Director Walker Evans. Be prepared to share your name\, contact information\, and the topic of your legal questions. \n\n\n\nSpots are limited\, so don’t wait to schedule your appointment! We look forward to seeing you on June 10th!
URL:https://carnegiecarnegie.org/event/free-legal-advice-clinic-with-the-allegheny-county-bar-foundations-pro-bono-center/
LOCATION:Andrew Carnegie Free Library & Music Hall\, 300 Beechwood Avenue\, Carnegie\, PA\, 15106\, United States
CATEGORIES:2025,Past Event
ATTACH;FMTTYPE=image/png:https://carnegiecarnegie.org/wp-content/uploads/2024/01/Legal-advice-slider.png
END:VEVENT
BEGIN:VEVENT
DTSTART;TZID=America/New_York:20250614T110000
DTEND;TZID=America/New_York:20250614T130000
DTSTAMP:20260421T041051
CREATED:20250428T164037Z
LAST-MODIFIED:20250617T141440Z
UID:10001083-1749898800-1749906000@carnegiecarnegie.org
SUMMARY:Civil War Gaming: Battle Cry - Gettysburg
DESCRIPTION:Join Pittsburgh wargamer Paul Lawson for a free introduction to historical tabletop wargaming! Command your troops and experience the strategy and tactics of the battles that determined our nation’s future. \n\n\n\nToday we’ll explore Gettysburg scenarios in Battle Cry. Battle Cry is a low-complexity wargame published by Avalon Hill and suitable for ages 10+. No experience is necessary. Please join us! \n\n\n\nRegistration is appreciated\, but walk-ins are welcome. Please click here to register.
URL:https://carnegiecarnegie.org/event/civil-war-gaming-battle-cry-gettysburg/
LOCATION:Andrew Carnegie Free Library & Music Hall\, 300 Beechwood Avenue\, Carnegie\, PA\, 15106\, United States
CATEGORIES:2025,Past Event
ATTACH;FMTTYPE=image/jpeg:https://carnegiecarnegie.org/wp-content/uploads/2025/04/CW-gaming.jpg
END:VEVENT
BEGIN:VEVENT
DTSTART;TZID=America/New_York:20250614T113000
DTEND;TZID=America/New_York:20250614T133000
DTSTAMP:20260421T041051
CREATED:20250522T204122Z
LAST-MODIFIED:20250620T143833Z
UID:10001106-1749900600-1749907800@carnegiecarnegie.org
SUMMARY:Summer Reading Kick-Off Party!
DESCRIPTION:School’s out\, Summer Reading is in! This summer\, youth from birth to age 18 can track the minutes they read & attend programs at the Library for a chance to win exciting prizes! \n\n\n\nJoin us today as we kick off Summer Reading 2025! Enjoy lawn games\, create arts & crafts\, and register for Summer Reading.
URL:https://carnegiecarnegie.org/event/summer-reading-kick-off-party/
LOCATION:Andrew Carnegie Free Library & Music Hall\, 300 Beechwood Avenue\, Carnegie\, PA\, 15106\, United States
CATEGORIES:2025,Past Event
ATTACH;FMTTYPE=image/png:https://carnegiecarnegie.org/wp-content/uploads/2025/05/summer-reading-2025-kickoff.png
END:VEVENT
BEGIN:VEVENT
DTSTART;TZID=America/New_York:20250614T130000
DTEND;TZID=America/New_York:20250614T140000
DTSTAMP:20260421T041051
CREATED:20250514T200431Z
LAST-MODIFIED:20250616T173052Z
UID:10001091-1749906000-1749909600@carnegiecarnegie.org
SUMMARY:2nd Saturday Civil War Series: Battlefield Forensics: Examining Unique Medical Events at Gettysburg with Matt Lively
DESCRIPTION:Zoom: https://us02web.zoom.us/j/9370579279Meeting ID: 937 057 9279**Please note this event will not be streamed via Facebook\, and will not be recorded for our YouTube channel** \n\n\n\nThe American Civil War is filled with incidents that illustrate some unique or interesting medical condition. In the Battle of Gettysburg\, such events occurred to individuals whose names are well known\, such as John Reynolds\, Lewis Armistead\, and of course\, Dan Sickles. But others may be more obscure\, like Collett Leventhorpe\, Lucius Fairchild\, and Elon Farnsworth. Utilizing both forensic medicine and medical history\, this talk will examine some of those events through the performance of a historical autopsy. \n\n\n\nBefore entering private practice three years ago\, Dr. Mathew Lively spent twenty years as a faculty physician at the West Virginia University School of Medicine where he conducted patient care\, teaching\, and research. He is the author of several articles on medical history topics and his first book\, Calamity at Chancellorsville: The Wounding and Death of Confederate General Stonewall Jackson\, was published by Savas Beatie in 2013.
URL:https://carnegiecarnegie.org/event/2nd-saturday-civil-war-series-battlefield-forensics-examining-unique-medical-events-at-gettysburg-with-matt-lively/
LOCATION:Andrew Carnegie Free Library & Music Hall\, 300 Beechwood Avenue\, Carnegie\, PA\, 15106\, United States
CATEGORIES:2025,Past Event
ATTACH;FMTTYPE=image/jpeg:https://carnegiecarnegie.org/wp-content/uploads/2025/05/MetaSlider-Web-Event-2.jpg
END:VEVENT
BEGIN:VEVENT
DTSTART;TZID=America/New_York:20250614T183000
DTEND;TZID=America/New_York:20250614T213000
DTSTAMP:20260421T041051
CREATED:20250602T204011Z
LAST-MODIFIED:20250617T142744Z
UID:10001108-1749925800-1749936600@carnegiecarnegie.org
SUMMARY:Carnegie Crafters - Craft Night at the Movies: "Pride & Prejudice" (2005)
DESCRIPTION:Calling all knitters\, crocheters\, embroiderers\, and fiber artists of every kind! Come join the Carnegie Crafters! We share advice and inspiration\, chat with new friends\, and work on our projects in a supportive group setting. \n\n\n\nTonight\, join us for a Craft Night at the Movies! Enjoy crafting while we watch the classic Pride & Prejudice (2005)\, with Keira Knightley and Matthew Macfadyen. \n\n\n\nWhat makes this Craft Night at the Movies different? Due to ongoing renovations in our Music Hall\, this movie will be held in our 2nd floor Lincoln Gallery. Bonus: this means that you can bring snacks and drinks! (No alcohol though\, please.) \n\n\n\nDoors open at 6:30 PM\, and the movie will start at 7:00 PM. \n\n\n\nNo craft? No problem! You are welcome to join\, but keep in mind that that the lights will be on. Please email carnegiecrafters@gmail.com with any questions. \n\n\n\nRegistration is not required – all are welcome!
URL:https://carnegiecarnegie.org/event/carnegie-crafters-craft-night-at-the-movies-pride-prejudice-2005/
LOCATION:Andrew Carnegie Free Library & Music Hall\, 300 Beechwood Avenue\, Carnegie\, PA\, 15106\, United States
CATEGORIES:2025,Past Event
ATTACH;FMTTYPE=image/jpeg:https://carnegiecarnegie.org/wp-content/uploads/2025/06/craft-night-at-the-movies.jpg
END:VEVENT
BEGIN:VEVENT
DTSTART;TZID=America/New_York:20250621T110000
DTEND;TZID=America/New_York:20250621T130000
DTSTAMP:20260421T041052
CREATED:20250520T175457Z
LAST-MODIFIED:20250623T180818Z
UID:10001094-1750503600-1750510800@carnegiecarnegie.org
SUMMARY:Carnegie Celebrates Juneteenth!
DESCRIPTION:Join us for food\, art\, education\, and fun as we celebrate the holiday that commemorates the end of slavery in the United States: Juneteenth! \n\n\n\nCome enjoy delicious soul food from Carmi; discover the story of Juneteenth in Western Pennsylvania with a special talk from Pitt professor Alonna Carter-Donaldson; learn the history of Carnegie’s Second Baptist Church from church member Ashley Askew; show off your skill tossing beanbags and horseshoes; get creative with crafts led by members of Carlynton’s Black Student Union; bop to the music while socializing\, and more! \n\n\n\nThis fun festivity offers something for all ages\, and will take place outdoors if weather permits. Please come celebrate with us! \n\n\n\nRegistration is appreciated\, but walk-ins are welcome. Please click here to register.
URL:https://carnegiecarnegie.org/event/carnegie-celebrates-juneteenth-2/
LOCATION:Andrew Carnegie Free Library & Music Hall\, 300 Beechwood Avenue\, Carnegie\, PA\, 15106\, United States
CATEGORIES:2025,Past Event
ATTACH;FMTTYPE=image/png:https://carnegiecarnegie.org/wp-content/uploads/2025/05/Saturday-June-21-11-AM-1-PM.png
END:VEVENT
BEGIN:VEVENT
DTSTART;TZID=America/New_York:20250621T110000
DTEND;TZID=America/New_York:20250621T130000
DTSTAMP:20260421T041052
CREATED:20250613T204959Z
LAST-MODIFIED:20250721T150349Z
UID:10001113-1750503600-1750510800@carnegiecarnegie.org
SUMMARY:Slime Time! with Mad Science Pittsburgh
DESCRIPTION:Slime Time introduces the Mad Science slime recipe in this gooey chemistry class! Polymer paper clips and cross-linking magnetic marbles will help to example to key components of slime. \n\n\n\nVaried concoctions of slime will stir up in scientific style\, and the properties of slime will be tested in a team-spirited fashion at the Slime Olympics! \n\n\n\nRegistration is required\, as space is limited to 20 students. Registrants must have just completed Kindergarten – 5th grade.
URL:https://carnegiecarnegie.org/event/slime-time-with-mad-science-pittsburgh/
LOCATION:Andrew Carnegie Free Library & Music Hall\, 300 Beechwood Avenue\, Carnegie\, PA\, 15106\, United States
CATEGORIES:2025,Past Event
ATTACH;FMTTYPE=image/png:https://carnegiecarnegie.org/wp-content/uploads/2025/06/SLIME-TIME-flyer-650-x-450-px-1.png
END:VEVENT
BEGIN:VEVENT
DTSTART;TZID=America/New_York:20250623T190000
DTEND;TZID=America/New_York:20250623T200000
DTSTAMP:20260421T041052
CREATED:20250609T174247Z
LAST-MODIFIED:20250623T231129Z
UID:10001110-1750705200-1750708800@carnegiecarnegie.org
SUMMARY:St Clair Medical Group presents: All About Orthopedics
DESCRIPTION:Join orthopedic surgeon Dr. James Mullen of St. Clair Medical Group for an in-depth look at common orthopedic conditions affecting the hand\, shoulder\, and arm. Learn how specialists diagnose and treat injuries\, degenerative disorders\, and overuse conditions impacting the upper extremities. Bring your questions about rotator cuff injuries\, arthritis\, carpal tunnel syndrome\, tendon repair\, and more! \n\n\n\nRegistration is appreciated\, but walk-ins are welcome. Please click here to register.
URL:https://carnegiecarnegie.org/event/st-clair-medical-group-presents-all-about-orthopedics/
LOCATION:Andrew Carnegie Free Library & Music Hall\, 300 Beechwood Avenue\, Carnegie\, PA\, 15106\, United States
CATEGORIES:2025,Past Event
ATTACH;FMTTYPE=image/png:https://carnegiecarnegie.org/wp-content/uploads/2025/06/St-Clair-Medical-Group.png
END:VEVENT
BEGIN:VEVENT
DTSTART;TZID=America/New_York:20250628T133000
DTEND;TZID=America/New_York:20250628T150000
DTSTAMP:20260421T041052
CREATED:20250513T190715Z
LAST-MODIFIED:20250630T143721Z
UID:10001088-1751117400-1751122800@carnegiecarnegie.org
SUMMARY:"Behind the Mirror: Pride" - an author visit with Emonie Smith
DESCRIPTION:Join author Emonie Smith for an exclusive book signing event celebrating her new dark romance novel: Behind the Mirror: Pride! \n\n\n\n“When Makena looks into her umber-colored pocket mirror\, she sees more than just her reflection. The mirror reveals a sinister world where seven versions of herself exist\, each facing war\, destruction\, and unimaginable agony. Snatched into this alternate reality by her mirrored self\, Makena must confront her ego and unravel the secrets hidden in the shadows. As two worlds collide\, Makena must decide: will she save their world\, or protect her own? A battle of identity\, humility\, and destiny awaits.” \n\n\n\nMeet the author\, get your copy signed\, and enjoy a lively discussion about the themes and inspiration behind the book. Whether you’re a longtime fan or discovering it for the first time\, this is a perfect opportunity to connect with fellow readers and celebrate the power of storytelling. Don’t miss out! \n\n\n\nRegistration is appreciated\, but walk-ins are welcome. Please click here to register!
URL:https://carnegiecarnegie.org/event/behind-the-mirror/
LOCATION:Andrew Carnegie Free Library & Music Hall\, 300 Beechwood Avenue\, Carnegie\, PA\, 15106\, United States
CATEGORIES:2025,Past Event
ATTACH;FMTTYPE=image/jpeg:https://carnegiecarnegie.org/wp-content/uploads/2025/05/Behind-the-Mirror-Pride.jpg
END:VEVENT
END:VCALENDAR