BEGIN:VCALENDAR
VERSION:2.0
PRODID:-//Andrew Carnegie Free Library &amp; Music Hall - ECPv6.15.20//NONSGML v1.0//EN
CALSCALE:GREGORIAN
METHOD:PUBLISH
X-ORIGINAL-URL:https://carnegiecarnegie.org
X-WR-CALDESC:Events for Andrew Carnegie Free Library &amp; Music Hall
REFRESH-INTERVAL;VALUE=DURATION:PT1H
X-Robots-Tag:noindex
X-PUBLISHED-TTL:PT1H
BEGIN:VTIMEZONE
TZID:America/New_York
BEGIN:DAYLIGHT
TZOFFSETFROM:-0500
TZOFFSETTO:-0400
TZNAME:EDT
DTSTART:20220313T070000
END:DAYLIGHT
BEGIN:STANDARD
TZOFFSETFROM:-0400
TZOFFSETTO:-0500
TZNAME:EST
DTSTART:20221106T060000
END:STANDARD
BEGIN:DAYLIGHT
TZOFFSETFROM:-0500
TZOFFSETTO:-0400
TZNAME:EDT
DTSTART:20230312T070000
END:DAYLIGHT
BEGIN:STANDARD
TZOFFSETFROM:-0400
TZOFFSETTO:-0500
TZNAME:EST
DTSTART:20231105T060000
END:STANDARD
BEGIN:DAYLIGHT
TZOFFSETFROM:-0500
TZOFFSETTO:-0400
TZNAME:EDT
DTSTART:20240310T070000
END:DAYLIGHT
BEGIN:STANDARD
TZOFFSETFROM:-0400
TZOFFSETTO:-0500
TZNAME:EST
DTSTART:20241103T060000
END:STANDARD
END:VTIMEZONE
BEGIN:VEVENT
DTSTART;TZID=America/New_York:20230701T123000
DTEND;TZID=America/New_York:20230701T150000
DTSTAMP:20260424T175737
CREATED:20230525T160153Z
LAST-MODIFIED:20230710T170507Z
UID:10000654-1688214600-1688223600@carnegiecarnegie.org
SUMMARY:Carnegie Crafters
DESCRIPTION:Calling all knitters\, crocheters\, embroiderers\, and fiber artists of every kind! Come join the Carnegie Crafters! We share advice and inspiration\, chat with new friends\, and work on our projects in a supportive group setting. \n\n\n\nRegistration is not required – all are welcome!
URL:https://carnegiecarnegie.org/event/carnegie-crafters-17/
LOCATION:Andrew Carnegie Free Library & Music Hall\, 300 Beechwood Avenue\, Carnegie\, PA\, 15106\, United States
CATEGORIES:2023,Past Event
ATTACH;FMTTYPE=image/jpeg:https://carnegiecarnegie.org/wp-content/uploads/2023/02/Carnegie-Crafters.jpg
END:VEVENT
BEGIN:VEVENT
DTSTART;TZID=America/New_York:20230707T120000
DTEND;TZID=America/New_York:20230707T170000
DTSTAMP:20260424T175737
CREATED:20230516T154410Z
LAST-MODIFIED:20230710T170550Z
UID:10000652-1688731200-1688749200@carnegiecarnegie.org
SUMMARY:Teen Field Day!
DESCRIPTION:AGES 12-18 ONLY \n\n\n\nLets have some summer fun! Meet us at the Mosaic Wall and we’ll spend the day in Library Park. We’ll form teams and start playing! We’ll have Cornhole\, Big Chess\, Tug of War\, and so much more!  \n\n\n\nRegistration is encouraged\, but not required.  CLICK HERE TO REGISTER!
URL:https://carnegiecarnegie.org/event/teen-field-day/
LOCATION:PA
CATEGORIES:2023,Past Event
ATTACH;FMTTYPE=image/jpeg:https://carnegiecarnegie.org/wp-content/uploads/2023/05/Field-Day-Poster-650-×-450-px.jpg
END:VEVENT
BEGIN:VEVENT
DTSTART;TZID=America/New_York:20230713T170000
DTEND;TZID=America/New_York:20230713T190000
DTSTAMP:20260424T175737
CREATED:20230707T154744Z
LAST-MODIFIED:20230726T150918Z
UID:10000668-1689267600-1689274800@carnegiecarnegie.org
SUMMARY:Carnegie Crafters
DESCRIPTION:Calling all knitters\, crocheters\, embroiderers\, and fiber artists of every kind! Come join the Carnegie Crafters! We share advice and inspiration\, chat with new friends\, and work on our projects in a supportive group setting. \n\n\n\nRegistration is not required – all are welcome!
URL:https://carnegiecarnegie.org/event/carnegie-crafters-19/
LOCATION:Andrew Carnegie Free Library & Music Hall\, 300 Beechwood Avenue\, Carnegie\, PA\, 15106\, United States
CATEGORIES:2023,Past Event
ATTACH;FMTTYPE=image/jpeg:https://carnegiecarnegie.org/wp-content/uploads/2023/02/Carnegie-Crafters.jpg
END:VEVENT
BEGIN:VEVENT
DTSTART;TZID=America/New_York:20230714T130000
DTEND;TZID=America/New_York:20230714T140000
DTSTAMP:20260424T175737
CREATED:20230428T141656Z
LAST-MODIFIED:20230726T151036Z
UID:10000643-1689339600-1689343200@carnegiecarnegie.org
SUMMARY:Allegheny Parks Present Mr. McSlithers!
DESCRIPTION:Meet the Park Ranger Educational Animal\, an Eastern Black Rat Snake named Mr. McSlithers. Learn about his habitat\, diet and everyday life. Get up close to learn about his unique adaptations. \n\n\n\nSpace is Limited and Registration is Required. CLICK HERE TO REGISTER!
URL:https://carnegiecarnegie.org/event/allegheny-parks-present-mr-mcslithers/
LOCATION:PA
CATEGORIES:2023,Past Event
ATTACH;FMTTYPE=image/jpeg:https://carnegiecarnegie.org/wp-content/uploads/2023/06/Mr.-McSlithers-650-×-450-px-1.jpg
END:VEVENT
BEGIN:VEVENT
DTSTART;TZID=America/New_York:20230714T170000
DTEND;TZID=America/New_York:20230714T190000
DTSTAMP:20260424T175737
CREATED:20230511T200553Z
LAST-MODIFIED:20230726T151229Z
UID:10000649-1689354000-1689361200@carnegiecarnegie.org
SUMMARY:Teen Gaming Night
DESCRIPTION:Join us in the Studio from 5-7pm for a night of video games\, board games\, puzzles and more! Bring a friend or two\, grab a game feel free to relax in our space! \n\n\n\nCLICK HERE TO REGISTER!
URL:https://carnegiecarnegie.org/event/teen-gaming-night-4/
LOCATION:PA
CATEGORIES:2023,Past Event
ATTACH;FMTTYPE=image/jpeg:https://carnegiecarnegie.org/wp-content/uploads/2023/05/Teen-gaming-night-flyer-650-×-450-px-3.jpg
END:VEVENT
BEGIN:VEVENT
DTSTART;TZID=America/New_York:20230722T103000
DTEND;TZID=America/New_York:20230722T120000
DTSTAMP:20260424T175737
CREATED:20230512T221820Z
LAST-MODIFIED:20230512T221838Z
UID:10000650-1690021800-1690027200@carnegiecarnegie.org
SUMMARY:Discover Medicare
DESCRIPTION:Licensed Insurance Broker\, Bess Adams will make it easy for everyone to understand how Medicare works and how to get the most out of it. This step-by-step presentation will cover how and when to enroll\, supplemental coverage options\, Rx coverage and more. \n\n\n\nNo cost or obligation to attend. Reserve your seat today by phone at 1-800-800-1999 or visit www.discovermedicare.com.
URL:https://carnegiecarnegie.org/event/discover-medicare-8/
LOCATION:PA
CATEGORIES:2023,Upcoming Event
ATTACH;FMTTYPE=image/jpeg:https://carnegiecarnegie.org/wp-content/uploads/2021/11/Discover-Medicare.650x450-1.jpg
END:VEVENT
BEGIN:VEVENT
DTSTART;TZID=America/New_York:20230722T110000
DTEND;TZID=America/New_York:20230722T120000
DTSTAMP:20260424T175737
CREATED:20230517T174235Z
LAST-MODIFIED:20230726T151341Z
UID:10000376-1690023600-1690027200@carnegiecarnegie.org
SUMMARY:Holistic Reflexology for Good Health and Healing with Dorit Brauer
DESCRIPTION:Please join us for an informative presentation about Holistic Medicine and Prevention. In Europe and Israel\, Holistic Reflexology is covered by health insurance and physicians write referrals. It is very well integrated into the health care system and the positive benefits are well documented in scientific research studies. \n\n\n\nDorit Brauer\, founder of The Brauer Institute for Holistic Medicine and the only teacher of a 300-hour Professional Holistic Reflexology Certification Program in the state of Pennsylvania\, will answer this question and teach you simple techniques to improve your health and prevent disease. Learn more at https://brauerinstitute.com! \n\n\n\nRegistration is appreciated\, but walk-ins are welcome. To register\, please click here.
URL:https://carnegiecarnegie.org/event/holistic-reflexology-for-good-health-and-healing-with-dorit-brauer/
LOCATION:Andrew Carnegie Free Library & Music Hall\, 300 Beechwood Avenue\, Carnegie\, PA\, 15106\, United States
CATEGORIES:2023,Past Event
ATTACH;FMTTYPE=image/png:https://carnegiecarnegie.org/wp-content/uploads/2023/05/Holistic-reflexology.png
END:VEVENT
BEGIN:VEVENT
DTSTART;TZID=America/New_York:20230727T170000
DTEND;TZID=America/New_York:20230727T190000
DTSTAMP:20260424T175737
CREATED:20230727T205024Z
LAST-MODIFIED:20230804T192442Z
UID:10000670-1690477200-1690484400@carnegiecarnegie.org
SUMMARY:Carnegie Crafters
DESCRIPTION:Calling all knitters\, crocheters\, embroiderers\, and fiber artists of every kind! Come join the Carnegie Crafters! We share advice and inspiration\, chat with new friends\, and work on our projects in a supportive group setting. \n\n\n\nRegistration is not required – all are welcome!
URL:https://carnegiecarnegie.org/event/carnegie-crafters-20/
LOCATION:PA
CATEGORIES:2023,Past Event
ATTACH;FMTTYPE=image/jpeg:https://carnegiecarnegie.org/wp-content/uploads/2023/02/Carnegie-Crafters.jpg
END:VEVENT
BEGIN:VEVENT
DTSTART;TZID=America/New_York:20230728T130000
DTEND;TZID=America/New_York:20230728T143000
DTSTAMP:20260424T175737
CREATED:20230511T141135Z
LAST-MODIFIED:20230804T195210Z
UID:10000646-1690549200-1690554600@carnegiecarnegie.org
SUMMARY:Improv for Beginners
DESCRIPTION:AGES 8-12 ONLY \n\n\n\nJoin B.B. The Book Fairy for this special program in our Studio.  Participants will learn what improv is and get a chance to try it out themselves!  \n\n\n\nSpace is limited and registration is required.  CLICK HERE TO REGISTER!
URL:https://carnegiecarnegie.org/event/improv-for-beginners/
LOCATION:PA
CATEGORIES:2023,Past Event
ATTACH;FMTTYPE=image/jpeg:https://carnegiecarnegie.org/wp-content/uploads/2023/05/Improv-for-Beginners.jpg
END:VEVENT
BEGIN:VEVENT
DTSTART;TZID=America/New_York:20230729T110000
DTEND;TZID=America/New_York:20230729T120000
DTSTAMP:20260424T175737
CREATED:20230626T202105Z
LAST-MODIFIED:20230804T200528Z
UID:10000663-1690628400-1690632000@carnegiecarnegie.org
SUMMARY:Pointillism Sunshine: Painting with C-ART
DESCRIPTION:Join Heather McGreevy of Not Forgotten for a fun and unique painting class\, featuring her own special techniques of pointillism. Heather has been studying art for 8 years and enjoys sharing her talents with others through Not Forgotten’s C-ART grant. Join Heather and create your own pointillist masterpiece! \n\n\n\nRegistration is required! Please click here to register. \n\n\n\nThis class is a part of the 2023 Carnegie Arts Walk! The Library will also have a table at the corner of Broadway and Main Street\, featuring blackout poetry and watermelon fans. Join us and check out all the other Arts Walk vendors and activities…then return to the Carnegie Carnegie at 5:00 PM for a free concert with RML Jazz!
URL:https://carnegiecarnegie.org/event/pointillism-sunshine-painting-with-c-art/
LOCATION:Andrew Carnegie Free Library & Music Hall\, 300 Beechwood Avenue\, Carnegie\, PA\, 15106\, United States
CATEGORIES:2023,Past Event
ATTACH;FMTTYPE=image/jpeg:https://carnegiecarnegie.org/wp-content/uploads/2023/06/sunshine.jpg
END:VEVENT
BEGIN:VEVENT
DTSTART;TZID=America/New_York:20230729T170000
DTEND;TZID=America/New_York:20230729T170000
DTSTAMP:20260424T175737
CREATED:20230518T225555Z
LAST-MODIFIED:20230718T203045Z
UID:10000379-1690650000-1690650000@carnegiecarnegie.org
SUMMARY:Listen Locally Downstairs with RML Jazz
DESCRIPTION:RML Jazz mixes Smooth Jazz with Bebop and Classic Jazz as well as a helping of Modern Jazz\, Dixieland. A favorite among Listen Locally Downstairs audiences\, RML Jazz offers up something for everyone. \n\n\n\nRML Jazz has entertained audiences throughout Pittsburgh and the surrounding areas since 2004. This evening will feature Laura Chu Wiens on vocals\, Jeff Leonhardt on guitar\, Gene Laus on trumpet/flugelhorn\, Rick Purcell on keys\, and Rick Laus on drums.Beat the summer heat and join us in the air-conditioned Studio. Newly improved\, The Studio is an intimate space with a club vibe! Complimentary snacks. Beer and wine by donations. \n\n\n\n\n\n\n\nOutside alcohol/BYOB is not permitted. \n\n\n\nJoin us for this FREE special event as part of the Carnegie Arts Walk.
URL:https://carnegiecarnegie.org/event/listen-locally-downstairs-with-rml-jazz-2/
LOCATION:PA
CATEGORIES:2023,Upcoming Event
ATTACH;FMTTYPE=image/jpeg:https://carnegiecarnegie.org/wp-content/uploads/2023/05/RML-Jazz650-×-450-px-1.jpg
END:VEVENT
END:VCALENDAR