BEGIN:VCALENDAR
VERSION:2.0
PRODID:-//Andrew Carnegie Free Library &amp; Music Hall - ECPv6.15.20//NONSGML v1.0//EN
CALSCALE:GREGORIAN
METHOD:PUBLISH
X-ORIGINAL-URL:https://carnegiecarnegie.org
X-WR-CALDESC:Events for Andrew Carnegie Free Library &amp; Music Hall
REFRESH-INTERVAL;VALUE=DURATION:PT1H
X-Robots-Tag:noindex
X-PUBLISHED-TTL:PT1H
BEGIN:VTIMEZONE
TZID:America/New_York
BEGIN:DAYLIGHT
TZOFFSETFROM:-0500
TZOFFSETTO:-0400
TZNAME:EDT
DTSTART:20210314T070000
END:DAYLIGHT
BEGIN:STANDARD
TZOFFSETFROM:-0400
TZOFFSETTO:-0500
TZNAME:EST
DTSTART:20211107T060000
END:STANDARD
BEGIN:DAYLIGHT
TZOFFSETFROM:-0500
TZOFFSETTO:-0400
TZNAME:EDT
DTSTART:20220313T070000
END:DAYLIGHT
BEGIN:STANDARD
TZOFFSETFROM:-0400
TZOFFSETTO:-0500
TZNAME:EST
DTSTART:20221106T060000
END:STANDARD
BEGIN:DAYLIGHT
TZOFFSETFROM:-0500
TZOFFSETTO:-0400
TZNAME:EDT
DTSTART:20230312T070000
END:DAYLIGHT
BEGIN:STANDARD
TZOFFSETFROM:-0400
TZOFFSETTO:-0500
TZNAME:EST
DTSTART:20231105T060000
END:STANDARD
END:VTIMEZONE
BEGIN:VEVENT
DTSTART;TZID=America/New_York:20221008T130000
DTEND;TZID=America/New_York:20221008T143000
DTSTAMP:20260425T091235
CREATED:20220913T004321Z
LAST-MODIFIED:20221011T194941Z
UID:10000281-1665234000-1665239400@carnegiecarnegie.org
SUMMARY:2nd Saturday Civil War Series: "Why Gettysburg?" A Conversation with Matt Callery of Addressing Gettysburg
DESCRIPTION:History Is Not Boring!  \n\n\n\nAddressing Gettysburg brings the historic reality of the Battle of Gettysburg and the experiences of the soldiers and civilians to the masses in a comprehensive\, immersive\, and entertaining way. With over one million downloads and a Today Show showcase to their credit\, Addressing Gettysburg offers a fresh\, engaging\, and exciting approach to a defining moment in American history.  \n\n\n\nIn this lively conversation\, AG Founder and Host Matt Callery seeks to ask participants – and perhaps answer himself – Why Gettysburg? What is it about the town\, the battlefield\, the people\, and the history\, that continues to attract thousands of visitors and scores of new books each year?  \n\n\n\nBio: Growing up in New Jersey\, Matt’s fascination with history began at a very young age. Family trips to historic sites often included Civil War locations\, with Gettysburg being a favorite. Over the years\, Matt developed considerable skills in video and audio production. A fan of Howard Stern\, Matt’s early efforts were to create material for his own podcast centered on pop culture topics. Having visited Gettysburg in his childhood\, he later moved there\, and went to work leading battlefield bicycle tours. Sometime later\, he returned to New Jersey but it didn’t take long for him to feel something drawing him back to Pennsylvania. So\, he came back to make Gettysburg his home.  \n\n\n\nA lifelong friend and fellow “history nerd” encouraged Matt to combine his love of history with his talents in studio production to create a podcast about Gettysburg. And so in 2019\, with raw enthusiasm\, a knack for making interesting conversation\, and a makeshift studio\, Matt launched the Addressing Gettysburg podcast. He’ll be the first to tell you that it has been a team effort and that he’s grateful for the support of many wonderful people along the way. \n\n\n\n2nd Saturday Lectures made possible by the Massey Charitable Trust
URL:https://carnegiecarnegie.org/event/2nd-saturday-civil-war-series-why-gettysburg-a-conversation-with-matt-callery-of-addressing-gettysburg/
LOCATION:Andrew Carnegie Free Library & Music Hall\, 300 Beechwood Avenue\, Carnegie\, Pennsylvania\, 15106\, United States
CATEGORIES:2022,Past Event
ATTACH;FMTTYPE=image/jpeg:https://carnegiecarnegie.org/wp-content/uploads/2022/09/MetaSlider-Web-Event.jpg
END:VEVENT
BEGIN:VEVENT
DTSTART;TZID=America/New_York:20221014T200000
DTEND;TZID=America/New_York:20221014T200000
DTSTAMP:20260425T091235
CREATED:20220818T200838Z
LAST-MODIFIED:20221011T153254Z
UID:10000539-1665777600-1665777600@carnegiecarnegie.org
SUMMARY:Resonance Works presents "I Am a Dreamer Who No Longer Dreams"
DESCRIPTION:Performances on Friday\, October 14 at 8:00 PM and Sunday\, October 16 at 3:00 PM \n\n\n\nResonance Works opens its tenth anniversary season with the Pittsburgh premiere of Jorge Sosa and Cerise Lim Jacobs’ evocative contemporary opera\, I am a Dreamer Who No Longer Dreams. A poignant and timely story\, Dreamer explores the complex relationship between Rosa\, an undocumented Mexican immigrant who is awaiting deportation\, and Singa\, her court-appointed attorney\, an ethnically Chinese immigrant from Indonesia living in the U.S. on a green card. Through Rosa and Singa’s parallel yet divergent immigration experiences\, Dreamer examines the complexities of American identity.Join Resonance Works one hour before each performance for a panel conversation with creators and community. \n\n\n\n\nTICKETS
URL:https://carnegiecarnegie.org/event/resonance-works-presents-i-am-a-dreamer-who-no-longer-dreams/2022-10-14/
LOCATION:PA
CATEGORIES:2022,2022,Current Event,Upcoming Event
ATTACH;FMTTYPE=image/jpeg:https://carnegiecarnegie.org/wp-content/uploads/2022/08/ResWorks-Web.button.jpg
ORGANIZER;CN="Resonance Works":MAILTO:info@resworks.org
END:VEVENT
BEGIN:VEVENT
DTSTART;TZID=America/New_York:20221015T110000
DTEND;TZID=America/New_York:20221015T120000
DTSTAMP:20260425T091235
CREATED:20220923T154457Z
LAST-MODIFIED:20220923T155217Z
UID:10000283-1665831600-1665835200@carnegiecarnegie.org
SUMMARY:Making with Artsmiths of Pittsburgh: Monster Lab
DESCRIPTION:Calling all witches\, warlocks and Mad Scientists! Join Jena Scheib of the Artsmiths of Pittsburgh and concoct a bubbling brew\, transcribe an incantation or configure a creature from your imagination. Combine a variety of creative materials and methods with principles of engineering and science in our Monster Lab. \n\n\n\nThis program is funded by a Gismondi VITAL grant. \n\n\n\nThis class is intended for elementary-age kids. \n\n\n\nRegistration is required! Please click here to register.
URL:https://carnegiecarnegie.org/event/making-with-artsmiths-of-pittsburgh-monster-lab/
LOCATION:Andrew Carnegie Free Library & Music Hall\, 300 Beechwood Avenue\, Carnegie\, PA\, 15106\, United States
CATEGORIES:2022,Upcoming Event
ATTACH;FMTTYPE=image/png:https://carnegiecarnegie.org/wp-content/uploads/2022/09/M-O-N-S-T-E-R-L-A-B-1.png
END:VEVENT
BEGIN:VEVENT
DTSTART;TZID=America/New_York:20221016T150000
DTEND;TZID=America/New_York:20221016T150000
DTSTAMP:20260425T091235
CREATED:20220818T200838Z
LAST-MODIFIED:20221011T160327Z
UID:10000541-1665932400-1665932400@carnegiecarnegie.org
SUMMARY:Resonance Works presents "I Am a Dreamer Who No Longer Dreams"
DESCRIPTION:Performances on Friday\, October 14 at 8:00 PM and Sunday\, October 16 at 3:00 PM \n\n\n\nResonance Works opens its tenth anniversary season with the Pittsburgh premiere of Jorge Sosa and Cerise Lim Jacobs’ evocative contemporary opera\, I am a Dreamer Who No Longer Dreams. A poignant and timely story\, Dreamer explores the complex relationship between Rosa\, an undocumented Mexican immigrant who is awaiting deportation\, and Singa\, her court-appointed attorney\, an ethnically Chinese immigrant from Indonesia living in the U.S. on a green card. Through Rosa and Singa’s parallel yet divergent immigration experiences\, Dreamer examines the complexities of American identity.Join Resonance Works one hour before each performance for a panel conversation with creators and community. \n\n\n\n\nTICKETS
URL:https://carnegiecarnegie.org/event/resonance-works-presents-i-am-a-dreamer-who-no-longer-dreams-2022-10-16/
LOCATION:PA
CATEGORIES:2022,2022,Current Event,Upcoming Event
ATTACH;FMTTYPE=image/jpeg:https://carnegiecarnegie.org/wp-content/uploads/2022/08/ResWorks-Web.button.jpg
ORGANIZER;CN="Resonance Works":MAILTO:info@resworks.org
END:VEVENT
BEGIN:VEVENT
DTSTART;TZID=America/New_York:20221016T150000
DTEND;TZID=America/New_York:20221016T153000
DTSTAMP:20260425T091235
CREATED:20220818T200838Z
LAST-MODIFIED:20221011T153254Z
UID:10000540-1665932400-1665934200@carnegiecarnegie.org
SUMMARY:Resonance Works presents "I Am a Dreamer Who No Longer Dreams"
DESCRIPTION:Performances on Friday\, October 14 at 8:00 PM and Sunday\, October 16 at 3:00 PM \n\n\n\nResonance Works opens its tenth anniversary season with the Pittsburgh premiere of Jorge Sosa and Cerise Lim Jacobs’ evocative contemporary opera\, I am a Dreamer Who No Longer Dreams. A poignant and timely story\, Dreamer explores the complex relationship between Rosa\, an undocumented Mexican immigrant who is awaiting deportation\, and Singa\, her court-appointed attorney\, an ethnically Chinese immigrant from Indonesia living in the U.S. on a green card. Through Rosa and Singa’s parallel yet divergent immigration experiences\, Dreamer examines the complexities of American identity.Join Resonance Works one hour before each performance for a panel conversation with creators and community. \n\n\n\n\nTICKETS
URL:https://carnegiecarnegie.org/event/resonance-works-presents-i-am-a-dreamer-who-no-longer-dreams/2022-10-16/
LOCATION:PA
CATEGORIES:2022,2022,Current Event,Upcoming Event
ATTACH;FMTTYPE=image/jpeg:https://carnegiecarnegie.org/wp-content/uploads/2022/08/ResWorks-Web.button.jpg
ORGANIZER;CN="Resonance Works":MAILTO:info@resworks.org
END:VEVENT
BEGIN:VEVENT
DTSTART;TZID=America/New_York:20221017T180000
DTEND;TZID=America/New_York:20221017T200000
DTSTAMP:20260425T091235
CREATED:20221004T221641Z
LAST-MODIFIED:20221019T144645Z
UID:10000289-1666029600-1666036800@carnegiecarnegie.org
SUMMARY:Teen Gaming Night
DESCRIPTION:Attention teen and tween gamers: join us at the Library for a night of fun\, pizza\, and games! Compete in our Smash Brothers tournament\, race your friends in Mario Kart\, and show off your moves in Just Dance. \n\n\n\nNot into video games? Board and card games will be available too! \n\n\n\nPlease click here to register. Hope to see you there!
URL:https://carnegiecarnegie.org/event/teen-gaming-night/
LOCATION:PA
CATEGORIES:2022,Past Event
ATTACH;FMTTYPE=image/png:https://carnegiecarnegie.org/wp-content/uploads/2022/10/Teen-gaming-night-flyer-650-×-450-px.png
END:VEVENT
BEGIN:VEVENT
DTSTART;TZID=America/New_York:20221019T190000
DTEND;TZID=America/New_York:20221019T210000
DTSTAMP:20260425T091235
CREATED:20220922T225124Z
LAST-MODIFIED:20221020T215934Z
UID:10000282-1666206000-1666213200@carnegiecarnegie.org
SUMMARY:Pop Classics: "Ferris Bueller's Day Off"
DESCRIPTION:Join film buff Scott Nicolson for the launch of our new series Pop Classics\, where we watch and discuss the movies that most influenced pop culture over the last few decades. \n\n\n\nTonight we’ll view Ferris Bueller’s Day Off (1986)\, directed by John Hughes. Matthew Broderick stars as Ferris\, a high schooler who skips school for a day of fun and mischief-making in Chicago. Come enjoy this classic story that reminds us to look around us and enjoy life while it lasts. \n\n\n\nRegistration is appreciated\, although walk-ins are welcome. Please click here to register.
URL:https://carnegiecarnegie.org/event/pop-classics-ferris-buellers-day-off/
LOCATION:Andrew Carnegie Free Library & Music Hall\, 300 Beechwood Avenue\, Carnegie\, PA\, 15106\, United States
CATEGORIES:2022,Past Event
ATTACH;FMTTYPE=image/png:https://carnegiecarnegie.org/wp-content/uploads/2022/09/Pop-classics-Ferris-Bueller-650-×-450-px3.png
END:VEVENT
BEGIN:VEVENT
DTSTART;TZID=America/New_York:20221020T190000
DTEND;TZID=America/New_York:20221020T190000
DTSTAMP:20260425T091235
CREATED:20220810T214532Z
LAST-MODIFIED:20220929T154559Z
UID:10000537-1666292400-1666292400@carnegiecarnegie.org
SUMMARY:Listen Locally Downstairs with Gypsy Stringz
DESCRIPTION:From deeply emotional selections to fast\, fiery traditional tunes\, The Gypsy Stringz  will take you on a whirlwind tour of Eastern European culture. Whether soothing or rousing\, this ensemble plays a mix of enchanting music enhanced by beautiful harmonies of foreign lands.   \n\n\n\nJoin us in our newly improved Studio\, an intimate space with a club-vibe venue! Complimentary snacks. Beer and wine by donation. \n\n\n\nClick here for a PREVIEW of the Gypsy Stringz! \n\n\n\n$15 in Advance$20 at the Door \n\n\n\n\nTICKETS
URL:https://carnegiecarnegie.org/event/listen-locally-downstairs-with-gypsy-stringz/
LOCATION:PA
CATEGORIES:2022,2022,Current Event,Upcoming Event
ATTACH;FMTTYPE=image/jpeg:https://carnegiecarnegie.org/wp-content/uploads/2022/09/Copy-of-Gypsy-Stringz.jpg
END:VEVENT
BEGIN:VEVENT
DTSTART;TZID=America/New_York:20221024T190000
DTEND;TZID=America/New_York:20221024T200000
DTSTAMP:20260425T091235
CREATED:20221004T223650Z
LAST-MODIFIED:20221026T165746Z
UID:10000290-1666638000-1666641600@carnegiecarnegie.org
SUMMARY:Pumpkins & Pajamas!
DESCRIPTION:Join Miss JoLynne for some Fall and Halloween jokes\, stories\, and songs. Come dressed up in your jammies and bring along a stuffed friend if you’d like. Don’t forget to grab a cookie to take home. \n\n\n\nFor children ages 3-10 and their families. \n\n\n\nRegistration is appreciated! Please click here to register.
URL:https://carnegiecarnegie.org/event/pumpkins-pajamas/
LOCATION:Andrew Carnegie Free Library & Music Hall\, 300 Beechwood Avenue\, Carnegie\, PA\, 15106\, United States
CATEGORIES:2022,Past Event
ATTACH;FMTTYPE=image/jpeg:https://carnegiecarnegie.org/wp-content/uploads/2022/10/pumpkins-and-pajamas.jpg
END:VEVENT
BEGIN:VEVENT
DTSTART;TZID=America/New_York:20221025T190000
DTEND;TZID=America/New_York:20221025T200000
DTSTAMP:20260425T091235
CREATED:20220927T202444Z
LAST-MODIFIED:20221026T165733Z
UID:10000285-1666724400-1666728000@carnegiecarnegie.org
SUMMARY:Career of the Living Dead: The Life & Films of George Romero
DESCRIPTION:Let Rebecca Shapass of Pitt’s Horror Studies Working Group take you on a terrifying tour of the life\, work\, and local connections of the legendary George A. Romero\, visionary director of Night of the Living Dead and numerous sequels. Shot in and around Evans City in 1968\, Night of the Living Dead revolutionized the horror genre and effectively redefined the term “zombie.” \n\n\n\nPlus\, don’t miss our special screening of Night of the Living Dead on Thursday\, October 27\, as part of our ongoing Pop Classics film series! \n\n\n\nRegistration is appreciated. Please click below to register.
URL:https://carnegiecarnegie.org/event/career-of-the-living-dead-the-life-films-of-george-romero/
LOCATION:Andrew Carnegie Free Library & Music Hall\, 300 Beechwood Avenue\, Carnegie\, PA\, 15106\, United States
CATEGORIES:2022,Past Event
ATTACH;FMTTYPE=image/jpeg:https://carnegiecarnegie.org/wp-content/uploads/2022/09/Living-Dead1.jpg
END:VEVENT
BEGIN:VEVENT
DTSTART;TZID=America/New_York:20221026T100000
DTEND;TZID=America/New_York:20221026T130000
DTSTAMP:20260425T091235
CREATED:20220927T193242Z
LAST-MODIFIED:20220929T174929Z
UID:10000284-1666778400-1666789200@carnegiecarnegie.org
SUMMARY:JFCS Career Development Center Fall Career Fair
DESCRIPTION:Come meet with over 20 employers to learn about employment opportunities from entry to executive level. Connect with community resources that can assist on your career journey.JFCS Career Development Center is committed to providing the guidance\, support and encouragement needed to reach career goals. This event is free and open to the public! Contact Shawnte Knox at sknox@jfcspgh.org to learn more!  \n\n\n\n\nREGISTER
URL:https://carnegiecarnegie.org/event/jfcs-career-development-center-fall-career-fair/
LOCATION:PA
CATEGORIES:2022,2022,Current Event,Upcoming Event
ATTACH;FMTTYPE=image/jpeg:https://carnegiecarnegie.org/wp-content/uploads/2022/09/Job-Fair.jpg
END:VEVENT
BEGIN:VEVENT
DTSTART;TZID=America/New_York:20221027T190000
DTEND;TZID=America/New_York:20221027T210000
DTSTAMP:20260425T091235
CREATED:20220928T174807Z
LAST-MODIFIED:20221028T150016Z
UID:10000287-1666897200-1666904400@carnegiecarnegie.org
SUMMARY:Pop Classics: 'Night of the Living Dead'
DESCRIPTION:Join film buff Scott Nicolson for our series Pop Classics\, where we watch and discuss the movies that most influenced pop culture over the last few decades. \n\n\n\nTonight we’ll view Night of the Living Dead (1968)\, directed by George Romero. Shot in and around Evans City in 1968\, Night of the Living Dead revolutionized the horror genre and effectively redefined the term “zombie.” \n\n\n\nRegistration is appreciated. Please click here to register.
URL:https://carnegiecarnegie.org/event/pop-classics-night-of-the-living-dead/
LOCATION:Andrew Carnegie Free Library & Music Hall\, 300 Beechwood Avenue\, Carnegie\, PA\, 15106\, United States
CATEGORIES:2022,Past Event
ATTACH;FMTTYPE=image/png:https://carnegiecarnegie.org/wp-content/uploads/2022/09/Pop-classics-living-dead.png
END:VEVENT
BEGIN:VEVENT
DTSTART;TZID=America/New_York:20221029T130000
DTEND;TZID=America/New_York:20221029T130000
DTSTAMP:20260425T091235
CREATED:20220927T223740Z
LAST-MODIFIED:20220927T224237Z
UID:10000286-1667048400-1667048400@carnegiecarnegie.org
SUMMARY:"Halloween Showcase" presented by Pennsylvania Ballet Conservatory
DESCRIPTION:Join the Pennsylvania Ballet Conservatory for their Spooktacular Halloween showcase. Pumpkins\, bats\, cats\, Willis and Evil Fairies will be dancing in a haunted forest. A fun event for the whole family! \n\n\n\n\nTICKETS
URL:https://carnegiecarnegie.org/event/halloween-showcase-presented-by-pennsylvania-ballet-conservatory/
LOCATION:PA
CATEGORIES:2022,2022,Current Event,Upcoming Event
ATTACH;FMTTYPE=image/png:https://carnegiecarnegie.org/wp-content/uploads/2022/09/Hallowen-Showcase-1.png
END:VEVENT
END:VCALENDAR