BEGIN:VCALENDAR
VERSION:2.0
PRODID:-//Andrew Carnegie Free Library &amp; Music Hall - ECPv6.15.20//NONSGML v1.0//EN
CALSCALE:GREGORIAN
METHOD:PUBLISH
X-WR-CALNAME:Andrew Carnegie Free Library &amp; Music Hall
X-ORIGINAL-URL:https://carnegiecarnegie.org
X-WR-CALDESC:Events for Andrew Carnegie Free Library &amp; Music Hall
REFRESH-INTERVAL;VALUE=DURATION:PT1H
X-Robots-Tag:noindex
X-PUBLISHED-TTL:PT1H
BEGIN:VTIMEZONE
TZID:America/New_York
BEGIN:DAYLIGHT
TZOFFSETFROM:-0500
TZOFFSETTO:-0400
TZNAME:EDT
DTSTART:20210314T070000
END:DAYLIGHT
BEGIN:STANDARD
TZOFFSETFROM:-0400
TZOFFSETTO:-0500
TZNAME:EST
DTSTART:20211107T060000
END:STANDARD
BEGIN:DAYLIGHT
TZOFFSETFROM:-0500
TZOFFSETTO:-0400
TZNAME:EDT
DTSTART:20220313T070000
END:DAYLIGHT
BEGIN:STANDARD
TZOFFSETFROM:-0400
TZOFFSETTO:-0500
TZNAME:EST
DTSTART:20221106T060000
END:STANDARD
BEGIN:DAYLIGHT
TZOFFSETFROM:-0500
TZOFFSETTO:-0400
TZNAME:EDT
DTSTART:20230312T070000
END:DAYLIGHT
BEGIN:STANDARD
TZOFFSETFROM:-0400
TZOFFSETTO:-0500
TZNAME:EST
DTSTART:20231105T060000
END:STANDARD
END:VTIMEZONE
BEGIN:VEVENT
DTSTART;TZID=America/New_York:20220707T160000
DTEND;TZID=America/New_York:20220707T190000
DTSTAMP:20260425T135855
CREATED:20220504T152547Z
LAST-MODIFIED:20220504T152552Z
UID:10000520-1657209600-1657220400@carnegiecarnegie.org
SUMMARY:Free Legal Advice with Attorney Giuseppe Rosselli
DESCRIPTION:Sign up for a thirty minute appointment for free legal advice with attorney Giuseppe Rosselli! \n\n\n\nTo schedule\, please call us at 412-276-3456 or email evansw2@einetwork.net. Please be prepared to share your name\, contact information\, and the topic of your legal questions. \n\n\n\nThis program meets in person at the Library. Masks are optional if you are fully vaccinated.
URL:https://carnegiecarnegie.org/event/free-legal-advice-with-attorney-giuseppe-rosselli-5/
LOCATION:Andrew Carnegie Free Library & Music Hall\, 300 Beechwood Avenue\, Carnegie\, PA\, 15106\, United States
CATEGORIES:2022,Upcoming Event
END:VEVENT
BEGIN:VEVENT
DTSTART;TZID=America/New_York:20220709T120000
DTEND;TZID=America/New_York:20220709T180000
DTSTAMP:20260425T135855
CREATED:20220624T182214Z
LAST-MODIFIED:20220624T182220Z
UID:10000533-1657368000-1657389600@carnegiecarnegie.org
SUMMARY:Carnegie Arts Walk
DESCRIPTION:Experience the Arts Walk and discover local\, regional\, and national visual and performing artists\, and the vibrant Carnegie arts scene! The Library will have a table at the Sun Dial\, at the corner of Main Street and Broadway. Join us all afternoon for two fun crafts: \n\n\n\nMake a Watermelon Fan! Kids of any age can color\, cut\, and glue to make their own watermelon fan – perfect for keeping cool as you enjoy the Arts Walk \n\n\n\nBlackout Poetry! If you can read\, you can make blackout poetry. Start with a page from an old book; pick a few words on the page that form a poem; then black out the rest. You’ll be surprised at the poetry you can find hidden in the text! \n\n\n\nDon’t forget to check out Library Park’s 117-ft. mosaic mural\, designed by Laura Jean McLaughlin and fabricated by 200 community members!
URL:https://carnegiecarnegie.org/event/carnegie-arts-walk/
LOCATION:PA
CATEGORIES:2022,Upcoming Event
ATTACH;FMTTYPE=image/jpeg:https://carnegiecarnegie.org/wp-content/uploads/2022/06/Arts-Walk.jpg
END:VEVENT
BEGIN:VEVENT
DTSTART;TZID=America/New_York:20220715T183000
DTEND;TZID=America/New_York:20220715T183000
DTSTAMP:20260425T135855
CREATED:20220629T161437Z
LAST-MODIFIED:20220701T171726Z
UID:10000273-1657909800-1657909800@carnegiecarnegie.org
SUMMARY:American Battlefield Trust's Second Annual Summer Twilight Tour - Friday\, July 15
DESCRIPTION:The Captain Thomas Espy Post is proud to be featured in the second annual “Summer Twilight Tour” series. History buffs from across the country will explore icons from America’s past\, and visit some of the land that members of the American Battlefield Trust helped to preserve.  \n\n\n\nEspy Post Curator Jon-Erik Gilot will discuss the history of the Grand Army of the Republic\, highlight the stories of those veterans who called the Espy Post home and showcase the incredible artifacts they had the foresight to preserve.Refreshments will be provided.Registration is required.  \n\n\n\n\n\n\nREGISTER
URL:https://carnegiecarnegie.org/event/american-battlefield-trusts-second-annual-summer-twilight-tour/
LOCATION:PA
CATEGORIES:2022,2022,Current Event,Upcoming Event
ATTACH;FMTTYPE=image/jpeg:https://carnegiecarnegie.org/wp-content/uploads/2020/03/espy_fullview_resized.jpg
END:VEVENT
BEGIN:VEVENT
DTSTART;TZID=America/New_York:20220716T110000
DTEND;TZID=America/New_York:20220716T120000
DTSTAMP:20260425T135855
CREATED:20220628T155803Z
LAST-MODIFIED:20220720T141206Z
UID:10000271-1657969200-1657972800@carnegiecarnegie.org
SUMMARY:Making with Artsmiths of Pittsburgh: Watercolor Experiments
DESCRIPTION:Join Zoe Konzel of the Artsmiths of Pittsburgh for an exploration of watercolor! Discover the diverse qualities of watercolor paint by conducting a series of experiments using household products like salt\, baking soda and rubbing alcohol. This program is funded by a Gismondi VITAL grant. \n\n\n\nThis program is intended for elementary-age kids. \n\n\n\nRegistration is required. Please click here to register.
URL:https://carnegiecarnegie.org/event/making-with-artsmiths-of-pittsburgh-watercolor-experiments/
LOCATION:Andrew Carnegie Free Library & Music Hall\, 300 Beechwood Avenue\, Carnegie\, PA\, 15106\, United States
CATEGORIES:2022,Past Event
ATTACH;FMTTYPE=image/jpeg:https://carnegiecarnegie.org/wp-content/uploads/2022/06/Copy-of-Artsmiths-water-marbling-slider.jpg
END:VEVENT
BEGIN:VEVENT
DTSTART;TZID=America/New_York:20220719T190000
DTEND;TZID=America/New_York:20220719T200000
DTSTAMP:20260425T135855
CREATED:20220705T191032Z
LAST-MODIFIED:20220720T143344Z
UID:10000274-1658257200-1658260800@carnegiecarnegie.org
SUMMARY:The Great Women of Jazz
DESCRIPTION:Join Pitt graduate student Irene Monteverde for an exploration of the fascinating women who made jazz the uniquely American art-form we know today. Learn about the instrumentalists\, vocalists\, dancers\, composers\, and women behind-the-scenes who have been an integral part of jazz music from it earliest beginnings up until the present. \n\n\n\nPlus\, don’t miss this lecture’s companion concert on Thursday: Jessica Lee presents The Great Women of Jazz! \n\n\n\nRegistration is appreciated (although walk-ins are welcome). Please click here to register.
URL:https://carnegiecarnegie.org/event/lecture-the-great-women-of-jazz/
LOCATION:Andrew Carnegie Free Library & Music Hall\, 300 Beechwood Avenue\, Carnegie\, PA\, 15106\, United States
CATEGORIES:2022,Past Event
ATTACH;FMTTYPE=image/jpeg:https://carnegiecarnegie.org/wp-content/uploads/2022/07/The.jpg
END:VEVENT
BEGIN:VEVENT
DTSTART;TZID=America/New_York:20220721T190000
DTEND;TZID=America/New_York:20220721T200000
DTSTAMP:20260425T135855
CREATED:20220628T152950Z
LAST-MODIFIED:20220628T152957Z
UID:10000535-1658430000-1658433600@carnegiecarnegie.org
SUMMARY:Health Insurance 101
DESCRIPTION:Join licensed insurance agent Stephanie Sciulli of HealthMarkets Insurance Agency for a guided tour through the complex world of health insurance options! Learn about deductibles\, copays\, and the main types of plans available. We’ll also discuss the federal Health Insurance Marketplace\, as well as resources to help you save on costly medications. \n\n\n\nRegistration is appreciated\, but walk-ins are also welcome. Please click here to register.
URL:https://carnegiecarnegie.org/event/health-insurance-101/
LOCATION:Andrew Carnegie Free Library & Music Hall\, 300 Beechwood Avenue\, Carnegie\, PA\, 15106\, United States
CATEGORIES:2022,Upcoming Event
ATTACH;FMTTYPE=image/jpeg:https://carnegiecarnegie.org/wp-content/uploads/2022/06/Copy-of-101.jpg
END:VEVENT
BEGIN:VEVENT
DTSTART;TZID=America/New_York:20220725T190000
DTEND;TZID=America/New_York:20220725T200000
DTSTAMP:20260425T135855
CREATED:20220628T185346Z
LAST-MODIFIED:20220727T144719Z
UID:10000272-1658775600-1658779200@carnegiecarnegie.org
SUMMARY:Writing Your Life: Memoir Writing with Nicole Spindler
DESCRIPTION:Author Nicole Spindler shares her process and experience writing from personal life events. Come learn about embracing your own lived experiences\, transforming your own stories into novel narratives\, and the publishing process. \n\n\n\nNicole Spindler is the author of “The Reason Why” (2022) and “Beyond Life’s Moments” (2020)\, which uses an unexpected cancer diagnosis and the backdrop of the pandemic as the catalyst for an exploration of life’s challenges\, transformative lessons\, and one’s authenticity. Read more about Nicole and her work here. \n\n\n\nRegistration is appreciated\, although walk-ins are welcome. Please click here to register.
URL:https://carnegiecarnegie.org/event/writing-your-life-memoir-writing-with-nicole-spindler/
LOCATION:Andrew Carnegie Free Library & Music Hall\, 300 Beechwood Avenue\, Carnegie\, PA\, 15106\, United States
CATEGORIES:2022,Past Event
ATTACH;FMTTYPE=image/png:https://carnegiecarnegie.org/wp-content/uploads/2022/06/writing-your.png
END:VEVENT
BEGIN:VEVENT
DTSTART;TZID=America/New_York:20220728T200000
DTEND;TZID=America/New_York:20220728T200000
DTSTAMP:20260425T135855
CREATED:20220525T163059Z
LAST-MODIFIED:20220727T200837Z
UID:10000525-1659038400-1659038400@carnegiecarnegie.org
SUMMARY:Canceled: LA TI DO Cabaret at the Carnegie Carnegie
DESCRIPTION:Due to multiple cases of COVD-19 within the cast of Duets with Don Mike\, unfortunately\, this performance is canceled with an indefinite reschedule date. For more information\, please contact LA TI DO Productions at 412-877-7494LA TI DO is collaborating in a year-long partnership with The Andrew Carnegie Free Library & Music Hall in Carnegie\, PA to present a new quarterly performance series featuring Pittsburgh-themed cabarets with artists and special guests from the city and greater Pittsburgh region. This month features duets with Pittsburgh-raised LA TI DO Co-Founder Don Mike Mendoza and some of the city’s best performers. Direction by Caroline Mahoney and Music Direction by Amy Kapp.
URL:https://carnegiecarnegie.org/event/la-ti-do-cabaret-at-the-carnegie-carnegie-2/
LOCATION:PA
CATEGORIES:2022,2022,Current Event,Upcoming Event
ATTACH;FMTTYPE=image/png:https://carnegiecarnegie.org/wp-content/uploads/2022/07/LTD-July-28.png
END:VEVENT
BEGIN:VEVENT
DTSTART;TZID=America/New_York:20220728T200000
DTEND;TZID=America/New_York:20220728T213000
DTSTAMP:20260425T135855
CREATED:20220720T144320Z
LAST-MODIFIED:20220801T201705Z
UID:10000278-1659038400-1659043800@carnegiecarnegie.org
SUMMARY:Embracing Our Differences field trip: "A View from the Bridge"
DESCRIPTION:Join our Embracing Our Differences discussion group at Carnegie Stage (25 W Main St) for a performance of Arthur Miller’s play A View from the Bridge (1955). This powerful drama weaves a story involving undocumented Italian immigrants during the 1950s\, and this staging seeks to explore and contrast our contemporary immigration experience with that of past generations. \n\n\n\nA discussion led by director J. Cody Spellman will follow the performance. \n\n\n\nTickets are available through Carnegie Stage. (We will be attending the 8 PM performance on Thursday\, July 28.)
URL:https://carnegiecarnegie.org/event/embracing-our-differences-field-trip-a-view-from-the-bridge/
LOCATION:PA
CATEGORIES:2022,Past Event
ATTACH;FMTTYPE=image/jpeg:https://carnegiecarnegie.org/wp-content/uploads/2022/07/EOD-view-from-the-bridge.jpg
END:VEVENT
END:VCALENDAR