BEGIN:VCALENDAR
VERSION:2.0
PRODID:-//Andrew Carnegie Free Library &amp; Music Hall - ECPv6.15.20//NONSGML v1.0//EN
CALSCALE:GREGORIAN
METHOD:PUBLISH
X-ORIGINAL-URL:https://carnegiecarnegie.org
X-WR-CALDESC:Events for Andrew Carnegie Free Library &amp; Music Hall
REFRESH-INTERVAL;VALUE=DURATION:PT1H
X-Robots-Tag:noindex
X-PUBLISHED-TTL:PT1H
BEGIN:VTIMEZONE
TZID:America/New_York
BEGIN:DAYLIGHT
TZOFFSETFROM:-0500
TZOFFSETTO:-0400
TZNAME:EDT
DTSTART:20210314T070000
END:DAYLIGHT
BEGIN:STANDARD
TZOFFSETFROM:-0400
TZOFFSETTO:-0500
TZNAME:EST
DTSTART:20211107T060000
END:STANDARD
BEGIN:DAYLIGHT
TZOFFSETFROM:-0500
TZOFFSETTO:-0400
TZNAME:EDT
DTSTART:20220313T070000
END:DAYLIGHT
BEGIN:STANDARD
TZOFFSETFROM:-0400
TZOFFSETTO:-0500
TZNAME:EST
DTSTART:20221106T060000
END:STANDARD
BEGIN:DAYLIGHT
TZOFFSETFROM:-0500
TZOFFSETTO:-0400
TZNAME:EDT
DTSTART:20230312T070000
END:DAYLIGHT
BEGIN:STANDARD
TZOFFSETFROM:-0400
TZOFFSETTO:-0500
TZNAME:EST
DTSTART:20231105T060000
END:STANDARD
END:VTIMEZONE
BEGIN:VEVENT
DTSTART;TZID=America/New_York:20220205T200000
DTEND;TZID=America/New_York:20220205T200000
DTSTAMP:20260425T221603
CREATED:20211122T042539Z
LAST-MODIFIED:20220127T180508Z
UID:10000473-1644091200-1644091200@carnegiecarnegie.org
SUMMARY:Listen Locally with The Billy Price Band
DESCRIPTION:TICKETS\n\n\n\n\nPittsburgh’s Favorite Blues Man takes the stage at Carnegie Carnegie Hall with The Billy Price Band! With influences such as Otis Clay and James Brown paired with his own distinctive style\, Billy Price has been dubbed among the best in modern Blues.   \n\n\n\nSaturday\, February 5\, 2022Doors open at 7:30 pm || Concert begins at 8:00 pm Masks are required to be worn during this event.  \n\n\n\nTICKETS$20 in Advance || $25 at the Door
URL:https://carnegiecarnegie.org/event/the-billy-price-band/
LOCATION:PA
CATEGORIES:2021,2022,Current Event
ATTACH;FMTTYPE=image/jpeg:https://carnegiecarnegie.org/wp-content/uploads/2021/11/Billy-Price-650x450-1.jpg
END:VEVENT
BEGIN:VEVENT
DTSTART;TZID=America/New_York:20220211T150000
DTEND;TZID=America/New_York:20220211T163000
DTSTAMP:20260425T221603
CREATED:20220203T181215Z
LAST-MODIFIED:20220407T200507Z
UID:10000479-1644591600-1644597000@carnegiecarnegie.org
SUMMARY:Art with Heart - presented by C-ART and Studio Forget Me Not
DESCRIPTION:Celebrate love this February with this special craft program for ages 11+! Led by the artists of Studio Forget Me Not\, we’ll learn to fold the pages in old books into the shape of a heart to create lovely\, unique art works. Embellish your book’s covers with buttons and wallpaper scraps for a truly one-of-a-kind creation that would make a wonderful gift! \n\n\n\nMasks will be required for this in-person event. \n\n\n\nRegistration is required – please click here to register.
URL:https://carnegiecarnegie.org/event/art-with-heart-presented-by-c-art-and-studio-forget-me-not/
LOCATION:Andrew Carnegie Free Library & Music Hall\, 300 Beechwood Avenue\, Carnegie\, PA\, 15106\, United States
CATEGORIES:2022,Past Event
ATTACH;FMTTYPE=image/jpeg:https://carnegiecarnegie.org/wp-content/uploads/2022/02/Art-with-Heart.jpg
END:VEVENT
BEGIN:VEVENT
DTSTART;TZID=America/New_York:20220212T130000
DTEND;TZID=America/New_York:20220212T140000
DTSTAMP:20260425T221603
CREATED:20220111T202733Z
LAST-MODIFIED:20220215T195650Z
UID:10000476-1644670800-1644674400@carnegiecarnegie.org
SUMMARY:2nd Saturday Civil War Series: Copperheads\, Gunners\, and Spies: Ohio Democrats in Mr. Lincoln's War
DESCRIPTION:In Person in the Music Hall at ACFL&MH \n\n\n\nFacebook: www.facebook.com/CarnegieCarnegie No Account Required! \n\n\n\nZoom: https://us02web.zoom.us/j/9370579279 Meeting ID: 937 057 9279 \n\n\n\n\n\n\n\nJourney down the dark backroads of the Civil War with historical novelist Ruth Webster. Enter the political world of the 1864 presidential election. Meet the Copperheads\, the Knights of the Golden Circle\, Clement Vallandigham\, and the War and Peace Democrats—groups which are often merely glanced over in theaverage study of the war. The reality of Southern sentiment alive in Ohio\, Kentucky\, and Indiana\, the tri-state area called home by the author\, is startling and endlessly fascinating. It was a rich repository of plot lines for fiction\, giving new meaning to the phrase “truth is stranger than fiction.” \n\n\n\nFollow three Ohio brothers\, ancestral cousins of the author\, as they navigate their call to duty and their legacy. All three were Ohio Democrats who chose to fight in their Republican President’s war. \n\n\n\n\n\n\n\nRuth Webster was born and raised in Covington\, Kentucky\, a town on the Ohio. The ever flowing river sparked her lifelong interest in the history and development of early America. She is a retired National Board-Certified Teacher\, specializing in social studies and language arts. \n\n\n\nRuth is proud to honor ancestors who served on both sides of the Civil War. She is a member of the Daughters of Union Veterans\, as well as the Morgan’s Men Association\, which recognizes those who served in Confederate General John Hunt Morgan’s command. \n\n\n\nRuth has been published in various print media over many decades\, and currently has four Civil War novels in print. She has been a newspaper columnist\, freelanced for regional and national publications\, and won various literary awards. The most recent was the 2021 award for Best Historical Fiction for “The Ramsey Legacy\,” presented by The Author Zone for Indie and Small Press Publishing. \n\n\n\nRuth is delighted to be speaking for a second time at the Carnegie Carnegie. A docent and transcriber at the Capt. Thomas Espy Post\, Ruth considers it a sacred place and her second home. \n\n\n\n\n\n\n\n2nd Saturday Lectures made possible by the Massey Charitable Trust
URL:https://carnegiecarnegie.org/event/2nd-saturday-civil-war-series-copperheads-gunners-and-spies-ohio-democrats-in-mr-lincolns-war/
LOCATION:Andrew Carnegie Free Library & Music Hall\, 300 Beechwood Avenue\, Carnegie\, PA\, 15106\, United States
CATEGORIES:2022,Past Event
ATTACH;FMTTYPE=image/jpeg:https://carnegiecarnegie.org/wp-content/uploads/2022/01/MetaSlider-Web-Event.jpg
END:VEVENT
BEGIN:VEVENT
DTSTART;TZID=America/New_York:20220221T190000
DTEND;TZID=America/New_York:20220221T190000
DTSTAMP:20260425T221603
CREATED:20211206T211416Z
LAST-MODIFIED:20220211T221854Z
UID:10000219-1645470000-1645470000@carnegiecarnegie.org
SUMMARY:Aaron Copland’s Lincoln Portrait
DESCRIPTION:TICKETS\n\n\n\n\nJoin us Monday\, February 21\, 2022\, for ACFL&MH’s fifth Presidents Day concert featuring Aaron Copland’s beloved symphonic work\, Lincoln Portrait.  \n\n\n\nRenowned mezzo-soprano and Artistic Director of Pittsburgh Festival Opera Marianne Cornetti\, will narrate the Copland piece. James Gourlay\, well known to Pittsburgh audiences as the Music Director of River City Brass Band\, will lead Duquesne’s Wind Symphony.  \n\n\n\nAaron Copland composed Lincoln Portrait in 1942\, during the dark\, frightening years of World War II. The orchestra score incorporates some of Lincoln’s most gripping oratory\, with the narrator speaking over the music.  \n\n\n\nJoin us before the concert for guided tours of a true national treasure The Capt. Thomas Espy Post\, one of the last remaining Grand Army of the Republic Posts left in the country.  \n\n\n\nClick here to listen to Marianne Cornetti and James Gourlay sharing their excitement about the concert with WQED’s (89.3 FM) Jim Cunningham.   \n\n\n\nCovid-19 Protocols: The Andrew Carnegie Free Library & Music Hall requires masks to be worn inside the building by everyone age three and older\, vaccinated or unvaccinated.
URL:https://carnegiecarnegie.org/event/aaron-coplands-lincoln-portrait-4/
LOCATION:PA
CATEGORIES:2021,2022,Current Event,Upcoming Event
ATTACH;FMTTYPE=image/jpeg:https://carnegiecarnegie.org/wp-content/uploads/2021/12/February-21-2022-at-700-PM.jpg
END:VEVENT
BEGIN:VEVENT
DTSTART;TZID=America/New_York:20220224T190000
DTEND;TZID=America/New_York:20220224T200000
DTSTAMP:20260425T221603
CREATED:20220112T174457Z
LAST-MODIFIED:20220407T200415Z
UID:10000477-1645729200-1645732800@carnegiecarnegie.org
SUMMARY:Repair Your Credit with Solomon Rivers!
DESCRIPTION:Your credit score can affect everything from credit cards to car loans to home mortgages – and a low score can hold you back from the things you want in life. But there’s hope – you may not realize all of the things you can do to repair a low credit score. \n\n\n\nLet licensed realtor Solomon Rivers guide you through the world of credit repair\, offering simple concrete steps that anyone can take to improve their credit. Bring your questions!  \n\n\n\nRegistration is required. Please click here to register.
URL:https://carnegiecarnegie.org/event/repair-your-credit-with-solomon-rivers-2/
LOCATION:Andrew Carnegie Free Library & Music Hall\, 300 Beechwood Avenue\, Carnegie\, PA\, 15106\, United States
CATEGORIES:2022,Past Event
ATTACH;FMTTYPE=image/png:https://carnegiecarnegie.org/wp-content/uploads/2022/01/Repair-Your-Credit-1.png
END:VEVENT
BEGIN:VEVENT
DTSTART;TZID=America/New_York:20220226T110000
DTEND;TZID=America/New_York:20220226T120000
DTSTAMP:20260425T221603
CREATED:20220124T225504Z
LAST-MODIFIED:20220407T200403Z
UID:10000478-1645873200-1645876800@carnegiecarnegie.org
SUMMARY:Bats with the Allegheny County Park Rangers
DESCRIPTION:We’re hosting the Allegheny County Park Rangers as they share a program about bats! The rangers will shed light on common myths and legends surrounding bats\, and familiarize us with local bat species. \n\n\n\nLearn about the role that bats play in our night skies\, and try out your bat skills in fun and engaging activities. (No live bats will be present at this program.) \n\n\n\nThis program meets in the Studio\, downstairs. Masks are required for this in-person program. \n\n\n\nPlease click here to register for your spot!
URL:https://carnegiecarnegie.org/event/bats-with-the-allegheny-county-park-rangers/
LOCATION:Andrew Carnegie Free Library & Music Hall\, 300 Beechwood Avenue\, Carnegie\, PA\, 15106\, United States
CATEGORIES:2022,Past Event
ATTACH;FMTTYPE=image/jpeg:https://carnegiecarnegie.org/wp-content/uploads/2022/01/BATS.jpg
END:VEVENT
END:VCALENDAR