BEGIN:VCALENDAR
VERSION:2.0
PRODID:-//Andrew Carnegie Free Library &amp; Music Hall - ECPv6.15.20//NONSGML v1.0//EN
CALSCALE:GREGORIAN
METHOD:PUBLISH
X-ORIGINAL-URL:https://carnegiecarnegie.org
X-WR-CALDESC:Events for Andrew Carnegie Free Library &amp; Music Hall
REFRESH-INTERVAL;VALUE=DURATION:PT1H
X-Robots-Tag:noindex
X-PUBLISHED-TTL:PT1H
BEGIN:VTIMEZONE
TZID:America/New_York
BEGIN:DAYLIGHT
TZOFFSETFROM:-0500
TZOFFSETTO:-0400
TZNAME:EDT
DTSTART:20200308T070000
END:DAYLIGHT
BEGIN:STANDARD
TZOFFSETFROM:-0400
TZOFFSETTO:-0500
TZNAME:EST
DTSTART:20201101T060000
END:STANDARD
BEGIN:DAYLIGHT
TZOFFSETFROM:-0500
TZOFFSETTO:-0400
TZNAME:EDT
DTSTART:20210314T070000
END:DAYLIGHT
BEGIN:STANDARD
TZOFFSETFROM:-0400
TZOFFSETTO:-0500
TZNAME:EST
DTSTART:20211107T060000
END:STANDARD
BEGIN:DAYLIGHT
TZOFFSETFROM:-0500
TZOFFSETTO:-0400
TZNAME:EDT
DTSTART:20220313T070000
END:DAYLIGHT
BEGIN:STANDARD
TZOFFSETFROM:-0400
TZOFFSETTO:-0500
TZNAME:EST
DTSTART:20221106T060000
END:STANDARD
END:VTIMEZONE
BEGIN:VEVENT
DTSTART;TZID=America/New_York:20210727T170000
DTEND;TZID=America/New_York:20210727T180000
DTSTAMP:20260421T192104
CREATED:20210707T153801Z
LAST-MODIFIED:20210928T163434Z
UID:10000421-1627405200-1627408800@carnegiecarnegie.org
SUMMARY:Museum Spotlight: The Heinz History Center
DESCRIPTION:Whether you are a regular visitor or have never been\, there is a lot for you to discover at the Senator John Heinz History Center! Learn about the museum’s rich collection and ongoing exhibits\, including the 7\,000-square-foot exhibit on American Democracy. Following the presentation there will be an opportunity to ask questions and receive personalized recommendations for what to see first! \nDevoted to the history and heritage of Western Pennsylvania\, the History Center is Pennsylvania’s largest history museum and a proud affiliate of the Smithsonian Institution. The 370\,000 square-foot museum presents compelling stories from American history with a Western Pennsylvania connection in an interactive environment perfect for visitors of all ages. \nThis virtual program is part of a series promoting the Experience Kits initiative at select Allegheny & Washington County Libraries\, and is sponsored by the Heinz Center Affiliates Program (HCAP). With your library card\, receive free admission passes for up to four people to several local museums and historical sites. Learn more! \nUpcoming Museum Spotlight Lectures: \n\nTuesday\, August 3\, 5:00 PM: Quecreek Mine Rescue Site\nTuesday\, August 10\, 5:00 PM: Captain William Vicary Mansion and Beaver County Historical Research & Landmarks Foundation\nTuesday\, August 17\, 5:00 PM: The Passavant House and Zelienople Historical Society\nTuesday\, August 24\, 5:00 PM: McKeesport Regional History and Heritage Center\n\nPLUS: If you have children\, join us on Saturday\, July 31 at 10 am for a special virtual storytime! \nRegistration is required. Please click here to register!
URL:https://carnegiecarnegie.org/event/museum-spotlight-the-heinz-history-center/
LOCATION:PA
CATEGORIES:2021,Online,Past Event
ATTACH;FMTTYPE=image/jpeg:https://carnegiecarnegie.org/wp-content/uploads/2021/07/Copy-of-Copy-of-Copy-of-Copy-of-Unnamed-Design1.jpg
END:VEVENT
BEGIN:VEVENT
DTSTART;TZID=America/New_York:20210731T100000
DTEND;TZID=America/New_York:20210731T103000
DTSTAMP:20260421T192104
CREATED:20210707T145125Z
LAST-MODIFIED:20210928T163304Z
UID:10000416-1627725600-1627727400@carnegiecarnegie.org
SUMMARY:Museum Storytime: The Heinz History Center
DESCRIPTION:Enjoy our special virtual storytime in honor of the Heinz History Center! A representative from the museum will read a story that will introduce children to local history in a fun and engaging way. Following the storytime\, kids will be encouraged to participate in an activity based on the story we read! \nDevoted to the history and heritage of Western Pennsylvania\, the History Center is Pennsylvania’s largest history museum and a proud affiliate of the Smithsonian Institution. The 370\,000 square-foot museum presents compelling stories from American history with a Western Pennsylvania connection in an interactive environment perfect for visitors of all ages. \nThis virtual storytime is part of a series promoting the Experience Kits initiative at select Allegheny & Washington County Libraries\, and is sponsored by the Heinz Center Affiliates Program (HCAP). With your library card\, receive free admission passes for up to four people to several local museums and historical sites. Learn more! \nUpcoming Museum Storytimes: \n\nSaturday\, August 7\, 2021: Quecreek Mine Rescue Site\nSaturday\, August 14\, 2021: Captain William Vicary Mansion and Beaver County Historical Research & Landmarks Foundation\nSaturday\, August 21\, 2021: The Passavant House and Zelienople Historical Society\nSaturday\, August 28\, 2021: McKeesport Regional History and Heritage Center\n\nRegistration is required. Please click here to register!
URL:https://carnegiecarnegie.org/event/museum-storytime-the-heinz-history-center/
LOCATION:PA
CATEGORIES:2021,Online,Past Event
ATTACH;FMTTYPE=image/jpeg:https://carnegiecarnegie.org/wp-content/uploads/2021/07/Untitled-design1.jpg
END:VEVENT
END:VCALENDAR