BEGIN:VCALENDAR
VERSION:2.0
PRODID:-//Andrew Carnegie Free Library &amp; Music Hall - ECPv6.15.20//NONSGML v1.0//EN
CALSCALE:GREGORIAN
METHOD:PUBLISH
X-WR-CALNAME:Andrew Carnegie Free Library &amp; Music Hall
X-ORIGINAL-URL:https://carnegiecarnegie.org
X-WR-CALDESC:Events for Andrew Carnegie Free Library &amp; Music Hall
REFRESH-INTERVAL;VALUE=DURATION:PT1H
X-Robots-Tag:noindex
X-PUBLISHED-TTL:PT1H
BEGIN:VTIMEZONE
TZID:America/New_York
BEGIN:DAYLIGHT
TZOFFSETFROM:-0500
TZOFFSETTO:-0400
TZNAME:EDT
DTSTART:20190310T070000
END:DAYLIGHT
BEGIN:STANDARD
TZOFFSETFROM:-0400
TZOFFSETTO:-0500
TZNAME:EST
DTSTART:20191103T060000
END:STANDARD
BEGIN:DAYLIGHT
TZOFFSETFROM:-0500
TZOFFSETTO:-0400
TZNAME:EDT
DTSTART:20200308T070000
END:DAYLIGHT
BEGIN:STANDARD
TZOFFSETFROM:-0400
TZOFFSETTO:-0500
TZNAME:EST
DTSTART:20201101T060000
END:STANDARD
BEGIN:DAYLIGHT
TZOFFSETFROM:-0500
TZOFFSETTO:-0400
TZNAME:EDT
DTSTART:20210314T070000
END:DAYLIGHT
BEGIN:STANDARD
TZOFFSETFROM:-0400
TZOFFSETTO:-0500
TZNAME:EST
DTSTART:20211107T060000
END:STANDARD
BEGIN:DAYLIGHT
TZOFFSETFROM:-0500
TZOFFSETTO:-0400
TZNAME:EDT
DTSTART:20220313T070000
END:DAYLIGHT
BEGIN:STANDARD
TZOFFSETFROM:-0400
TZOFFSETTO:-0500
TZNAME:EST
DTSTART:20221106T060000
END:STANDARD
END:VTIMEZONE
BEGIN:VEVENT
DTSTART;VALUE=DATE:20201201
DTEND;VALUE=DATE:20210701
DTSTAMP:20260422T004635
CREATED:20210219T194016Z
LAST-MODIFIED:20210219T194047Z
UID:10000387-1606780800-1625097599@carnegiecarnegie.org
SUMMARY:Chatham Baroque + Renaissance & Baroque
DESCRIPTION:2020-2021 Video Concert Series \nTICKETS \nOver the coming months\, Chatham Baroque + Renaissance & Baroque will release unique\, beautifully produced videos featuring extraordinary artists with exquisite detail of the performers\, instruments\, and venues. \nThe series begins with Chatham Baroque: The Art of the Trio\, filmed in our very own Carnegie\, Carnegie Music Hall. Experience Baroque music as never before\, with multiple camera angles\, close up shots\, and stunning audio quality\, and for this program\, the beauty and richness of the Music Hall – from the comfort of your living room. \nIn the debut of the Digital Concert Series\, the artistic directors Andrew Fouts (violin)\, Patricia Halverson (viola da gamba)\, and Scott Pauley (theorbo\, archlute\, baroque guitar) have chosen some of their all-time favorite pieces\, including works of Corelli\, Buxtehude\, Farina\, and Bertali. \nCLICK HERE  for tickets to view Chatham Baroque: The Art of the Trio and all concerts in this wonderfully crafted video series. Single tickets\, subscriptions\, and gift certificates available. \nOnce posted\, videos will be available on demand through June 30\, 2021.\nWatch whenever\, and as many times\, as you’d like. Videos are viewable on almost any device\, including your smartphone\, tablet\, laptop\, desktop\, or smart TV. Each program includes artist interviews featuring Classical WQED-FM’s Anna Singer. \nWatch a preview of Chatham Baroque:The Art of the Trio filmed at our very own Carnegie Carnegie Hall.
URL:https://carnegiecarnegie.org/event/chatham-baroque-renaissance-baroque/
LOCATION:PA
CATEGORIES:Current Event,Online,Upcoming Event
ATTACH;FMTTYPE=image/jpeg:https://carnegiecarnegie.org/wp-content/uploads/2020/12/cb_rb.jpg
END:VEVENT
BEGIN:VEVENT
DTSTART;TZID=America/New_York:20210401T190000
DTEND;TZID=America/New_York:20210401T200000
DTSTAMP:20260422T004635
CREATED:20210322T154501Z
LAST-MODIFIED:20210402T185226Z
UID:10000150-1617303600-1617307200@carnegiecarnegie.org
SUMMARY:National Poetry Month: Poetry Writing Workshop
DESCRIPTION:Join the Andrew Carnegie Free Library & Music Hall to celebrate poetry all April long! \nKick off National Poetry Month with a burst of inspiration! Come explore poetry writing in a safe\, supportive space with Season Ciechanowski of Red Brick Poetry. We’ll read some poems together and take a close look at how they work and what we like about them. We’ll also have a chance to write our own poems\, share them with a group of other tweens and teens\, and work together in a constructive\, positive environment to build the strength of our poems. \nThis virtual program will take place on Zoom. After you register\, you will receive a link to the program. \nPlease click here to register. \nSee all of our National Poetry Month events here.
URL:https://carnegiecarnegie.org/event/national-poetry-month-poetry-writing-workshop/
LOCATION:PA
CATEGORIES:2021,Online,Past Event
ATTACH;FMTTYPE=image/jpeg:https://carnegiecarnegie.org/wp-content/uploads/2021/03/Writing-workshop.jpg
END:VEVENT
BEGIN:VEVENT
DTSTART;TZID=America/New_York:20210407T183000
DTEND;TZID=America/New_York:20210407T193000
DTSTAMP:20260422T004635
CREATED:20210320T151606Z
LAST-MODIFIED:20210927T145523Z
UID:10000397-1617820200-1617823800@carnegiecarnegie.org
SUMMARY:Healthy Living for Your Brain & Body: Tips from the latest Research
DESCRIPTION:Science is able to provide insights into how to optimize our physical and cognitive health as we age. Learn about research in the areas of diet and nutrition\, exercise\, cognitive activity and social engagement\, and incorporate these recommendations into a plan for healthy aging. Identify the reasons for taking care of yourself as you age\, and learn strategies to age well in the areas of cognitive activity\, physical health and exercise\, diet and nutrition\, and social engagement. \nThis is a virtual program. When you register to attend\, you will receive a Zoom link for the event. You may also watch live at www.facebook.com/CarnegieCarnegie (no registration or Facebook account are required). \nThis program is part of a three-session series\, including: \n\nHealthy Living for Your Brain & Body\, April 7\, 6:30 PM\n10 Warning Signs of Alzheimer’s\, April 14\, 6:30 PM\nUnderstanding Alzheimer’s & Dementia\, April 21\, 6:30 PM\n\nSponsored by the Alzheimer’s Association Greater Pennsylvania Chapter. \nPlease click here to register.
URL:https://carnegiecarnegie.org/event/healthy-living-for-your-brain-body-tips-from-the-latest-research/
LOCATION:PA
CATEGORIES:2021,Online,Past Event
ATTACH;FMTTYPE=image/jpeg:https://carnegiecarnegie.org/wp-content/uploads/2021/03/Alzheimers-1.jpg
END:VEVENT
BEGIN:VEVENT
DTSTART;TZID=America/New_York:20210408T190000
DTEND;TZID=America/New_York:20210408T200000
DTSTAMP:20260422T004635
CREATED:20210320T160537Z
LAST-MODIFIED:20210413T143946Z
UID:10000149-1617908400-1617912000@carnegiecarnegie.org
SUMMARY:National Poetry Month: A Reading with Poet Fred Shaw
DESCRIPTION:Join the Andrew Carnegie Free Library & Music Hall to celebrate poetry all April long! \nTonight we welcome poet Fred Shaw. A Carnegie native\, Fred Shaw teaches writing and literature at Point Park University and Carlow University. His poem “Scraping Away” was selected for the PA Public Poetry Project in 2017. He will share poems from his 2020 collection Scraping Away. \n“Fred Shaw’s poems hold no punches. They shine with blood and sweat\, and in their honesty and love for the world they depict\, the poems of “Scraping Away” burst from the page like ‘something alive and escaped.'” – Kristofer Collins\, Pittsburgh Post-Gazette \nSave 20% on Scraping Away from CavanKerry Press this month! \nThis virtual program will be held via Zoom. When you register\, you will receive a link to the program. You may also watch live at www.facebook.com/CarnegieCarnegie. \nPlease click here to register. \nSee all of our National Poetry Month events here.
URL:https://carnegiecarnegie.org/event/national-poetry-month-a-reading-with-poet-fred-shaw-c/
LOCATION:PA
CATEGORIES:2021,Online,Past Event
ATTACH;FMTTYPE=image/jpeg:https://carnegiecarnegie.org/wp-content/uploads/2021/03/Fred-Shaw-2.jpg
END:VEVENT
BEGIN:VEVENT
DTSTART;TZID=America/New_York:20210414T183000
DTEND;TZID=America/New_York:20210414T193000
DTSTAMP:20260422T004635
CREATED:20210320T152148Z
LAST-MODIFIED:20210429T213317Z
UID:10000398-1618425000-1618428600@carnegiecarnegie.org
SUMMARY:10 Warning Signs of Alzheimer’s
DESCRIPTION:Alzheimer’s and other dementias cause changes in memory\, thinking and behavior that interfere with daily life. Join us to learn about 10 common warning signs and what to watch for in yourself and others. The program covers typical age-related changes\, common warning signs of Alzheimer’s\, how to approach someone about memory concerns\, early detection\, the benefits of a diagnosis and the diagnostic process\, and Alzheimer’s Association resources. \nThis is a virtual program. When you register to attend\, you will receive a Zoom link for the event. You may also watch live at www.facebook.com/CarnegieCarnegie (no registration or Facebook account are required). \nThis program is part of a three-session series\, including: \n\nHealthy Living for Your Brain & Body\, April 7\, 6:30 PM\n10 Warning Signs of Alzheimer’s\, April 14\, 6:30 PM\nUnderstanding Alzheimer’s & Dementia\, April 21\, 6:30 PM\n\nSponsored by the Alzheimer’s Association Greater Pennsylvania Chapter. \nPlease click here to register.
URL:https://carnegiecarnegie.org/event/10-warning-signs-of-alzheimers/
LOCATION:PA
CATEGORIES:2021,Online,Past Event
ATTACH;FMTTYPE=image/jpeg:https://carnegiecarnegie.org/wp-content/uploads/2021/03/Alzheimers-2.jpg
END:VEVENT
BEGIN:VEVENT
DTSTART;TZID=America/New_York:20210421T183000
DTEND;TZID=America/New_York:20210421T193000
DTSTAMP:20260422T004635
CREATED:20210320T152635Z
LAST-MODIFIED:20210429T213447Z
UID:10000146-1619029800-1619033400@carnegiecarnegie.org
SUMMARY:Understanding Alzheimer’s and Dementia
DESCRIPTION:Alzheimer’s is not normal aging. It’s a disease of the brain that causes problems with memory\, thinking and behavior. Join us to learn about the impact of Alzheimer’s\, the difference between Alzheimer’s and dementia\, Alzheimer’s disease stages and risk factors\, current research and treatments available to address some symptoms\, and Alzheimer’s Association resources \nThis is a virtual program. When you register to attend\, you will receive a Zoom link for the event. You may also watch live at www.facebook.com/CarnegieCarnegie (no registration or Facebook account are required). \nThis program is part of a three-session series\, including: \n\nHealthy Living for Your Brain & Body\, April 7\, 6:30 PM\n10 Warning Signs of Alzheimer’s\, April 14\, 6:30 PM\nUnderstanding Alzheimer’s & Dementia\, April 21\, 6:30 PM\n\nSponsored by the Alzheimer’s Association Greater Pennsylvania Chapter. \nPlease click here to register.
URL:https://carnegiecarnegie.org/event/understanding-alzheimers-and-dementia/
LOCATION:PA
CATEGORIES:2021,Online,Past Event
ATTACH;FMTTYPE=image/jpeg:https://carnegiecarnegie.org/wp-content/uploads/2021/03/Alzheimers-3.jpg
END:VEVENT
BEGIN:VEVENT
DTSTART;TZID=America/New_York:20210422T190000
DTEND;TZID=America/New_York:20210422T200000
DTSTAMP:20260422T004635
CREATED:20210320T154039Z
LAST-MODIFIED:20210927T145440Z
UID:10000148-1619118000-1619121600@carnegiecarnegie.org
SUMMARY:National Poetry Month: A Reading with Poet Laureate Samuel Hazo
DESCRIPTION:Join the Andrew Carnegie Free Library & Music Hall to celebrate poetry all April long! \nTonight we welcome Pennsylvania’s first Poet Laureate\, Samuel Hazo. Named as Poet Laureate by Governor Robert Casey in 1993\, Mr. Hazo served in this esteemed position for ten years. His work scrutinizes themes of family and faith\, mortality and love\, and the passage of time with what poet Naomi Shihab Nye describes as “immense intelligence\, lyricism\, and humanity.” Mr. Hazo will share poems spanning his distinguished six-decade career. \nThis virtual program will be held via Zoom. When you register\, you will receive a link to the program. You may also watch live at www.facebook.com/CarnegieCarnegie. \nPlease click here to register. \nSee all of our National Poetry Month events here.
URL:https://carnegiecarnegie.org/event/national-poetry-month-a-reading-with-poet-laureate-samuel-hazo/
LOCATION:PA
CATEGORIES:2021,Online,Past Event
ATTACH;FMTTYPE=image/jpeg:https://carnegiecarnegie.org/wp-content/uploads/2021/03/Sam-Hazo-2.jpg
END:VEVENT
END:VCALENDAR